{"text_format":"2","workbook":"xlsx","n_sheets":10,"sheets":["11.25","11.25待再次核实","11.26","11.28调整入库","11.26待再次核实","11.27","11.29待再次核实","12.02","12.02待再次确认","12.03"],"not_rendered":{"charts":0,"images":5,"macros":0,"external_links":1,"defined_names":6,"comments":0,"pivot_tables":0},"unopened":[],"bounds":{"document_bytes":16777216,"sheet_cells":100000,"run_cost":"one","rows_first":2000,"rows_last":500,"rows_between":2000,"halvings":0,"cell_chars":16384,"cell_head_chars":4096},"cells_cut":0,"cells_raw":0,"read":"whole","date_system":"1900"}

{"sheet":"11.25","index":0,"n_rows":78,"n_cols":7,"rows_kept":78,"cut":false,"hidden":false,"merged":[]}
["尺组合","条码","发货后发货仓库存清点","ERP库存","差异","最新入库情况","出库情况"]
["直条半蕾丝头套10","STWLFW10",37,31,6]
["直条半蕾丝头套12","STWLFW12",29,27,2]
["直条半蕾丝头套14","STWLFW14",27,26,1]
["直条半蕾丝头套16","STWLFW16",11,11,0]
["直条半蕾丝头套18","STWLFW18",22,25,-3]
["直条半蕾丝头套20","STWLFW20",17,20,-3]
["直条半蕾丝头套22","STWLFW22",23,31,-8,"2019/11/23 89/90批入 9\n2019-11-02 81批入 10",21]
["直条半蕾丝头套24","STWLFW24",15,16,-1]
["直条半蕾丝头套26","STWLFW26",4,4,0]
["直条半蕾丝头套28","STWLFW28",0,0,0]
["直条半蕾丝头套30","STWLFW30",0,0,0]
["BODY半蕾丝头套10","BWLFW10",5,8,-3]
["BODY半蕾丝头套12","BWLFW12",14,14,0]
["BODY半蕾丝头套14","BWLFW14",15,12,3]
["BODY半蕾丝头套16","BWLFW16",19,18,1]
["BODY半蕾丝头套18","BWLFW18",64,65,-1]
["BODY半蕾丝头套20","BWLFW20",44,46,-2]
["BODY半蕾丝头套22","BWLFW22",22,22,0]
["BODY半蕾丝头套24","BWLFW24",9,8,1]
["DEEP半蕾丝头套10","DEEPLFW10",0,4,-4,"2019-11-08 82批入 5\n2019-10-19 76批入 5",4]
["DEEP半蕾丝头套12","DEEPLFW12",1,5,-4,"2019-10-30 79/80批入 5\n2019-10-26 77/78批入 5",4]
["DEEP半蕾丝头套14","DEEPLFW14",14,14,0]
["DEEP半蕾丝头套16","DEEPLFW16",22,23,-1]
["DEEP半蕾丝头套18","DEEPLFW18",1,0,1]
["DEEP半蕾丝头套20","DEEPLFW20",0,0,0]
["DEEP半蕾丝头套22","DEEPLFW22",9,10,-1]
["DEEP半蕾丝头套24","DEEPLFW24",0,0,0]
["DEEP半蕾丝头套26","DEEPLFW26",0,0,0]
["LOOSEDEEP半蕾丝头套10","LSDPLFW10",9,10,-1]
["LOOSEDEEP半蕾丝头套12","LSDPLFW12",8,9,-1]
["LOOSEDEEP半蕾丝头套14","LSDPLFW14",0,1,-1]
["LOOSEDEEP半蕾丝头套16","LSDPLFW16",0,0,0]
["LOOSEDEEP半蕾丝头套18","LSDPLFW18",7,5,2]
["LOOSEDEEP半蕾丝头套20","LSDPLFW20",0,0,0]
["LOOSEDEEP半蕾丝头套22","LSDPLFW22",4,4,0]
["LOOSEDEEP半蕾丝头套24","LSDPLFW24",7,6,1]
["JC半蕾丝头套12","CURLYLFW12",12,11,1]
["JC半蕾丝头套14","CURLYLFW14",22,27,-5]
["JC半蕾丝头套16","CURLYLFW16",11,13,-2]
["JC半蕾丝头套18","CURLYLFW18",20,20,0]
["JC半蕾丝头套20","CURLYLFW20",17,16,1]
["JC半蕾丝头套22","CURLYLFW22",16,16,0]
["JC半蕾丝头套24","CURLYLFW24",9,10,-1]
["JC半蕾丝头套26","CURLYLFW26",0,0,0]
["自然曲半蕾丝头套10","WATERLFW10",10,5,5,"2019-11-14 83/84批入 5",0]
["自然曲半蕾丝头套12","WATERLFW12",8,7,1]
["自然曲半蕾丝头套14","WATERLFW14",8,4,4,"2019-11-20 86/87批入 5\n2019-10-02 71批入 5",5]
["自然曲半蕾丝头套16","WATERLFW16",9,13,-4,"2019-10-29 77/78批入 10\n2019-10-18 美仓盘点差异入 4",0]
["自然曲半蕾丝头套18","WATERLFW18",5,7,-2]
["自然曲半蕾丝头套20","WATERLFW20",0,17,-17,"2019-10-26 77/78批入 5\n2019-10-18 美仓盘点差异入 15\n2019-10-02 71批入 5",12]
["自然曲半蕾丝头套22","WATERLFW22",2,4,-2]
["613BODY半蕾丝头套12","613BWLFW12",0,0,0]
["613BODY半蕾丝头套14","613BWLFW14",13,13,0]
["613BODY半蕾丝头套16","613BWLFW16",11,11,0]
["613BODY半蕾丝头套18","613BWLFW18",12,13,-1]
["613BODY半蕾丝头套20","613BWLFW20",13,13,0]
["613BODY半蕾丝头套22","613BWLFW22",20,20,0]
["613直发半蕾丝头套12","613STWLFW12",4,12,-8,"2019-11-23 89/90批入 5\n2019-10-19 75/75批入 10",11]
["613直发半蕾丝头套14","613STWLFW14",9,12,-3]
["613直发半蕾丝头套16","613STWLFW16",16,12,4]
["613直发半蕾丝头套18","613STWLFW18",19,19,0]
["613直发半蕾丝头套20","613STWLFW20",22,22,0]
["613直条半蕾丝头套22","613STWLFW22",19,19,0]
["99JBODY半蕾丝头套12","99JBWLFW12",9,9,0]
["99JBODY半蕾丝头套14","99JBWLFW14",8,9,-1]
["99JBODY半蕾丝头套16","99JBWLFW16",17,27,-10,"2019-11-16 83/84/85批入 10\n2019-11-08 82批入 10\n2019-10-30 79/80批入 5",3]
["99JBODY半蕾丝头套18","99JBWLFW18",12,23,-11,"2019-11-16 83/84/85批入 10\n2019-11-08 82批入 5\n2019-11-02 81批入 10",12]
["99JBODY半蕾丝头套20","99JBWLFW20",6,16,-10,"2019-11-20 86/87批入 10\n2019-11-16 83/84/85批入 3\n2019-11-15 83/84/85批入 10",7]
["99JBODY半蕾丝头套22","99JBWLFW22",9,18,-9,"2019-11-20 86/87批入 10\n2019-11-15 83/84/85批入 9",1]
["99J直发半蕾丝头套10","99JSTWLFW10",0,0,0]
["99J直发半蕾丝头套12","99JSTWLFW12",0,0,0]
["99J直发半蕾丝头套14","99JSTWLFW14",6,5,1]
["99J直发半蕾丝头套16","99JSTWLFW16",6,6,0]
["99J直条半蕾丝头套18","99JSTWLFW18",7,7,0]
["99J直条半蕾丝头套20","99JSTWLFW20",18,9,9]
["99J直条半蕾丝头套22","99JSTWLFW22",13,3,10,"2019-11-20 86/87批入 10\n2019-11-15 83/84/85批入 8",15]
[{"$nulls":4},{"$f":"SUM(E2:E77)","v":-66}]

{"sheet":"11.25待再次核实","index":1,"n_rows":14,"n_cols":10,"rows_kept":14,"cut":false,"hidden":false,"merged":[]}
["尺组合","条码","发货后发货仓库存清点","ERP库存","差异","最新入库情况","出库情况","11.26日发货后的库存","ERP库存","差异"]
["直条半蕾丝头套22","STWLFW22",23,31,-8,"2019/11/23 89/90批入 9\n2019-11-02 81批入 10",21,14,30,{"$f":"H2-I2","v":-16}]
["DEEP半蕾丝头套10","DEEPLFW10",0,4,-4,"2019-11-08 82批入 5\n2019-10-19 76批入 5",4,0,4,{"$f":"H3-I3","v":-4}]
["DEEP半蕾丝头套12","DEEPLFW12",1,5,-4,"2019-10-30 79/80批入 5\n2019-10-26 77/78批入 5",4,0,4,-4]
["自然曲半蕾丝头套10","WATERLFW10",10,5,5,"2019-11-14 83/84批入 5",0,10,5,5]
["自然曲半蕾丝头套14","WATERLFW14",8,4,4,"2019-11-20 86/87批入 5\n2019-10-02 71批入 5",5,7,4,3]
["自然曲半蕾丝头套16","WATERLFW16",9,13,-4,"2019-10-29 77/78批入 10\n2019-10-18 美仓盘点差异入 4",0,9,13,-4]
["自然曲半蕾丝头套20","WATERLFW20",0,17,-17,"2019-10-26 77/78批入 5\n2019-10-18 美仓盘点差异入 15\n2019-10-02 71批入 5",12,0,17,-17]
["613直发半蕾丝头套12","613STWLFW12",4,12,-8,"2019-11-23 89/90批入 5\n2019-10-19 75/75批入 10",11,10,12,-2]
["99JBODY半蕾丝头套16","99JBWLFW16",17,27,-10,"2019-11-16 83/84/85批入 10\n2019-11-08 82批入 10\n2019-10-30 79/80批入 5",3,27,27,0]
["99JBODY半蕾丝头套18","99JBWLFW18",12,23,-11,"2019-11-16 83/84/85批入 10\n2019-11-08 82批入 5\n2019-11-02 81批入 10",12,22,23,-1]
["99JBODY半蕾丝头套20","99JBWLFW20",6,16,-10,"2019-11-20 86/87批入 10\n2019-11-16 83/84/85批入 3\n2019-11-15 83/84/85批入 10",7,16,16,0]
["99JBODY半蕾丝头套22","99JBWLFW22",9,18,-9,"2019-11-20 86/87批入 10\n2019-11-15 83/84/85批入 9",1,18,17,1]
["99J直条半蕾丝头套22","99JSTWLFW22",13,3,10,"2019-11-20 86/87批入 10\n2019-11-15 83/84/85批入 8",15,3,3,0]

{"sheet":"11.26","index":2,"n_rows":143,"n_cols":6,"rows_kept":143,"cut":false,"hidden":false,"merged":[]}
["尺组合","条码","发货后发货仓库存清点","ERP库存","差异","入库情况"]
["613直发BOB头套8","613STWBOB8",34,32,{"$f":"C2-D2","v":2}]
["613直发BOB头套10","613STWBOB10",223,223,{"$f":"C3-D3","v":0}]
["613直发BOB头套12","613STWBOB12",25,31,-6]
["613直发BOB头套14","613STWBOB14",39,42,-3]
["613直发4*4BOB头套8","613STW4*4BOB8","未清点",184]
["613直发4*4BOB头套10","613STW4*4BOB10","未清点",49]
["99J直发Bob头头套8","99JSTWBOB8",27,27,0]
["99J直发Bob头头套10","99JSTWBOB10",24,23,1]
["99J直发Bob头头套12","99JSTWBOB12",25,24,1]
["99J直发Bob头头套14","99JSTWBOB14",19,20,-1]
["#27直条BOB头8","#27STWBOB8",15,14,1]
["#27直条BOB头10","#27STWBOB10",13,12,1]
["#27直条BOB头12","#27STWBOB12",5,5,0]
["#27直条BOB头14","#27STWBOB14",12,12,0]
["直条Bob头8","STWBOB8",40,31,9]
["直条Bob头10","STWBOB10",81,54,27,"2019-11-23 89/90批入库 40\n2019-11-02 81批入库 20"]
["直条Bob头12","STWBOB12",62,42,20,"2019-11-23 89/90批入库 30\n2019-11-20 86/87批入库 30"]
["直条Bob头14","STWBOB14",31,32,-1]
["BODYBOB头8","BWBOB8",7,7,0]
["BODYBOB头10","BWBOB10",14,10,4]
["BODYBOB头12","BWBOB12",4,6,-2]
["BODYBOB头14","BWBOB14",8,11,-3]
["JCBob头8","JCBOB8",29,26,3]
["JCBob头10","JCBOB10",36,39,-3]
["JCBob头12","JCBOB12",1,1,0]
["JCBob头14","JCBOB14",18,15,3]
["DEEPBOB头8","DEEPBOB8",8,9,-1]
["DEEPBOB头10","DEEPBOB10",38,27,11,"2019-11-23 89/90批入库 20\n2019-11-20 86/87批入库10"]
["DEEPBOB头12","DEEPBOB12",1,0,1]
["DEEPBOB头14","DEEPBOB14",0,0,0]
["自然曲BOB头8","WATERBOB8",9,10,-1]
["自然曲BOB头10","WATERBOB10",13,13,0]
["自然曲BOB头12","WATERBOB12",0,0,0]
["自然曲BOB头14","WATERBOB14",0,0,{"$f":"C35-D35","v":0}]
["齐刘海直条BOB头8","BBSTWBOB8",20,20,0]
["齐刘海直条BOB头10","BBSTWBOB10",17,18,-1]
["齐刘海直条BOB头12","BBSTWBOB12",15,18,-3]
["齐刘海直条BOB头14","BBSTWBOB14",3,16,-13,"8月入5\n9月入4"]
["直条360头套10","STW360WIG10",3,3,0]
["直条360头套12","STW360WIG12",3,3,0]
["直条360头套14","STW360WIG14",5,5,0]
["直条360头套16","STW360WIG16",4,4,0]
["直条360头套18","STW360WIG18",8,8,0]
["直条360头套20","STW360WIG20",10,10,0]
["直条360头套22","STW360WIG22",9,9,0]
["直条360头套24","STW360WIG24",10,10,0]
["BODY360头套10","BW360WIG10",14,14,0]
["BODY360头套12","BW360WIG12",17,18,-1]
["BODY360头套14","BW360WIG14",14,14,0]
["BODY360头套16","BW360WIG16",13,12,1]
["BODY360头套18","BW360WIG18",14,16,-2]
["BODY360头套20","BW360WIG20",2,4,-2]
["BODY360头套22","BW360WIG22",16,19,-3]
["BODY360头套24","BW360WIG24",6,6,0]
["JC360头套16","JC360WIG16","未清点",10]
["JC360头套18","JC360WIG18","未清点",10]
["JC360头套20","JC360WIG20","未清点",10]
["JC360头套22","JC360WIG22","未清点",7]
["JC360头套24","JC360WIG24","未清点",15]
["直条4*4头套12","STW4*4WIG12","未清点",5]
["直条4*4头套14","STW4*4WIG14","未清点",5]
["直条4*4头套16","STW4*4WIG16","未清点",3]
["直条4*4头套18","STW4*4WIG18","未清点",4]
["直条4*4头套20","STW4*4WIG20","未清点",6]
["直条4*4头套22","STW4*4WIG22","未清点",3]
["直条4*4头套24","STW4*4WIG24","未清点",4]
["BODY4*4头套12","BW4*4WIG12",4,2,{"$f":"C68-D68","v":2}]
["BODY4*4头套14","BW4*4WIG14",11,9,2]
["BODY4*4头套16","BW4*4WIG16",7,6,1]
["BODY4*4头套18","BW4*4WIG18",5,3,2]
["BODY4*4头套20","BW4*4WIG20",4,3,1]
["BODY4*4头套22","BW4*4WIG22",5,5,0]
["BODY4*4头套24","BW4*4WIG24",6,6,0]
["DEEP4*4头套12","DEEP4*4WIG12",2,2,0]
["DEEP4*4头套14","DEEP4*4WIG14",4,3,1]
["DEEP4*4头套16","DEEP4*4WIG16",2,1,1]
["DEEP4*4头套18","DEEP4*4WIG18",0,0,0]
["DEEP4*4头套20","DEEP4*4WIG20",7,5,2]
["DEEP4*4头套22","DEEP4*4WIG22",5,6,-1]
["自然曲4*4头套12","WATER4*4WIG12","未清点",1]
["直条6*6头套10","STW6*6LFW10","未清点",7]
["直条6*6头套12","STW6*6LFW12","未清点",6]
["直条6*6头套14","STW6*6LFW14","未清点",11]
["直条6*6头套16","STW6*6LFW16","未清点",7]
["直条6*6头套18","STW6*6LFW18","未清点",24]
["直条6*6头套20","STW6*6LFW20","未清点",7]
["直条6*6头套22","STW6*6LFW22","未清点",5]
["直条6*6头套24","STW6*6LFW24","未清点",6]
["BODY6*6头套12","BW6*6LFW12",7,7,0]
["BODY6*6头套14","BW6*6LFW14",20,19,1]
["BODY6*6头套16","BW6*6LFW16",18,18,0]
["BODY6*6头套18","BW6*6LFW18",1,0,1]
["BODY6*6头套20","BW6*6LFW20",16,15,1]
["BODY6*6头套22","BW6*6LFW22",14,14,0]
["BODY6*6头套24","BW6*6LFW24",4,4,0]
["DEEP6*6头套12","DEEP6*6LFW12",11,11,0]
["DEEP6*6头套14","DEEP6*6LFW14",11,10,1]
["DEEP6*6头套16","DEEP6*6LFW16",23,24,-1]
["DEEP6*6头套18","DEEP6*6LFW18",4,4,0]
["DEEP6*6头套20","DEEP6*6LFW20",7,4,3]
["DEEP6*6头套22","DEEP6*6LFW22",5,4,1]
["DEEP6*6头套24","DEEP6*6LFW24",8,4,4]
["LOOSEDEEP6*6头套14","LSDP6*6LFW14","未清点",0]
["LOOSEDEEP6*6头套16","LSDP6*6LFW16","未清点",4]
["LOOSEDEEP6*6头套18","LSDP6*6LFW18","未清点",0]
["LOOSEDEEP6*6头套20","LSDP6*6LFW20","未清点",0]
["LOOSEDEEP6*6头套22","LSDP6*6LFW22","未清点",5]
["LOOSEDEEP6*6头套24","LSDP6*6LFW24","未清点",0]
["透明蕾丝BODY半蕾丝头套8","TRBWLFW8",1,3,{"$f":"C110-D110","v":-2}]
["透明蕾丝BODY半蕾丝头套10","TRBWLFW10",7,7,0]
["透明蕾丝BODY半蕾丝头套12","TRBWLFW12",11,11,0]
["透明蕾丝BODY半蕾丝头套14","TRBWLFW14",1,2,-1]
["透明蕾丝BODY半蕾丝头套16","TRBWLFW16",12,11,1]
["透明蕾丝BODY半蕾丝头套18","TRBWLFW18",16,16,0]
["透明蕾丝BODY半蕾丝头套20","TRBWLFW20",14,13,1]
["透明蕾丝BODY半蕾丝头套22","TRBWLFW22",14,18,-4]
["透明蕾丝BODY半蕾丝头套24","TRBWLFW24","未清点",0]
["透明蕾丝BODY半蕾丝头套26","TRBWLFW26","未清点",10]
["透明蕾丝JC半蕾丝头套12","TRJCLFW12","未清点",9]
["透明蕾丝JC半蕾丝头套14","TRJCLFW14",5,9,{"$f":"C121-D121","v":-4}]
["透明蕾丝JC半蕾丝头套16","TRJCLFW16","未清点",12]
["透明蕾丝JC半蕾丝头套18","TRJCLFW18","未清点",0]
["透明蕾丝JC半蕾丝头套20","TRJCLFW20","未清点",6]
["透明蕾丝JC半蕾丝头套22","TRJCLFW22","未清点",5]
["透明蕾丝JC半蕾丝头套24","TRJCLFW24","未清点",0]
["透明蕾丝直发半蕾丝头套12","TRSTWLFW12","未清点",1]
["透明蕾丝直发半蕾丝头套14","TRSTWLFW14","未清点",8]
["透明蕾丝直发半蕾丝头套16","TRSTWLFW16","未清点",16]
["透明蕾丝直发半蕾丝头套18","TRSTWLFW18","未清点",21]
["透明蕾丝直发半蕾丝头套20","TRSTWLFW20","未清点",26]
["透明蕾丝直发半蕾丝头套22","TRSTWLFW22","未清点",20]
["透明蕾丝直发半蕾丝头套24","TRSTWLFW24","未清点",6]
["透明蕾丝直发半蕾丝头套26","TRSTWLFW26","未清点",14]
["透明蕾丝直发半蕾丝头套28","TRSTWLFW28","未清点",5]
["透明蕾丝直发半蕾丝头套30","TRSTWLFW30","未清点",8]
["透明蕾丝自然曲半蕾丝头套14","TRWATERLFW14","未清点",0]
["透明蕾丝 自然曲半蕾丝头套16","TRWATERLFW16",10,5,{"$f":"C138-D138","v":5}]
["透明蕾丝 自然曲半蕾丝头套18","TRWATERLFW18","未清点",5]
["透明蕾丝 自然曲半蕾丝头套20","TRWATERLFW20","未清点",0]
["透明蕾丝 自然曲半蕾丝头套22","TRWATERLFW22","未清点",0]
["kinkycurly半蕾丝头套8","KCLFW8",3,3,{"$f":"C142-D142","v":0}]
["kinkycurly半蕾丝头套10","KCLFW10",3,3,{"$f":"C143-D143","v":0}]

{"sheet":"11.28调整入库","index":3,"n_rows":49,"n_cols":7,"rows_kept":49,"cut":false,"hidden":false,"merged":[]}
["尺组合","条码","数量",null,"尺组合","条码","数量"]
["直条半蕾丝头套10","STWLFW10",6,null,"直条半蕾丝头套18","STWLFW18",-3]
["直条半蕾丝头套12","STWLFW12",2,null,"直条半蕾丝头套20","STWLFW20",-3]
["直条半蕾丝头套14","STWLFW14",1,null,"直条半蕾丝头套24","STWLFW24",-1]
["BODY半蕾丝头套14","BWLFW14",3,null,"BODY半蕾丝头套10","BWLFW10",-3]
["BODY半蕾丝头套16","BWLFW16",1,null,"BODY半蕾丝头套18","BWLFW18",-1]
["BODY半蕾丝头套24","BWLFW24",1,null,"BODY半蕾丝头套20","BWLFW20",-2]
["DEEP半蕾丝头套18","DEEPLFW18",1,null,"DEEP半蕾丝头套16","DEEPLFW16",-1]
["LOOSEDEEP半蕾丝头套18","LSDPLFW18",2,null,"DEEP半蕾丝头套22","DEEPLFW22",-1]
["LOOSEDEEP半蕾丝头套24","LSDPLFW24",1,null,"LOOSEDEEP半蕾丝头套10","LSDPLFW10",-1]
["JC半蕾丝头套12","CURLYLFW12",1,null,"LOOSEDEEP半蕾丝头套12","LSDPLFW12",-1]
["JC半蕾丝头套20","CURLYLFW20",1,null,"LOOSEDEEP半蕾丝头套14","LSDPLFW14",-1]
["自然曲半蕾丝头套12","WATERLFW12",1,null,"JC半蕾丝头套14","CURLYLFW14",-5]
["613直发半蕾丝头套16","613STWLFW16",4,null,"JC半蕾丝头套16","CURLYLFW16",-2]
["99J直发半蕾丝头套14","99JSTWLFW14",1,null,"JC半蕾丝头套24","CURLYLFW24",-1]
["99J直条半蕾丝头套20","99JSTWLFW20",9,null,"自然曲半蕾丝头套18","WATERLFW18",-2]
["自然曲半蕾丝头套10","WATERLFW10",5,null,"自然曲半蕾丝头套22","WATERLFW22",-2]
["自然曲半蕾丝头套14","WATERLFW14",3,null,"613BODY半蕾丝头套18","613BWLFW18",-1]
["99JBODY半蕾丝头套22","99JBWLFW22",1,null,"613直发半蕾丝头套14","613STWLFW14",-3]
["613直发BOB头套8","613STWBOB8",2,null,"99JBODY半蕾丝头套14","99JBWLFW14",-1]
["99J直发Bob头头套10","99JSTWBOB10",1,null,"直条半蕾丝头套22","STWLFW22",-16]
["99J直发Bob头头套12","99JSTWBOB12",1,null,"DEEP半蕾丝头套10","DEEPLFW10",-4]
["#27直条BOB头8","#27STWBOB8",1,null,"DEEP半蕾丝头套12","DEEPLFW12",-4]
["#27直条BOB头10","#27STWBOB10",1,null,"自然曲半蕾丝头套16","WATERLFW16",-4]
["直条Bob头8","STWBOB8",9,null,"自然曲半蕾丝头套20","WATERLFW20",-17]
["BODYBOB头10","BWBOB10",4,null,"613直发半蕾丝头套12","613STWLFW12",-2]
["JCBob头8","JCBOB8",3,null,"99JBODY半蕾丝头套18","99JBWLFW18",-1]
["JCBob头14","JCBOB14",3,null,"613直发BOB头套12","613STWBOB12",-6]
["DEEPBOB头12","DEEPBOB12",1,null,"613直发BOB头套14","613STWBOB14",-3]
["BODY360头套16","BW360WIG16",1,null,"99J直发Bob头头套14","99JSTWBOB14",-1]
["BODY4*4头套12","BW4*4WIG12",2,null,"直条Bob头14","STWBOB14",-1]
["BODY4*4头套14","BW4*4WIG14",2,null,"BODYBOB头12","BWBOB12",-2]
["BODY4*4头套16","BW4*4WIG16",1,null,"BODYBOB头14","BWBOB14",-3]
["BODY4*4头套18","BW4*4WIG18",2,null,"JCBob头10","JCBOB10",-3]
["BODY4*4头套20","BW4*4WIG20",1,null,"DEEPBOB头8","DEEPBOB8",-1]
["DEEP4*4头套14","DEEP4*4WIG14",1,null,"自然曲BOB头8","WATERBOB8",-1]
["DEEP4*4头套16","DEEP4*4WIG16",1,null,"齐刘海直条BOB头10","BBSTWBOB10",-1]
["DEEP4*4头套20","DEEP4*4WIG20",2,null,"齐刘海直条BOB头12","BBSTWBOB12",-3]
["BODY6*6头套14","BW6*6LFW14",1,null,"BODY360头套12","BW360WIG12",-1]
["BODY6*6头套18","BW6*6LFW18",1,null,"BODY360头套18","BW360WIG18",-2]
["BODY6*6头套20","BW6*6LFW20",1,null,"BODY360头套20","BW360WIG20",-2]
["DEEP6*6头套14","DEEP6*6LFW14",1,null,"BODY360头套22","BW360WIG22",-3]
["DEEP6*6头套20","DEEP6*6LFW20",3,null,"DEEP4*4头套22","DEEP4*4WIG22",-1]
["DEEP6*6头套22","DEEP6*6LFW22",1,null,"DEEP6*6头套16","DEEP6*6LFW16",-1]
["DEEP6*6头套24","DEEP6*6LFW24",4,null,"透明蕾丝BODY半蕾丝头套8","TRBWLFW8",-2]
["透明蕾丝BODY半蕾丝头套16","TRBWLFW16",1,null,"透明蕾丝BODY半蕾丝头套14","TRBWLFW14",-1]
["透明蕾丝BODY半蕾丝头套20","TRBWLFW20",1,null,"透明蕾丝BODY半蕾丝头套22","TRBWLFW22",-4]
["透明蕾丝 自然曲半蕾丝头套16","TRWATERLFW16",5,null,"透明蕾丝JC半蕾丝头套14","TRJCLFW14",-4]
[null,null,{"$f":"SUM(C2:C48)","v":102},null,null,null,{"$f":"SUM(G2:G48)","v":-129}]

{"sheet":"11.26待再次核实","index":4,"n_rows":5,"n_cols":8,"rows_kept":5,"cut":false,"hidden":false,"merged":[]}
["尺组合","条码","发货后发货仓库存清点","ERP库存","差异","入库情况","11.27日发货后的库存"]
["直条Bob头10","STWBOB10",81,54,27,"2019-11-23 89/90批入库 40\n2019-11-02 81批入库 20",78,"数据包含了之前的PFSTWBOB10"]
["直条Bob头12","STWBOB12",62,42,20,"2019-11-23 89/90批入库 30\n2019-11-20 86/87批入库 30",62,"数据包含了之前的PFSTWBOB12"]
["DEEPBOB头10","DEEPBOB10",38,27,11,"2019-11-23 89/90批入库 20\n2019-11-20 86/87批入库10",36]
["齐刘海直条BOB头14","BBSTWBOB14",3,16,-13,"8月入5\n9月入4",3]

{"sheet":"11.27","index":5,"n_rows":185,"n_cols":6,"rows_kept":185,"cut":false,"hidden":false,"merged":[[1,5,8,7]]}
["尺组合","条码","发货后发货仓库存清点","ERP库存","差异"]
["613直发4*4BOB头套8","613STW4*4BOB8","未清点",null,null,"本页数据并不包括第91批的到货。"]
["613直发4*4BOB头套10","613STW4*4BOB10","未清点"]
["JC360头套16","JC360WIG16",10,10,0]
["JC360头套18","JC360WIG18",11,10,1]
["JC360头套20","JC360WIG20",9,10,-1]
["JC360头套22","JC360WIG22",7,7,0]
["JC360头套24","JC360WIG24",15,15,0]
["直条4*4头套12","STW4*4WIG12",5,5,0]
["直条4*4头套14","STW4*4WIG14",5,5,0]
["直条4*4头套16","STW4*4WIG16",2,3,-1]
["直条4*4头套18","STW4*4WIG18",2,3,-1]
["直条4*4头套20","STW4*4WIG20",6,6,0]
["直条4*4头套22","STW4*4WIG22",3,3,0]
["直条4*4头套24","STW4*4WIG24",4,4,0]
["自然曲4*4头套12","WATER4*4WIG12",1,1,0]
["直条6*6头套10","STW6*6LFW10",7,7,0]
["直条6*6头套12","STW6*6LFW12",6,6,0]
["直条6*6头套14","STW6*6LFW14",10,10,0]
["直条6*6头套16","STW6*6LFW16",10,6,4]
["直条6*6头套18","STW6*6LFW18",24,24,0]
["直条6*6头套20","STW6*6LFW20",7,7,0]
["直条6*6头套22","STW6*6LFW22",2,3,-1]
["直条6*6头套24","STW6*6LFW24",8,6,2]
["LOOSEDEEP6*6头套14","LSDP6*6LFW14",2,0,2]
["LOOSEDEEP6*6头套16","LSDP6*6LFW16",4,4,0]
["LOOSEDEEP6*6头套18","LSDP6*6LFW18",0,0,0]
["LOOSEDEEP6*6头套20","LSDP6*6LFW20",0,0,0]
["LOOSEDEEP6*6头套22","LSDP6*6LFW22",5,5,0]
["LOOSEDEEP6*6头套24","LSDP6*6LFW24",0,0,0]
["透明蕾丝BODY半蕾丝头套24","TRBWLFW24",0,0,0]
["透明蕾丝BODY半蕾丝头套26","TRBWLFW26",9,9,0]
["透明蕾丝JC半蕾丝头套12","TRJCLFW12",9,9,0]
["透明蕾丝JC半蕾丝头套14","TRJCLFW14",9,5,4]
["透明蕾丝JC半蕾丝头套16","TRJCLFW16",11,12,-1]
["透明蕾丝JC半蕾丝头套18","TRJCLFW18",0,0,0]
["透明蕾丝JC半蕾丝头套20","TRJCLFW20",6,6,0]
["透明蕾丝JC半蕾丝头套22","TRJCLFW22",4,4,0]
["透明蕾丝JC半蕾丝头套24","TRJCLFW24",2,0,2]
["透明蕾丝直发半蕾丝头套12","TRSTWLFW12",1,1,0]
["透明蕾丝直发半蕾丝头套14","TRSTWLFW14",8,8,0]
["透明蕾丝直发半蕾丝头套16","TRSTWLFW16",12,16,-4]
["透明蕾丝直发半蕾丝头套18","TRSTWLFW18",21,21,0]
["透明蕾丝直发半蕾丝头套20","TRSTWLFW20",25,26,-1]
["透明蕾丝直发半蕾丝头套22","TRSTWLFW22",20,20,0]
["透明蕾丝直发半蕾丝头套24","TRSTWLFW24",1,5,-4]
["透明蕾丝直发半蕾丝头套26","TRSTWLFW26",23,13,10]
["透明蕾丝直发半蕾丝头套28","TRSTWLFW28",4,4,0]
["透明蕾丝直发半蕾丝头套30","TRSTWLFW30",8,8,0]
["透明蕾丝自然曲半蕾丝头套14","TRWATERLFW14",0,0,0]
["透明蕾丝自然曲半蕾丝头套16","TRWATERLFW16",10,10,0]
["透明蕾丝 自然曲半蕾丝头套18","TRWATERLFW18",0,5,-5]
["透明蕾丝 自然曲半蕾丝头套20","TRWATERLFW20",0,0,0]
["透明蕾丝 自然曲半蕾丝头套22","TRWATERLFW22",0,0,0]
["直发单条8","STW8","未清点"]
["直发单条10","STW10","未清点"]
["直发单条12","STW12","未清点"]
["直发单条14","STW14","未清点"]
["直发单条16","STW16","未清点"]
["直发单条18","STW18","未清点"]
["直发单条20","STW20","未清点"]
["直发单条22","STW22","未清点"]
["直发单条24","STW24","未清点"]
["直发单条26","STW26","未清点"]
["直发单条28","STW28","未清点"]
["直发单条30","STW30","未清点"]
["AliPearl直发单条8","APSTW8","未清点"]
["AliPearl直发单条10","APSTW10","未清点"]
["AliPearl直发单条12","APSTW12","未清点"]
["AliPearl直发单条14","APSTW14","未清点"]
["AliPearl直发单条16","APSTW16","未清点"]
["AliPearl直发单条18","APSTW18","未清点"]
["AliPearl直发单条20","APSTW20","未清点"]
["AliPearl直发单条22","APSTW22","未清点"]
["AliPearl直发单条24","APSTW24","未清点"]
["AliPearl直发单条26","APSTW26","未清点"]
["AliPearl直发单条28","APSTW28","未清点"]
["AliPearl直发单条30","APSTW30","未清点"]
["Westkiss直发单条8","WKSTW8","未清点"]
["Westkiss直发单条10","WKSTW10","未清点"]
["Westkiss直发单条12","WKSTW12","未清点"]
["Westkiss直发单条14","WKSTW14","未清点"]
["Westkiss直发单条16","WKSTW16","未清点"]
["Westkiss直发单条18","WKSTW18","未清点"]
["Westkiss直发单条20","WKSTW20","未清点"]
["Westkiss直发单条22","WKSTW22","未清点"]
["Westkiss直发单条24","WKSTW24","未清点"]
["Westkiss直发单条26","WKSTW26","未清点"]
["Wiggins直发单条8","GGSTW8","未清点"]
["Wiggins直发单条10","GGSTW10","未清点"]
["Wiggins直发单条12","GGSTW12","未清点"]
["Wiggins直发单条14","GGSTW14","未清点"]
["Wiggins直发单条16","GGSTW16","未清点"]
["Wiggins直发单条18","GGSTW18","未清点"]
["Wiggins直发单条20","GGSTW20","未清点"]
["Wiggins直发单条22","GGSTW22","未清点"]
["Wiggins直发单条24","GGSTW24","未清点"]
["Wiggins直发单条26","GGSTW26","未清点"]
["BODY单条8","BODY8","未清点"]
["BODY单条10","BODY10","未清点"]
["BODY单条12","BODY12","未清点"]
["BODY单条14","BODY14","未清点"]
["BODY单条16","BODY16","未清点"]
["BODY单条18","BODY18","未清点"]
["BODY单条20","BODY20","未清点"]
["BODY单条22","BODY22","未清点"]
["BODY单条24","BODY24","未清点"]
["BODY单条26","BODY26","未清点"]
["BODY单条28","BODY28","未清点"]
["BODY单条30","BODY30","未清点"]
["AliPearlbody单条8","APBODY8","未清点"]
["AliPearlbody单条10","APBODY10","未清点"]
["AliPearlbody单条12","APBODY12","未清点"]
["AliPearlbody单条14","APBODY14","未清点"]
["AliPearlbody单条16","APBODY16","未清点"]
["AliPearlbody单条18","APBODY18","未清点"]
["AliPearlbody单条20","APBODY20","未清点"]
["AliPearlbody单条22","APBODY22","未清点"]
["AliPearlbody单条24","APBODY24","未清点"]
["AliPearlbody单条26","APBODY26","未清点"]
["AliPearlbody单条28","APBODY28","未清点"]
["AliPearlbody单条30","APBODY30","未清点"]
["Westkissbody单条8","WKBODY8","未清点"]
["Westkissbody单条10","WKBODY10","未清点"]
["Westkissbody单条12","WKBODY12","未清点"]
["Westkissbody单条14","WKBODY14","未清点"]
["Westkissbody单条16","WKBODY16","未清点"]
["Westkissbody单条18","WKBODY18","未清点"]
["Westkissbody单条20","WKBODY20","未清点"]
["Westkissbody单条22","WKBODY22","未清点"]
["Westkissbody单条24","WKBODY24","未清点"]
["Westkissbody单条26","WKBODY26","未清点"]
["Wigginsbody单条8","GGBODY8","未清点"]
["Wigginsbody单条10","GGBODY10","未清点"]
["Wigginsbody单条12","GGBODY12","未清点"]
["Wigginsbody单条14","GGBODY14","未清点"]
["Wigginsbody单条16","GGBODY16","未清点"]
["Wigginsbody单条18","GGBODY18","未清点"]
["Wigginsbody单条20","GGBODY20","未清点"]
["Wigginsbody单条22","GGBODY22","未清点"]
["Wigginsbody单条24","GGBODY24","未清点"]
["Wigginsbody单条26","GGBODY26","未清点"]
["直条3D-13*6头套12","STW3D13*6WIG12",8,8,0]
["直条3D-13*6头套14","STW3D13*6WIG14",2,1,1]
["直条3D-13*6头套16","STW3D13*6WIG16",7,7,0]
["直条3D-13*6头套18","STW3D13*6WIG18",15,15,0]
["直条3D-13*6头套20","STW3D13*6WIG20",22,12,10]
["直条3D-13*6头套22","STW3D13*6WIG22",10,10,0]
["直条3D-13*6头套24","STW3D13*6WIG24",4,4,0]
["BODY 3D-13*6头套12","BW3D13*6WIG12",9,14,-5]
["BODY 3D-13*6头套14","BW3D13*6WIG14",2,2,0]
["BODY 3D-13*6头套16","BW3D13*6WIG16",19,36,-17]
["BODY 3D-13*6头套18","BW3D13*6WIG18",6,6,0]
["BODY 3D-13*6头套20","BW3D13*6WIG20",6,6,0]
["BODY 3D-13*6头套22","BW3D13*6WIG22",8,8,0]
["BODY 3D-13*6头套24","BW3D13*6WIG24",18,18,0]
["LDW 3D-13*6头套12","LSDP3D13*6WIG12",3,3,0]
["LDW 3D-13*6头套16","LSDP3D13*6WIG16",1,1,0]
["透明DEEP6*6头套16","TRDEEP6*6LFW16",5,5,0]
["透明DEEP6*6头套18","TRDEEP6*6LFW18",4,4,0]
["透明DEEP6*6头套22","TRDEEP6*6LFW22",4,5,-1]
["透明DEEP6*6头套24","TRDEEP6*6LFW24",3,3,0]
["透明BODY6*6头套20","TRBW6*6LFW20",13,14,-1]
["透明直条6*6头套12","TRSTW6*6LFW12",5,null,5]
["透明直条6*6头套20","TRSTW6*6LFW20",31,29,2]
["透明直条6*6头套22","TRSTW6*6LFW22",18,23,-5]
["透明直条6*6头套24","TRSTW6*6LFW24",12,12,0]
["直条360头套10","STW360WIG10",3,3,0]
["直条360头套12","STW360WIG12",3,3,0]
["直条360头套14","STW360WIG14",4,4,0]
["直条360头套16","STW360WIG16",3,4,-1]
["直条360头套18","STW360WIG18",9,8,1]
["直条360头套20","STW360WIG20",9,10,-1]
["直条360头套22","STW360WIG22",9,9,0]
["直条360头套24","STW360WIG24",10,10,0]
["DEEP4*4头套12","DEEP4*4WIG12",2,2,0]
["DEEP4*4头套14","DEEP4*4WIG14",4,4,0]
["DEEP4*4头套16","DEEP4*4WIG16",2,2,0]
["DEEP4*4头套20","DEEP4*4WIG20",6,6,0]
["DEEP4*4头套22","DEEP4*4WIG22",5,5,0]
["DEEP 3D-13*6头套 14","DEEP3D13*6WIG14",5,5,0]
["DEEP 3D-13*6头套 16","DEEP3D13*6WIG16",1,2,-1]
["DEEP 3D-13*6头套 18","DEEP3D13*6WIG18",3,3,0]
["DEEP 3D-13*6头套 20","DEEP3D13*6WIG20",6,6,0]
["DEEP 3D-13*6头套 22","DEEP3D13*6WIG22",6,6,0]

{"sheet":"11.29待再次核实","index":6,"n_rows":11,"n_cols":6,"rows_kept":11,"cut":false,"hidden":false,"merged":[]}
["尺组合","条码","发货后发货仓库存清点","ERP库存","差异","11.29日发货后的库存"]
["直条6*6头套16","STW6*6LFW16",10,6,4,9]
["透明蕾丝JC半蕾丝头套14","TRJCLFW14",9,5,4,9]
["透明蕾丝直发半蕾丝头套16","TRSTWLFW16",12,16,-4,11]
["透明蕾丝直发半蕾丝头套24","TRSTWLFW24",1,5,-4,0]
["透明蕾丝 自然曲半蕾丝头套18","TRWATERLFW18",0,5,-5,5]
["直条3D-13*6头套20","STW3D13*6WIG20",22,12,10,22]
["BODY 3D-13*6头套12","BW3D13*6WIG12",9,14,-5,9]
["BODY 3D-13*6头套16","BW3D13*6WIG16",19,36,-17,36]
["透明直条6*6头套12","TRSTW6*6LFW12",5,null,5,5]
["透明直条6*6头套22","TRSTW6*6LFW22",18,23,-5,18]

{"sheet":"12.02","index":7,"n_rows":725,"n_cols":5,"rows_kept":725,"cut":false,"hidden":false,"merged":[]}
["尺组合","条码","12.02发货后发货仓库存清点","ERP库存","差异"]
["613直发4*4BOB头套8","613STW4*4BOB8",null,{"$f":"VLOOKUP(B:B,[1]库存明细!$D:$H,5,0)","v":262},{"$f":"C2-D2","v":-262}]
["613直发4*4BOB头套10","613STW4*4BOB10",null,{"$f":"VLOOKUP(B:B,[1]库存明细!$D:$H,5,0)","v":36},{"$f":"C3-D3","v":-36}]
["直条4x4发块8","FCSTW8",null,{"$f":"VLOOKUP(B:B,[1]库存明细!$D:$H,5,0)","v":13},-13]
["直条4x4发块10","FCSTW10",null,{"$f":"VLOOKUP(B:B,[1]库存明细!$D:$H,5,0)","v":42},-42]
["直条4x4发块12","FCSTW12",null,{"$f":"VLOOKUP(B:B,[1]库存明细!$D:$H,5,0)","v":18},-18]
["直条4x4发块14","FCSTW14",null,{"$f":"VLOOKUP(B:B,[1]库存明细!$D:$H,5,0)","v":31},-31]
["直条4x4发块16","FCSTW16",null,{"$f":"VLOOKUP(B:B,[1]库存明细!$D:$H,5,0)","v":25},-25]
["直条4x4发块18","FCSTW18",null,{"$f":"VLOOKUP(B:B,[1]库存明细!$D:$H,5,0)","v":23},-23]
["直条4x4发块20","FCSTW20",null,{"$f":"VLOOKUP(B:B,[1]库存明细!$D:$H,5,0)","v":21},-21]
["中分直条4x4发块8","MCSTW8",null,{"$f":"VLOOKUP(B:B,[1]库存明细!$D:$H,5,0)","v":9},-9]
["中分直条4x4发块10","MCSTW10",null,{"$f":"VLOOKUP(B:B,[1]库存明细!$D:$H,5,0)","v":14},-14]
["中分直条4x4发块12","MCSTW12",null,{"$f":"VLOOKUP(B:B,[1]库存明细!$D:$H,5,0)","v":8},-8]
["中分直条4x4发块14","MCSTW14",null,{"$f":"VLOOKUP(B:B,[1]库存明细!$D:$H,5,0)","v":29},-29]
["中分直条4x4发块16","MCSTW16",null,{"$f":"VLOOKUP(B:B,[1]库存明细!$D:$H,5,0)","v":13},-13]
["中分直条4x4发块18","MCSTW18",null,{"$f":"VLOOKUP(B:B,[1]库存明细!$D:$H,5,0)","v":28},-28]
["中分直条4x4发块20","MCSTW20",null,{"$f":"VLOOKUP(B:B,[1]库存明细!$D:$H,5,0)","v":20},-20]
["直条5x5发块10","FC5*5STW10",null,{"$f":"VLOOKUP(B:B,[1]库存明细!$D:$H,5,0)","v":10},-10]
["直条5x5发块12","FC5*5STW12",null,{"$f":"VLOOKUP(B:B,[1]库存明细!$D:$H,5,0)","v":12},-12]
["直条5x5发块14","FC5*5STW14",null,{"$f":"VLOOKUP(B:B,[1]库存明细!$D:$H,5,0)","v":20},-20]
["直条5x5发块16","FC5*5STW16",null,{"$f":"VLOOKUP(B:B,[1]库存明细!$D:$H,5,0)","v":16},-16]
["直条5x5发块18","FC5*5STW18",null,{"$f":"VLOOKUP(B:B,[1]库存明细!$D:$H,5,0)","v":19},-19]
["直条5x5发块20","FC5*5STW20",null,{"$f":"VLOOKUP(B:B,[1]库存明细!$D:$H,5,0)","v":17},-17]
["中分直条5x5发块10","MC5*5STW10",null,{"$f":"VLOOKUP(B:B,[1]库存明细!$D:$H,5,0)","v":7},-7]
["中分直条5x5发块12","MC5*5STW12",null,{"$f":"VLOOKUP(B:B,[1]库存明细!$D:$H,5,0)","v":12},-12]
["中分直条5x5发块14","MC5*5STW14",null,{"$f":"VLOOKUP(B:B,[1]库存明细!$D:$H,5,0)","v":10},-10]
["中分直条5x5发块16","MC5*5STW16",null,{"$f":"VLOOKUP(B:B,[1]库存明细!$D:$H,5,0)","v":12},-12]
["中分直条5x5发块18","MC5*5STW18",null,{"$f":"VLOOKUP(B:B,[1]库存明细!$D:$H,5,0)","v":18},-18]
["中分直条5x5发块20","MC5*5STW20",null,{"$f":"VLOOKUP(B:B,[1]库存明细!$D:$H,5,0)","v":12},-12]
["直条6*6自由分发块12","FC6*6STW12",null,{"$f":"VLOOKUP(B:B,[1]库存明细!$D:$H,5,0)","v":18},-18]
["直条6*6自由分发块14","FC6*6STW14",null,{"$f":"VLOOKUP(B:B,[1]库存明细!$D:$H,5,0)","v":14},-14]
["直条6*6自由分发块16","FC6*6STW16",null,{"$f":"VLOOKUP(B:B,[1]库存明细!$D:$H,5,0)","v":16},-16]
["直条6*6自由分发块18","FC6*6STW18",null,{"$f":"VLOOKUP(B:B,[1]库存明细!$D:$H,5,0)","v":21},-21]
["直条6*6自由分发块20","FC6*6STW20",null,{"$f":"VLOOKUP(B:B,[1]库存明细!$D:$H,5,0)","v":9},-9]
["中分直条6*6发块10","MC6*6STW10",null,{"$f":"VLOOKUP(B:B,[1]库存明细!$D:$H,5,0)","v":5},-5]
["中分直条6*6发块12","MC6*6STW12",null,{"$f":"VLOOKUP(B:B,[1]库存明细!$D:$H,5,0)","v":10},-10]
["中分直条6*6发块14","MC6*6STW14",null,{"$f":"VLOOKUP(B:B,[1]库存明细!$D:$H,5,0)","v":9},-9]
["中分直条6*6发块16","MC6*6STW16",null,{"$f":"VLOOKUP(B:B,[1]库存明细!$D:$H,5,0)","v":11},-11]
["中分直条6*6发块18","MC6*6STW18",null,{"$f":"VLOOKUP(B:B,[1]库存明细!$D:$H,5,0)","v":27},-27]
["中分直条6*6发块20","MC6*6STW20",null,{"$f":"VLOOKUP(B:B,[1]库存明细!$D:$H,5,0)","v":9},-9]
["直发蕾丝前头8","FROSTW8",null,{"$f":"VLOOKUP(B:B,[1]库存明细!$D:$H,5,0)","v":24},-24]
["直发蕾丝前头10","FROSTW10",null,{"$f":"VLOOKUP(B:B,[1]库存明细!$D:$H,5,0)","v":41},-41]
["直发蕾丝前头12","FROSTW12",null,{"$f":"VLOOKUP(B:B,[1]库存明细!$D:$H,5,0)","v":29},-29]
["直发蕾丝前头14","FROSTW14",null,{"$f":"VLOOKUP(B:B,[1]库存明细!$D:$H,5,0)","v":11},-11]
["直发蕾丝前头16","FROSTW16",null,{"$f":"VLOOKUP(B:B,[1]库存明细!$D:$H,5,0)","v":10},-10]
["直发蕾丝前头18","FROSTW18",null,{"$f":"VLOOKUP(B:B,[1]库存明细!$D:$H,5,0)","v":24},-24]
["直发蕾丝前头20","FROSTW20",null,{"$f":"VLOOKUP(B:B,[1]库存明细!$D:$H,5,0)","v":25},-25]
["直条13*6大前头10","FRO13*6STW10",null,{"$f":"VLOOKUP(B:B,[1]库存明细!$D:$H,5,0)","v":12},-12]
["直条13*6大前头12","FRO13*6STW12",null,{"$f":"VLOOKUP(B:B,[1]库存明细!$D:$H,5,0)","v":11},-11]
["直条13*6大前头14","FRO13*6STW14",null,{"$f":"VLOOKUP(B:B,[1]库存明细!$D:$H,5,0)","v":7},-7]
["直条13*6大前头16","FRO13*6STW16",null,{"$f":"VLOOKUP(B:B,[1]库存明细!$D:$H,5,0)","v":6},-6]
["直条13*6大前头18","FRO13*6STW18",null,{"$f":"VLOOKUP(B:B,[1]库存明细!$D:$H,5,0)","v":8},-8]
["直条13*6大前头20","FRO13*6STW20",null,{"$f":"VLOOKUP(B:B,[1]库存明细!$D:$H,5,0)","v":13},-13]
["直发单条8","STW8",null,{"$f":"VLOOKUP(B:B,[1]库存明细!$D:$H,5,0)","v":23},-23]
["直发单条10","STW10",null,{"$f":"VLOOKUP(B:B,[1]库存明细!$D:$H,5,0)","v":38},-38]
["直发单条12","STW12",null,{"$f":"VLOOKUP(B:B,[1]库存明细!$D:$H,5,0)","v":62},-62]
["直发单条14","STW14",null,{"$f":"VLOOKUP(B:B,[1]库存明细!$D:$H,5,0)","v":48},-48]
["直发单条16","STW16",null,{"$f":"VLOOKUP(B:B,[1]库存明细!$D:$H,5,0)","v":59},-59]
["直发单条18","STW18",null,{"$f":"VLOOKUP(B:B,[1]库存明细!$D:$H,5,0)","v":88},-88]
["直发单条20","STW20",null,{"$f":"VLOOKUP(B:B,[1]库存明细!$D:$H,5,0)","v":83},-83]
["直发单条22","STW22",null,{"$f":"VLOOKUP(B:B,[1]库存明细!$D:$H,5,0)","v":77},-77]
["直发单条24","STW24",null,{"$f":"VLOOKUP(B:B,[1]库存明细!$D:$H,5,0)","v":147},-147]
["直发单条26","STW26",null,{"$f":"VLOOKUP(B:B,[1]库存明细!$D:$H,5,0)","v":38},-38]
["直发单条28","STW28",null,{"$f":"VLOOKUP(B:B,[1]库存明细!$D:$H,5,0)","v":35},-35]
["直发单条30","STW30",null,{"$f":"VLOOKUP(B:B,[1]库存明细!$D:$H,5,0)","v":25},-25]
["直条2x6发块10","MC2*6STW10",null,{"$f":"VLOOKUP(B:B,[1]库存明细!$D:$H,5,0)","v":15},-15]
["直条2x6发块12","MC2*6STW12",null,{"$f":"VLOOKUP(B:B,[1]库存明细!$D:$H,5,0)","v":14},{"$f":"C67-D67","v":-14}]
["直条2x6发块14","MC2*6STW14",null,{"$f":"VLOOKUP(B:B,[1]库存明细!$D:$H,5,0)","v":15},-15]
["直条2x6发块16","MC2*6STW16",null,{"$f":"VLOOKUP(B:B,[1]库存明细!$D:$H,5,0)","v":10},-10]
["直条2x6发块18","MC2*6STW18",null,{"$f":"VLOOKUP(B:B,[1]库存明细!$D:$H,5,0)","v":12},-12]
["直条2x6发块20","MC2*6STW20",null,{"$f":"VLOOKUP(B:B,[1]库存明细!$D:$H,5,0)","v":6},-6]
["直条4*4三分发块10","TCSTW10",null,{"$f":"VLOOKUP(B:B,[1]库存明细!$D:$H,5,0)","v":8},-8]
["直条4*4三分发块12","TCSTW12",null,{"$f":"VLOOKUP(B:B,[1]库存明细!$D:$H,5,0)","v":5},-5]
["直条4*4三分发块14","TCSTW14",null,{"$f":"VLOOKUP(B:B,[1]库存明细!$D:$H,5,0)","v":6},-6]
["直条4*4三分发块16","TCSTW16",null,{"$f":"VLOOKUP(B:B,[1]库存明细!$D:$H,5,0)","v":11},-11]
["直条4*4三分发块18","TCSTW18",null,{"$f":"VLOOKUP(B:B,[1]库存明细!$D:$H,5,0)","v":13},-13]
["直条4*4三分发块20","TCSTW20",null,{"$f":"VLOOKUP(B:B,[1]库存明细!$D:$H,5,0)","v":8},-8]
["透明直发蕾丝前头12","TRFROSTW12",null,{"$f":"VLOOKUP(B:B,[1]库存明细!$D:$H,5,0)","v":5},-5]
["透明直发蕾丝前头14","TRFROSTW14",null,{"$f":"VLOOKUP(B:B,[1]库存明细!$D:$H,5,0)","v":28},-28]
["透明直发蕾丝前头16","TRFROSTW16",null,{"$f":"VLOOKUP(B:B,[1]库存明细!$D:$H,5,0)","v":12},-12]
["透明直发蕾丝前头18","TRFROSTW18",null,{"$f":"VLOOKUP(B:B,[1]库存明细!$D:$H,5,0)","v":14},-14]
["透明直发蕾丝前头20","TRFROSTW20",null,{"$f":"VLOOKUP(B:B,[1]库存明细!$D:$H,5,0)","v":30},-30]
["透明直条4x4发块8","TRFCSTW8",null,{"$f":"VLOOKUP(B:B,[1]库存明细!$D:$H,5,0)","v":7},-7]
["透明直条4x4发块10","TRFCSTW10",null,{"$f":"VLOOKUP(B:B,[1]库存明细!$D:$H,5,0)","v":8},-8]
["透明直条4x4发块12","TRFCSTW12",null,{"$f":"VLOOKUP(B:B,[1]库存明细!$D:$H,5,0)","v":13},-13]
["透明直条4x4发块14","TRFCSTW14",null,{"$f":"VLOOKUP(B:B,[1]库存明细!$D:$H,5,0)","v":11},-11]
["透明直条4x4发块16","TRFCSTW16",null,{"$f":"VLOOKUP(B:B,[1]库存明细!$D:$H,5,0)","v":14},-14]
["透明直条4x4发块18","TRFCSTW18",null,{"$f":"VLOOKUP(B:B,[1]库存明细!$D:$H,5,0)","v":27},-27]
["透明直条4x4发块20","TRFCSTW20",null,{"$f":"VLOOKUP(B:B,[1]库存明细!$D:$H,5,0)","v":10},-10]
["BODY4X4发块8","FCBW8",null,{"$f":"VLOOKUP(B:B,[1]库存明细!$D:$H,5,0)","v":15},-15]
["BODY4X4发块10","FCBW10",null,{"$f":"VLOOKUP(B:B,[1]库存明细!$D:$H,5,0)","v":17},-17]
["BODY4X4发块12","FCBW12",null,{"$f":"VLOOKUP(B:B,[1]库存明细!$D:$H,5,0)","v":32},-32]
["BODY4X4发块14","FCBW14",null,{"$f":"VLOOKUP(B:B,[1]库存明细!$D:$H,5,0)","v":28},-28]
["BODY4X4发块16","FCBW16",null,{"$f":"VLOOKUP(B:B,[1]库存明细!$D:$H,5,0)","v":29},-29]
["BODY4X4发块18","FCBW18",null,{"$f":"VLOOKUP(B:B,[1]库存明细!$D:$H,5,0)","v":32},-32]
["BODY4X4发块20","FCBW20",null,{"$f":"VLOOKUP(B:B,[1]库存明细!$D:$H,5,0)","v":16},-16]
["中分BODY4X4发块8","MCBW8",null,{"$f":"VLOOKUP(B:B,[1]库存明细!$D:$H,5,0)","v":14},-14]
["中分BODY4X4发块10","MCBW10",null,{"$f":"VLOOKUP(B:B,[1]库存明细!$D:$H,5,0)","v":28},-28]
["中分BODY4X4发块12","MCBW12",null,{"$f":"VLOOKUP(B:B,[1]库存明细!$D:$H,5,0)","v":10},-10]
["中分BODY4X4发块14","MCBW14",null,{"$f":"VLOOKUP(B:B,[1]库存明细!$D:$H,5,0)","v":25},-25]
["中分BODY4X4发块16","MCBW16",null,{"$f":"VLOOKUP(B:B,[1]库存明细!$D:$H,5,0)","v":15},-15]
["中分BODY4X4发块18","MCBW18",null,{"$f":"VLOOKUP(B:B,[1]库存明细!$D:$H,5,0)","v":13},-13]
["中分BODY4X4发块20","MCBW20",null,{"$f":"VLOOKUP(B:B,[1]库存明细!$D:$H,5,0)","v":18},-18]
["BODY5X5发块10","FC5*5BW10",null,{"$f":"VLOOKUP(B:B,[1]库存明细!$D:$H,5,0)","v":5},-5]
["BODY5X5发块12","FC5*5BW12",null,{"$f":"VLOOKUP(B:B,[1]库存明细!$D:$H,5,0)","v":15},-15]
["BODY5X5发块14","FC5*5BW14",null,{"$f":"VLOOKUP(B:B,[1]库存明细!$D:$H,5,0)","v":15},-15]
["BODY5X5发块16","FC5*5BW16",null,{"$f":"VLOOKUP(B:B,[1]库存明细!$D:$H,5,0)","v":14},-14]
["BODY5X5发块18","FC5*5BW18",null,{"$f":"VLOOKUP(B:B,[1]库存明细!$D:$H,5,0)","v":12},-12]
["BODY5X5发块20","FC5*5BW20",null,{"$f":"VLOOKUP(B:B,[1]库存明细!$D:$H,5,0)","v":15},-15]
["BODY5*5中分发块10","MC5*5BW10",null,{"$f":"VLOOKUP(B:B,[1]库存明细!$D:$H,5,0)","v":7},-7]
["BODY5*5中分发块12","MC5*5BW12",null,{"$f":"VLOOKUP(B:B,[1]库存明细!$D:$H,5,0)","v":8},-8]
["BODY5*5中分发块14","MC5*5BW14",null,{"$f":"VLOOKUP(B:B,[1]库存明细!$D:$H,5,0)","v":11},-11]
["BODY5*5中分发块16","MC5*5BW16",null,{"$f":"VLOOKUP(B:B,[1]库存明细!$D:$H,5,0)","v":9},-9]
["BODY5*5中分发块18","MC5*5BW18",null,{"$f":"VLOOKUP(B:B,[1]库存明细!$D:$H,5,0)","v":14},-14]
["BODY5*5中分发块20","MC5*5BW20",null,{"$f":"VLOOKUP(B:B,[1]库存明细!$D:$H,5,0)","v":6},-6]
["BODY6*6自由分发块10","FC6*6BW10",null,{"$f":"VLOOKUP(B:B,[1]库存明细!$D:$H,5,0)","v":9},-9]
["BODY6*6自由分发块12","FC6*6BW12",null,{"$f":"VLOOKUP(B:B,[1]库存明细!$D:$H,5,0)","v":18},-18]
["BODY6*6自由分发块14","FC6*6BW14",null,{"$f":"VLOOKUP(B:B,[1]库存明细!$D:$H,5,0)","v":13},-13]
["BODY6*6自由分发块16","FC6*6BW16",null,{"$f":"VLOOKUP(B:B,[1]库存明细!$D:$H,5,0)","v":11},-11]
["BODY6*6自由分发块18","FC6*6BW18",null,{"$f":"VLOOKUP(B:B,[1]库存明细!$D:$H,5,0)","v":9},-9]
["BODY6*6自由分发块20","FC6*6BW20",null,{"$f":"VLOOKUP(B:B,[1]库存明细!$D:$H,5,0)","v":11},-11]
["中分BODY6*6发块10","MC6*6BW10",null,{"$f":"VLOOKUP(B:B,[1]库存明细!$D:$H,5,0)","v":5},-5]
["中分BODY6*6发块12","MC6*6BW12",null,{"$f":"VLOOKUP(B:B,[1]库存明细!$D:$H,5,0)","v":5},-5]
["中分BODY6*6发块14","MC6*6BW14",null,{"$f":"VLOOKUP(B:B,[1]库存明细!$D:$H,5,0)","v":7},-7]
["中分BODY6*6发块16","MC6*6BW16",null,{"$f":"VLOOKUP(B:B,[1]库存明细!$D:$H,5,0)","v":12},-12]
["中分BODY6*6发块18","MC6*6BW18",null,{"$f":"VLOOKUP(B:B,[1]库存明细!$D:$H,5,0)","v":8},-8]
["中分BODY6*6发块20","MC6*6BW20",null,{"$f":"VLOOKUP(B:B,[1]库存明细!$D:$H,5,0)","v":14},-14]
["BODY蕾丝前头8","FROBW8",null,{"$f":"VLOOKUP(B:B,[1]库存明细!$D:$H,5,0)","v":9},-9]
["BODY蕾丝前头10","FROBW10",null,{"$f":"VLOOKUP(B:B,[1]库存明细!$D:$H,5,0)","v":39},-39]
["BODY蕾丝前头12","FROBW12",null,{"$f":"VLOOKUP(B:B,[1]库存明细!$D:$H,5,0)","v":20},-20]
["BODY蕾丝前头14","FROBW14",null,{"$f":"VLOOKUP(B:B,[1]库存明细!$D:$H,5,0)","v":27},{"$f":"C131-D131","v":-27}]
["BODY蕾丝前头16","FROBW16",null,{"$f":"VLOOKUP(B:B,[1]库存明细!$D:$H,5,0)","v":23},-23]
["BODY蕾丝前头18","FROBW18",null,{"$f":"VLOOKUP(B:B,[1]库存明细!$D:$H,5,0)","v":24},-24]
["BODY蕾丝前头20","FROBW20",null,{"$f":"VLOOKUP(B:B,[1]库存明细!$D:$H,5,0)","v":26},-26]
["BODY13*6大前头10","FRO13*6BW10",null,{"$f":"VLOOKUP(B:B,[1]库存明细!$D:$H,5,0)","v":8},-8]
["BODY13*6大前头12","FRO13*6BW12",null,{"$f":"VLOOKUP(B:B,[1]库存明细!$D:$H,5,0)","v":6},-6]
["BODY13*6大前头14","FRO13*6BW14",null,{"$f":"VLOOKUP(B:B,[1]库存明细!$D:$H,5,0)","v":9},-9]
["BODY13*6大前头16","FRO13*6BW16",null,{"$f":"VLOOKUP(B:B,[1]库存明细!$D:$H,5,0)","v":9},-9]
["BODY13*6大前头18","FRO13*6BW18",null,{"$f":"VLOOKUP(B:B,[1]库存明细!$D:$H,5,0)","v":11},-11]
["BODY13*6大前头20","FRO13*6BW20",null,{"$f":"VLOOKUP(B:B,[1]库存明细!$D:$H,5,0)","v":9},-9]
["BODY单条8","BODY8",null,{"$f":"VLOOKUP(B:B,[1]库存明细!$D:$H,5,0)","v":40},-40]
["BODY单条10","BODY10",null,{"$f":"VLOOKUP(B:B,[1]库存明细!$D:$H,5,0)","v":46},-46]
["BODY单条12","BODY12",null,{"$f":"VLOOKUP(B:B,[1]库存明细!$D:$H,5,0)","v":165},-165]
["BODY单条14","BODY14",null,{"$f":"VLOOKUP(B:B,[1]库存明细!$D:$H,5,0)","v":100},-100]
["BODY单条16","BODY16",null,{"$f":"VLOOKUP(B:B,[1]库存明细!$D:$H,5,0)","v":61},-61]
["BODY单条18","BODY18",null,{"$f":"VLOOKUP(B:B,[1]库存明细!$D:$H,5,0)","v":106},-106]
["BODY单条20","BODY20",null,{"$f":"VLOOKUP(B:B,[1]库存明细!$D:$H,5,0)","v":125},-125]
["BODY单条22","BODY22",null,{"$f":"VLOOKUP(B:B,[1]库存明细!$D:$H,5,0)","v":80},-80]
["BODY单条24","BODY24",null,{"$f":"VLOOKUP(B:B,[1]库存明细!$D:$H,5,0)","v":98},-98]
["BODY单条26","BODY26",null,{"$f":"VLOOKUP(B:B,[1]库存明细!$D:$H,5,0)","v":47},-47]
["BODY单条28","BODY28",null,{"$f":"VLOOKUP(B:B,[1]库存明细!$D:$H,5,0)","v":12},-12]
["BODY单条30","BODY30",null,{"$f":"VLOOKUP(B:B,[1]库存明细!$D:$H,5,0)","v":16},-16]
["BODY2x6发块10","MC2*6BW10",null,{"$f":"VLOOKUP(B:B,[1]库存明细!$D:$H,5,0)","v":8},-8]
["BODY2x6发块12","MC2*6BW12",null,{"$f":"VLOOKUP(B:B,[1]库存明细!$D:$H,5,0)","v":6},-6]
["BODY2x6发块14","MC2*6BW14",null,{"$f":"VLOOKUP(B:B,[1]库存明细!$D:$H,5,0)","v":4},-4]
["BODY2x6发块16","MC2*6BW16",null,{"$f":"VLOOKUP(B:B,[1]库存明细!$D:$H,5,0)","v":9},-9]
["BODY2x6发块18","MC2*6BW18",null,{"$f":"VLOOKUP(B:B,[1]库存明细!$D:$H,5,0)","v":5},-5]
["BODY2x6发块20","MC2*6BW20",null,{"$f":"VLOOKUP(B:B,[1]库存明细!$D:$H,5,0)","v":14},-14]
["BODY4*4三分发块8","TCBW8",null,{"$f":"VLOOKUP(B:B,[1]库存明细!$D:$H,5,0)","v":4},-4]
["BODY4*4三分发块10","TCBW10",null,{"$f":"VLOOKUP(B:B,[1]库存明细!$D:$H,5,0)","v":10},-10]
["BODY4*4三分发块12","TCBW12",null,{"$f":"VLOOKUP(B:B,[1]库存明细!$D:$H,5,0)","v":9},-9]
["BODY4*4三分发块14","TCBW14",null,{"$f":"VLOOKUP(B:B,[1]库存明细!$D:$H,5,0)","v":8},-8]
["BODY4*4三分发块16","TCBW16",null,{"$f":"VLOOKUP(B:B,[1]库存明细!$D:$H,5,0)","v":19},-19]
["BODY4*4三分发块18","TCBW18",null,{"$f":"VLOOKUP(B:B,[1]库存明细!$D:$H,5,0)","v":10},-10]
["BODY4*4三分发块20","TCBW20",null,{"$f":"VLOOKUP(B:B,[1]库存明细!$D:$H,5,0)","v":5},-5]
["透明BODY4X4发块10","TRFCBW10",null,{"$f":"VLOOKUP(B:B,[1]库存明细!$D:$H,5,0)","v":11},-11]
["透明BODY4X4发块12","TRFCBW12",null,{"$f":"VLOOKUP(B:B,[1]库存明细!$D:$H,5,0)","v":14},-14]
["透明BODY4X4发块14","TRFCBW14",null,{"$f":"VLOOKUP(B:B,[1]库存明细!$D:$H,5,0)","v":8},-8]
["透明BODY4X4发块16","TRFCBW16",null,{"$f":"VLOOKUP(B:B,[1]库存明细!$D:$H,5,0)","v":23},-23]
["透明BODY4X4发块18","TRFCBW18",null,{"$f":"VLOOKUP(B:B,[1]库存明细!$D:$H,5,0)","v":19},-19]
["透明BODY4X4发块20","TRFCBW20",null,{"$f":"VLOOKUP(B:B,[1]库存明细!$D:$H,5,0)","v":10},-10]
["透明蕾丝 BODY5*5发块12","TRFC5*5BW12",null,{"$f":"VLOOKUP(B:B,[1]库存明细!$D:$H,5,0)","v":8},-8]
["透明蕾丝 BODY5*5发块14","TRFC5*5BW14",null,{"$f":"VLOOKUP(B:B,[1]库存明细!$D:$H,5,0)","v":9},-9]
["透明蕾丝 BODY5*5发块16","TRFC5*5BW16",null,{"$f":"VLOOKUP(B:B,[1]库存明细!$D:$H,5,0)","v":12},-12]
["透明蕾丝 BODY5*5发块18","TRFC5*5BW18",null,{"$f":"VLOOKUP(B:B,[1]库存明细!$D:$H,5,0)","v":10},-10]
["透明蕾丝 BODY5*5发块20","TRFC5*5BW20",null,{"$f":"VLOOKUP(B:B,[1]库存明细!$D:$H,5,0)","v":7},-7]
["透明BODY蕾丝前头10","TRFROBW10",null,{"$f":"VLOOKUP(B:B,[1]库存明细!$D:$H,5,0)","v":8},-8]
["透明BODY蕾丝前头12","TRFROBW12",null,{"$f":"VLOOKUP(B:B,[1]库存明细!$D:$H,5,0)","v":6},-6]
["透明BODY蕾丝前头14","TRFROBW14",null,{"$f":"VLOOKUP(B:B,[1]库存明细!$D:$H,5,0)","v":17},-17]
["透明BODY蕾丝前头16","TRFROBW16",null,{"$f":"VLOOKUP(B:B,[1]库存明细!$D:$H,5,0)","v":13},-13]
["透明BODY蕾丝前头18","TRFROBW18",null,{"$f":"VLOOKUP(B:B,[1]库存明细!$D:$H,5,0)","v":9},-9]
["透明BODY蕾丝前头20","TRFROBW20",null,{"$f":"VLOOKUP(B:B,[1]库存明细!$D:$H,5,0)","v":9},-9]
["DEEP4*4发块10","FCDEEP10",null,{"$f":"VLOOKUP(B:B,[1]库存明细!$D:$H,5,0)","v":13},-13]
["DEEP4*4发块12","FCDEEP12",null,{"$f":"VLOOKUP(B:B,[1]库存明细!$D:$H,5,0)","v":26},-26]
["DEEP4*4发块14","FCDEEP14",null,{"$f":"VLOOKUP(B:B,[1]库存明细!$D:$H,5,0)","v":27},-27]
["DEEP4*4发块16","FCDEEP16",null,{"$f":"VLOOKUP(B:B,[1]库存明细!$D:$H,5,0)","v":22},-22]
["DEEP4*4发块18","FCDEEP18",null,{"$f":"VLOOKUP(B:B,[1]库存明细!$D:$H,5,0)","v":28},-28]
["DEEP4*4发块20","FCDEEP20",null,{"$f":"VLOOKUP(B:B,[1]库存明细!$D:$H,5,0)","v":14},-14]
["DEEP中分发块10","MCDEEP10",null,{"$f":"VLOOKUP(B:B,[1]库存明细!$D:$H,5,0)","v":10},-10]
["DEEP中分发块12","MCDEEP12",null,{"$f":"VLOOKUP(B:B,[1]库存明细!$D:$H,5,0)","v":10},-10]
["DEEP中分发块14","MCDEEP14",null,{"$f":"VLOOKUP(B:B,[1]库存明细!$D:$H,5,0)","v":23},-23]
["DEEP中分发块16","MCDEEP16",null,{"$f":"VLOOKUP(B:B,[1]库存明细!$D:$H,5,0)","v":8},-8]
["DEEP中分发块18","MCDEEP18",null,{"$f":"VLOOKUP(B:B,[1]库存明细!$D:$H,5,0)","v":16},-16]
["DEEP中分发块20","MCDEEP20",null,{"$f":"VLOOKUP(B:B,[1]库存明细!$D:$H,5,0)","v":14},-14]
["DEEP三分发块10","TCDEEP10",null,{"$f":"VLOOKUP(B:B,[1]库存明细!$D:$H,5,0)","v":7},{"$f":"C195-D195","v":-7}]
["DEEP三分发块12","TCDEEP12",null,{"$f":"VLOOKUP(B:B,[1]库存明细!$D:$H,5,0)","v":12},-12]
["DEEP三分发块14","TCDEEP14",null,{"$f":"VLOOKUP(B:B,[1]库存明细!$D:$H,5,0)","v":7},-7]
["DEEP三分发块16","TCDEEP16",null,{"$f":"VLOOKUP(B:B,[1]库存明细!$D:$H,5,0)","v":9},-9]
["DEEP三分发块18","TCDEEP18",null,{"$f":"VLOOKUP(B:B,[1]库存明细!$D:$H,5,0)","v":11},-11]
["DEEP三分发块20","TCDEEP20",null,{"$f":"VLOOKUP(B:B,[1]库存明细!$D:$H,5,0)","v":9},-9]
["DEEP5x5发块10","FC5*5DEEP10",null,{"$f":"VLOOKUP(B:B,[1]库存明细!$D:$H,5,0)","v":5},-5]
["DEEP5x5发块12","FC5*5DEEP12",null,{"$f":"VLOOKUP(B:B,[1]库存明细!$D:$H,5,0)","v":10},-10]
["DEEP5x5发块14","FC5*5DEEP14",null,{"$f":"VLOOKUP(B:B,[1]库存明细!$D:$H,5,0)","v":9},-9]
["DEEP5x5发块16","FC5*5DEEP16",null,{"$f":"VLOOKUP(B:B,[1]库存明细!$D:$H,5,0)","v":12},-12]
["DEEP5x5发块18","FC5*5DEEP18",null,{"$f":"VLOOKUP(B:B,[1]库存明细!$D:$H,5,0)","v":9},-9]
["DEEP5x5发块20","FC5*5DEEP20",null,{"$f":"VLOOKUP(B:B,[1]库存明细!$D:$H,5,0)","v":8},-8]
["DEEP6*6发块10","FC6*6DEEP10",null,{"$f":"VLOOKUP(B:B,[1]库存明细!$D:$H,5,0)","v":12},-12]
["DEEP6*6发块12","FC6*6DEEP12",null,{"$f":"VLOOKUP(B:B,[1]库存明细!$D:$H,5,0)","v":11},-11]
["DEEP6*6发块14","FC6*6DEEP14",null,{"$f":"VLOOKUP(B:B,[1]库存明细!$D:$H,5,0)","v":5},-5]
["DEEP6*6发块16","FC6*6DEEP16",null,{"$f":"VLOOKUP(B:B,[1]库存明细!$D:$H,5,0)","v":14},-14]
["DEEP6*6发块18","FC6*6DEEP18",null,{"$f":"VLOOKUP(B:B,[1]库存明细!$D:$H,5,0)","v":12},-12]
["DEEP6*6发块20","FC6*6DEEP20",null,{"$f":"VLOOKUP(B:B,[1]库存明细!$D:$H,5,0)","v":18},-18]
["中分DEEP6*6发块10","MC6*6DEEP10",null,{"$f":"VLOOKUP(B:B,[1]库存明细!$D:$H,5,0)","v":5},-5]
["中分DEEP6*6发块12","MC6*6DEEP12",null,{"$f":"VLOOKUP(B:B,[1]库存明细!$D:$H,5,0)","v":4},-4]
["中分DEEP6*6发块14","MC6*6DEEP14",null,{"$f":"VLOOKUP(B:B,[1]库存明细!$D:$H,5,0)","v":5},-5]
["中分DEEP6*6发块16","MC6*6DEEP16",null,{"$f":"VLOOKUP(B:B,[1]库存明细!$D:$H,5,0)","v":12},-12]
["中分DEEP6*6发块18","MC6*6DEEP18",null,{"$f":"VLOOKUP(B:B,[1]库存明细!$D:$H,5,0)","v":8},-8]
["中分DEEP6*6发块20","MC6*6DEEP20",null,{"$f":"VLOOKUP(B:B,[1]库存明细!$D:$H,5,0)","v":5},-5]
["DEEP13*4前头8","FRODEEP8",null,{"$f":"VLOOKUP(B:B,[1]库存明细!$D:$H,5,0)","v":4},-4]
["DEEP13*4前头10","FRODEEP10",null,{"$f":"VLOOKUP(B:B,[1]库存明细!$D:$H,5,0)","v":15},-15]
["DEEP13*4前头12","FRODEEP12",null,{"$f":"VLOOKUP(B:B,[1]库存明细!$D:$H,5,0)","v":13},-13]
["DEEP13*4前头14","FRODEEP14",null,{"$f":"VLOOKUP(B:B,[1]库存明细!$D:$H,5,0)","v":16},-16]
["DEEP13*4前头16","FRODEEP16",null,{"$f":"VLOOKUP(B:B,[1]库存明细!$D:$H,5,0)","v":1},-1]
["DEEP13*4前头18","FRODEEP18",null,{"$f":"VLOOKUP(B:B,[1]库存明细!$D:$H,5,0)","v":22},-22]
["DEEP13*4前头20","FRODEEP20",null,{"$f":"VLOOKUP(B:B,[1]库存明细!$D:$H,5,0)","v":23},-23]
["DEEP单条8","DEEP8",null,{"$f":"VLOOKUP(B:B,[1]库存明细!$D:$H,5,0)","v":15},-15]
["DEEP单条10","DEEP10",null,{"$f":"VLOOKUP(B:B,[1]库存明细!$D:$H,5,0)","v":66},-66]
["DEEP单条12","DEEP12",null,{"$f":"VLOOKUP(B:B,[1]库存明细!$D:$H,5,0)","v":26},-26]
["DEEP单条14","DEEP14",null,{"$f":"VLOOKUP(B:B,[1]库存明细!$D:$H,5,0)","v":32},-32]
["DEEP单条16","DEEP16",null,{"$f":"VLOOKUP(B:B,[1]库存明细!$D:$H,5,0)","v":29},-29]
["DEEP单条18","DEEP18",null,{"$f":"VLOOKUP(B:B,[1]库存明细!$D:$H,5,0)","v":52},-52]
["DEEP单条20","DEEP20",null,{"$f":"VLOOKUP(B:B,[1]库存明细!$D:$H,5,0)","v":84},-84]
["DEEP单条22","DEEP22",null,{"$f":"VLOOKUP(B:B,[1]库存明细!$D:$H,5,0)","v":54},-54]
["DEEP单条24","DEEP24",null,{"$f":"VLOOKUP(B:B,[1]库存明细!$D:$H,5,0)","v":39},-39]
["DEEP单条26","DEEP26",null,{"$f":"VLOOKUP(B:B,[1]库存明细!$D:$H,5,0)","v":45},-45]
["DEEP单条28","DEEP28",null,{"$f":"VLOOKUP(B:B,[1]库存明细!$D:$H,5,0)","v":16},-16]
["DEEP单条30","DEEP30",null,{"$f":"VLOOKUP(B:B,[1]库存明细!$D:$H,5,0)","v":13},-13]
["LOOSEDEEP4*4发块10","FCLSDP10",null,{"$f":"VLOOKUP(B:B,[1]库存明细!$D:$H,5,0)","v":12},-12]
["LOOSEDEEP4*4发块12","FCLSDP12",null,{"$f":"VLOOKUP(B:B,[1]库存明细!$D:$H,5,0)","v":11},-11]
["LOOSEDEEP4*4发块14","FCLSDP14",null,{"$f":"VLOOKUP(B:B,[1]库存明细!$D:$H,5,0)","v":11},-11]
["LOOSEDEEP4*4发块16","FCLSDP16",null,{"$f":"VLOOKUP(B:B,[1]库存明细!$D:$H,5,0)","v":14},-14]
["LOOSEDEEP4*4发块18","FCLSDP18",null,{"$f":"VLOOKUP(B:B,[1]库存明细!$D:$H,5,0)","v":8},-8]
["LOOSEDEEP4*4发块20","FCLSDP20",null,{"$f":"VLOOKUP(B:B,[1]库存明细!$D:$H,5,0)","v":16},-16]
["LOOSEDEEP中分发块10","MCLSDP10",null,{"$f":"VLOOKUP(B:B,[1]库存明细!$D:$H,5,0)","v":13},-13]
["LOOSEDEEP中分发块12","MCLSDP12",null,{"$f":"VLOOKUP(B:B,[1]库存明细!$D:$H,5,0)","v":7},-7]
["LOOSEDEEP中分发块14","MCLSDP14",null,{"$f":"VLOOKUP(B:B,[1]库存明细!$D:$H,5,0)","v":12},-12]
["LOOSEDEEP中分发块16","MCLSDP16",null,{"$f":"VLOOKUP(B:B,[1]库存明细!$D:$H,5,0)","v":12},-12]
["LOOSEDEEP中分发块18","MCLSDP18",null,{"$f":"VLOOKUP(B:B,[1]库存明细!$D:$H,5,0)","v":7},-7]
["LOOSEDEEP中分发块20","MCLSDP20",null,{"$f":"VLOOKUP(B:B,[1]库存明细!$D:$H,5,0)","v":10},-10]
["LOOSEDEEP5x5发块10","FC5*5LSDP10",null,{"$f":"VLOOKUP(B:B,[1]库存明细!$D:$H,5,0)","v":6},-6]
["LOOSEDEEP5x5发块12","FC5*5LSDP12",null,{"$f":"VLOOKUP(B:B,[1]库存明细!$D:$H,5,0)","v":9},-9]
["LOOSEDEEP5x5发块14","FC5*5LSDP14",null,{"$f":"VLOOKUP(B:B,[1]库存明细!$D:$H,5,0)","v":7},-7]
["LOOSEDEEP5x5发块16","FC5*5LSDP16",null,{"$f":"VLOOKUP(B:B,[1]库存明细!$D:$H,5,0)","v":7},-7]
["LOOSEDEEP5x5发块18","FC5*5LSDP18",null,{"$f":"VLOOKUP(B:B,[1]库存明细!$D:$H,5,0)","v":11},-11]
["LOOSEDEEP5x5发块20","FC5*5LSDP20",null,{"$f":"VLOOKUP(B:B,[1]库存明细!$D:$H,5,0)","v":8},-8]
["LooseDeep6*6自由分发块12","FC6*6LSDP12",null,{"$f":"VLOOKUP(B:B,[1]库存明细!$D:$H,5,0)","v":3},-3]
["LOOSEDEEP6*6发块14","FC6*6LSDP14",null,{"$f":"VLOOKUP(B:B,[1]库存明细!$D:$H,5,0)","v":11},-11]
["LOOSEDEEP6*6发块16","FC6*6LSDP16",null,{"$f":"VLOOKUP(B:B,[1]库存明细!$D:$H,5,0)","v":22},-22]
["LOOSEDEEP6*6发块18","FC6*6LSDP18",null,{"$f":"VLOOKUP(B:B,[1]库存明细!$D:$H,5,0)","v":16},{"$f":"C259-D259","v":-16}]
["LOOSEDEEP6*6发块20","FC6*6LSDP20",null,{"$f":"VLOOKUP(B:B,[1]库存明细!$D:$H,5,0)","v":2},-2]
["LOOSEDEEP13*4前头10","FROLSDP10",null,{"$f":"VLOOKUP(B:B,[1]库存明细!$D:$H,5,0)","v":26},-26]
["LOOSEDEEP13*4前头12","FROLSDP12",null,{"$f":"VLOOKUP(B:B,[1]库存明细!$D:$H,5,0)","v":19},-19]
["LOOSEDEEP13*4前头14","FROLSDP14",null,{"$f":"VLOOKUP(B:B,[1]库存明细!$D:$H,5,0)","v":21},-21]
["LOOSEDEEP13*4前头16","FROLSDP16",null,{"$f":"VLOOKUP(B:B,[1]库存明细!$D:$H,5,0)","v":14},-14]
["LOOSEDEEP13*4前头18","FROLSDP18",null,{"$f":"VLOOKUP(B:B,[1]库存明细!$D:$H,5,0)","v":14},-14]
["LOOSEDEEP13*4前头20","FROLSDP20",null,{"$f":"VLOOKUP(B:B,[1]库存明细!$D:$H,5,0)","v":7},-7]
["LOOSEDEEP单条8","LOOSEDEEP8",null,{"$f":"VLOOKUP(B:B,[1]库存明细!$D:$H,5,0)","v":0},0]
["LOOSEDEEP单条10","LOOSEDEEP10",null,{"$f":"VLOOKUP(B:B,[1]库存明细!$D:$H,5,0)","v":39},-39]
["LOOSEDEEP单条12","LOOSEDEEP12",null,{"$f":"VLOOKUP(B:B,[1]库存明细!$D:$H,5,0)","v":10},-10]
["LOOSEDEEP单条14","LOOSEDEEP14",null,{"$f":"VLOOKUP(B:B,[1]库存明细!$D:$H,5,0)","v":14},-14]
["LOOSEDEEP单条16","LOOSEDEEP16",null,{"$f":"VLOOKUP(B:B,[1]库存明细!$D:$H,5,0)","v":36},-36]
["LOOSEDEEP单条18","LOOSEDEEP18",null,{"$f":"VLOOKUP(B:B,[1]库存明细!$D:$H,5,0)","v":32},-32]
["LOOSEDEEP单条20","LOOSEDEEP20",null,{"$f":"VLOOKUP(B:B,[1]库存明细!$D:$H,5,0)","v":28},-28]
["LOOSEDEEP单条22","LOOSEDEEP22",null,{"$f":"VLOOKUP(B:B,[1]库存明细!$D:$H,5,0)","v":25},-25]
["LOOSEDEEP单条24","LOOSEDEEP24",null,{"$f":"VLOOKUP(B:B,[1]库存明细!$D:$H,5,0)","v":15},-15]
["LOOSEDEEP单条26","LOOSEDEEP26",null,{"$f":"VLOOKUP(B:B,[1]库存明细!$D:$H,5,0)","v":7},-7]
["LOOSEDEEP单条28","LOOSEDEEP28",null,{"$f":"VLOOKUP(B:B,[1]库存明细!$D:$H,5,0)","v":10},-10]
["LOOSEDEEP单条30","LOOSEDEEP30",null,{"$f":"VLOOKUP(B:B,[1]库存明细!$D:$H,5,0)","v":12},-12]
["JC单条8","CURLY8",12,{"$f":"VLOOKUP(B:B,[1]库存明细!$D:$H,5,0)","v":14},-2]
["JC单条10","CURLY10",9,{"$f":"VLOOKUP(B:B,[1]库存明细!$D:$H,5,0)","v":11},-2]
["JC单条12","CURLY12",18,{"$f":"VLOOKUP(B:B,[1]库存明细!$D:$H,5,0)","v":19},-1]
["JC单条14","CURLY14",10,{"$f":"VLOOKUP(B:B,[1]库存明细!$D:$H,5,0)","v":16},-6]
["JC单条16","CURLY16",41,{"$f":"VLOOKUP(B:B,[1]库存明细!$D:$H,5,0)","v":37},4]
["JC单条18","CURLY18",48,{"$f":"VLOOKUP(B:B,[1]库存明细!$D:$H,5,0)","v":25},23]
["JC单条20","CURLY20",15,{"$f":"VLOOKUP(B:B,[1]库存明细!$D:$H,5,0)","v":12},3]
["JC单条22","CURLY22",14,{"$f":"VLOOKUP(B:B,[1]库存明细!$D:$H,5,0)","v":17},-3]
["JC单条24","CURLY24",14,{"$f":"VLOOKUP(B:B,[1]库存明细!$D:$H,5,0)","v":12},2]
["JC单条26","CURLY26",10,{"$f":"VLOOKUP(B:B,[1]库存明细!$D:$H,5,0)","v":13},-3]
["JC单条28","CURLY28",22,{"$f":"VLOOKUP(B:B,[1]库存明细!$D:$H,5,0)","v":12},10]
["JC单条30","CURLY30",0,{"$f":"VLOOKUP(B:B,[1]库存明细!$D:$H,5,0)","v":0},0]
["JC13*4前头8","FROJC8",9,{"$f":"VLOOKUP(B:B,[1]库存明细!$D:$H,5,0)","v":9},0]
["JC13*4前头10","FROJC10",10,{"$f":"VLOOKUP(B:B,[1]库存明细!$D:$H,5,0)","v":11},-1]
["JC13*4前头12","FROJC12",30,{"$f":"VLOOKUP(B:B,[1]库存明细!$D:$H,5,0)","v":32},-2]
["JC13*4前头14","FROJC14",6,{"$f":"VLOOKUP(B:B,[1]库存明细!$D:$H,5,0)","v":12},-6]
["JC13*4前头16","FROJC16",4,{"$f":"VLOOKUP(B:B,[1]库存明细!$D:$H,5,0)","v":10},-6]
["JC13*4前头18","FROJC18",6,{"$f":"VLOOKUP(B:B,[1]库存明细!$D:$H,5,0)","v":8},-2]
["JC13*4前头20","FROJC20",11,{"$f":"VLOOKUP(B:B,[1]库存明细!$D:$H,5,0)","v":8},3]
["JC4*4发块8","FCJC8",5,{"$f":"VLOOKUP(B:B,[1]库存明细!$D:$H,5,0)","v":5},0]
["JC4*4发块10","FCJC10",9,{"$f":"VLOOKUP(B:B,[1]库存明细!$D:$H,5,0)","v":10},-1]
["JC4*4发块12","FCJC12",13,{"$f":"VLOOKUP(B:B,[1]库存明细!$D:$H,5,0)","v":15},-2]
["JC4*4发块14","FCJC14",9,{"$f":"VLOOKUP(B:B,[1]库存明细!$D:$H,5,0)","v":11},-2]
["JC4*4发块16","FCJC16",14,{"$f":"VLOOKUP(B:B,[1]库存明细!$D:$H,5,0)","v":16},-2]
["JC4*4发块18","FCJC18",9,{"$f":"VLOOKUP(B:B,[1]库存明细!$D:$H,5,0)","v":11},-2]
["JC4*4发块20","FCJC20",5,{"$f":"VLOOKUP(B:B,[1]库存明细!$D:$H,5,0)","v":6},-1]
["中分JC4*4发块10","MCJC10",10,{"$f":"VLOOKUP(B:B,[1]库存明细!$D:$H,5,0)","v":10},0]
["中分JC4*4发块12","MCJC12",1,{"$f":"VLOOKUP(B:B,[1]库存明细!$D:$H,5,0)","v":5},-4]
["中分JC4*4发块14","MCJC14",9,{"$f":"VLOOKUP(B:B,[1]库存明细!$D:$H,5,0)","v":9},0]
["中分JC4*4发块16","MCJC16",10,{"$f":"VLOOKUP(B:B,[1]库存明细!$D:$H,5,0)","v":10},0]
["中分JC4*4发块18","MCJC18",4,{"$f":"VLOOKUP(B:B,[1]库存明细!$D:$H,5,0)","v":4},0]
["中分JC4*4发块20","MCJC20",4,{"$f":"VLOOKUP(B:B,[1]库存明细!$D:$H,5,0)","v":6},-2]
["YAKI单条10","YAKI10",null,{"$f":"VLOOKUP(B:B,[1]库存明细!$D:$H,5,0)","v":11},-11]
["YAKI单条12","YAKI12",null,{"$f":"VLOOKUP(B:B,[1]库存明细!$D:$H,5,0)","v":28},-28]
["YAKI单条14","YAKI14",null,{"$f":"VLOOKUP(B:B,[1]库存明细!$D:$H,5,0)","v":16},-16]
["YAKI单条16","YAKI16",null,{"$f":"VLOOKUP(B:B,[1]库存明细!$D:$H,5,0)","v":36},-36]
["YAKI单条18","YAKI18",null,{"$f":"VLOOKUP(B:B,[1]库存明细!$D:$H,5,0)","v":35},-35]
["YAKI单条20","YAKI20",null,{"$f":"VLOOKUP(B:B,[1]库存明细!$D:$H,5,0)","v":21},-21]
["YAKI单条22","YAKI22",null,{"$f":"VLOOKUP(B:B,[1]库存明细!$D:$H,5,0)","v":17},-17]
["YAKI单条24","YAKI24",null,{"$f":"VLOOKUP(B:B,[1]库存明细!$D:$H,5,0)","v":14},-14]
["YAKI单条26","YAKI26",null,{"$f":"VLOOKUP(B:B,[1]库存明细!$D:$H,5,0)","v":14},-14]
["YAKI单条28","YAKI28",null,{"$f":"VLOOKUP(B:B,[1]库存明细!$D:$H,5,0)","v":15},-15]
["YAKI单条30","YAKI30",null,{"$f":"VLOOKUP(B:B,[1]库存明细!$D:$H,5,0)","v":17},-17]
["YAKI4*4发块10","FCYAKI10",null,{"$f":"VLOOKUP(B:B,[1]库存明细!$D:$H,5,0)","v":4},-4]
["YAKI4*4发块12","FCYAKI12",null,{"$f":"VLOOKUP(B:B,[1]库存明细!$D:$H,5,0)","v":13},{"$f":"C323-D323","v":-13}]
["YAKI4*4发块14","FCYAKI14",null,{"$f":"VLOOKUP(B:B,[1]库存明细!$D:$H,5,0)","v":8},-8]
["YAKI4*4发块16","FCYAKI16",null,{"$f":"VLOOKUP(B:B,[1]库存明细!$D:$H,5,0)","v":10},-10]
["YAKI4*4发块18","FCYAKI18",null,{"$f":"VLOOKUP(B:B,[1]库存明细!$D:$H,5,0)","v":5},-5]
["YAKI4*4发块20","FCYAKI20",null,{"$f":"VLOOKUP(B:B,[1]库存明细!$D:$H,5,0)","v":8},-8]
["YAKI13*4前头10","FROYAKI10",null,{"$f":"VLOOKUP(B:B,[1]库存明细!$D:$H,5,0)","v":8},-8]
["YAKI13*4前头12","FROYAKI12",null,{"$f":"VLOOKUP(B:B,[1]库存明细!$D:$H,5,0)","v":7},-7]
["YAKI13*4前头14","FROYAKI14",null,{"$f":"VLOOKUP(B:B,[1]库存明细!$D:$H,5,0)","v":14},-14]
["YAKI13*4前头16","FROYAKI16",null,{"$f":"VLOOKUP(B:B,[1]库存明细!$D:$H,5,0)","v":10},-10]
["YAKI13*4前头18","FROYAKI18",null,{"$f":"VLOOKUP(B:B,[1]库存明细!$D:$H,5,0)","v":8},-8]
["YAKI13*4前头20","FROYAKI20",null,{"$f":"VLOOKUP(B:B,[1]库存明细!$D:$H,5,0)","v":9},-9]
["自然曲单条8","WATER8",null,{"$f":"VLOOKUP(B:B,[1]库存明细!$D:$H,5,0)","v":40},-40]
["自然曲单条10","WATER10",null,{"$f":"VLOOKUP(B:B,[1]库存明细!$D:$H,5,0)","v":7},-7]
["自然曲单条12","WATER12",null,{"$f":"VLOOKUP(B:B,[1]库存明细!$D:$H,5,0)","v":16},-16]
["自然曲单条14","WATER14",null,{"$f":"VLOOKUP(B:B,[1]库存明细!$D:$H,5,0)","v":24},-24]
["自然曲单条16","WATER16",null,{"$f":"VLOOKUP(B:B,[1]库存明细!$D:$H,5,0)","v":43},-43]
["自然曲单条18","WATER18",null,{"$f":"VLOOKUP(B:B,[1]库存明细!$D:$H,5,0)","v":22},-22]
["自然曲单条20","WATER20",null,{"$f":"VLOOKUP(B:B,[1]库存明细!$D:$H,5,0)","v":29},-29]
["自然曲单条22","WATER22",null,{"$f":"VLOOKUP(B:B,[1]库存明细!$D:$H,5,0)","v":18},-18]
["自然曲单条24","WATER24",null,{"$f":"VLOOKUP(B:B,[1]库存明细!$D:$H,5,0)","v":14},-14]
["自然曲单条26","WATER26",null,{"$f":"VLOOKUP(B:B,[1]库存明细!$D:$H,5,0)","v":17},-17]
["自然曲单条28","WATER28",null,{"$f":"VLOOKUP(B:B,[1]库存明细!$D:$H,5,0)","v":13},-13]
["自然曲4*4发块8","FCWATER8",null,{"$f":"VLOOKUP(B:B,[1]库存明细!$D:$H,5,0)","v":8},-8]
["自然曲4*4发块10","FCWATER10",null,{"$f":"VLOOKUP(B:B,[1]库存明细!$D:$H,5,0)","v":17},-17]
["自然曲4*4发块12","FCWATER12",null,{"$f":"VLOOKUP(B:B,[1]库存明细!$D:$H,5,0)","v":15},-15]
["自然曲4*4发块14","FCWATER14",null,{"$f":"VLOOKUP(B:B,[1]库存明细!$D:$H,5,0)","v":11},-11]
["自然曲4*4发块16","FCWATER16",null,{"$f":"VLOOKUP(B:B,[1]库存明细!$D:$H,5,0)","v":9},-9]
["自然曲4*4发块18","FCWATER18",null,{"$f":"VLOOKUP(B:B,[1]库存明细!$D:$H,5,0)","v":11},-11]
["自然曲4*4发块20","FCWATER20",null,{"$f":"VLOOKUP(B:B,[1]库存明细!$D:$H,5,0)","v":18},-18]
["中分自然曲4*4发块10","MCWATER10",null,{"$f":"VLOOKUP(B:B,[1]库存明细!$D:$H,5,0)","v":9},-9]
["中分自然曲4*4发块12","MCWATER12",null,{"$f":"VLOOKUP(B:B,[1]库存明细!$D:$H,5,0)","v":6},-6]
["中分自然曲4*4发块14","MCWATER14",null,{"$f":"VLOOKUP(B:B,[1]库存明细!$D:$H,5,0)","v":8},-8]
["中分自然曲4*4发块16","MCWATER16",null,{"$f":"VLOOKUP(B:B,[1]库存明细!$D:$H,5,0)","v":15},-15]
["中分自然曲4*4发块18","MCWATER18",null,{"$f":"VLOOKUP(B:B,[1]库存明细!$D:$H,5,0)","v":6},-6]
["中分自然曲4*4发块20","MCWATER20",null,{"$f":"VLOOKUP(B:B,[1]库存明细!$D:$H,5,0)","v":6},-6]
["自然曲4*4三分发块10","TCWATER10",null,{"$f":"VLOOKUP(B:B,[1]库存明细!$D:$H,5,0)","v":11},-11]
["自然曲4*4三分发块12","TCWATER12",null,{"$f":"VLOOKUP(B:B,[1]库存明细!$D:$H,5,0)","v":9},-9]
["自然曲4*4三分发块14","TCWATER14",null,{"$f":"VLOOKUP(B:B,[1]库存明细!$D:$H,5,0)","v":7},-7]
["自然曲4*4三分发块16","TCWATER16",null,{"$f":"VLOOKUP(B:B,[1]库存明细!$D:$H,5,0)","v":8},-8]
["自然曲4*4三分发块18","TCWATER18",null,{"$f":"VLOOKUP(B:B,[1]库存明细!$D:$H,5,0)","v":4},-4]
["自然曲4*4三分发块20","TCWATER20",null,{"$f":"VLOOKUP(B:B,[1]库存明细!$D:$H,5,0)","v":9},-9]
["自然曲6*6发块10","FC6*6WATER10",null,{"$f":"VLOOKUP(B:B,[1]库存明细!$D:$H,5,0)","v":3},-3]
["自然曲6*6发块12","FC6*6WATER12",null,{"$f":"VLOOKUP(B:B,[1]库存明细!$D:$H,5,0)","v":5},-5]
["自然曲6*6发块14","FC6*6WATER14",null,{"$f":"VLOOKUP(B:B,[1]库存明细!$D:$H,5,0)","v":5},-5]
["自然曲6*6发块16","FC6*6WATER16",null,{"$f":"VLOOKUP(B:B,[1]库存明细!$D:$H,5,0)","v":7},-7]
["自然曲6*6发块18","FC6*6WATER18",null,{"$f":"VLOOKUP(B:B,[1]库存明细!$D:$H,5,0)","v":9},-9]
["自然曲6*6发块20","FC6*6WATER20",null,{"$f":"VLOOKUP(B:B,[1]库存明细!$D:$H,5,0)","v":2},-2]
["自然曲13*4前头8","FROWATER8",null,{"$f":"VLOOKUP(B:B,[1]库存明细!$D:$H,5,0)","v":12},-12]
["自然曲13*4前头10","FROWATER10",null,{"$f":"VLOOKUP(B:B,[1]库存明细!$D:$H,5,0)","v":9},-9]
["自然曲13*4前头12","FROWATER12",null,{"$f":"VLOOKUP(B:B,[1]库存明细!$D:$H,5,0)","v":22},-22]
["自然曲13*4前头14","FROWATER14",null,{"$f":"VLOOKUP(B:B,[1]库存明细!$D:$H,5,0)","v":14},-14]
["自然曲13*4前头16","FROWATER16",null,{"$f":"VLOOKUP(B:B,[1]库存明细!$D:$H,5,0)","v":8},-8]
["自然曲13*4前头18","FROWATER18",null,{"$f":"VLOOKUP(B:B,[1]库存明细!$D:$H,5,0)","v":6},-6]
["自然曲13*4前头20","FROWATER20",null,{"$f":"VLOOKUP(B:B,[1]库存明细!$D:$H,5,0)","v":17},-17]
["透明蕾丝 自然曲蕾丝前头12","TRFROWATER12",null,{"$f":"VLOOKUP(B:B,[1]库存明细!$D:$H,5,0)","v":3},-3]
["透明蕾丝 自然曲 蕾丝前头14","TRFROWATER14",null,{"$f":"VLOOKUP(B:B,[1]库存明细!$D:$H,5,0)","v":4},-4]
["透明蕾丝 自然曲 蕾丝前头16","TRFROWATER16",null,{"$f":"VLOOKUP(B:B,[1]库存明细!$D:$H,5,0)","v":4},-4]
["透明蕾丝 自然曲 蕾丝前头18","TRFROWATER18",null,{"$f":"VLOOKUP(B:B,[1]库存明细!$D:$H,5,0)","v":0},0]
["透明蕾丝 自然曲 蕾丝前头20","TRFROWATER20",null,{"$f":"VLOOKUP(B:B,[1]库存明细!$D:$H,5,0)","v":0},0]
["老loose发条10","LOOSE10",null,{"$f":"VLOOKUP(B:B,[1]库存明细!$D:$H,5,0)","v":10},-10]
["老loose发条12","LOOSE12",null,{"$f":"VLOOKUP(B:B,[1]库存明细!$D:$H,5,0)","v":31},-31]
["老loose发条14","LOOSE14",null,{"$f":"VLOOKUP(B:B,[1]库存明细!$D:$H,5,0)","v":22},-22]
["老loose发条16","LOOSE16",null,{"$f":"VLOOKUP(B:B,[1]库存明细!$D:$H,5,0)","v":34},-34]
["老loose发条18","LOOSE18",null,{"$f":"VLOOKUP(B:B,[1]库存明细!$D:$H,5,0)","v":55},-55]
["老loose发条20","LOOSE20",null,{"$f":"VLOOKUP(B:B,[1]库存明细!$D:$H,5,0)","v":41},{"$f":"C387-D387","v":-41}]
["老loose发条22","LOOSE22",null,{"$f":"VLOOKUP(B:B,[1]库存明细!$D:$H,5,0)","v":32},-32]
["老loose发条24","LOOSE24",null,{"$f":"VLOOKUP(B:B,[1]库存明细!$D:$H,5,0)","v":13},-13]
["老loose发条26","LOOSE26",null,{"$f":"VLOOKUP(B:B,[1]库存明细!$D:$H,5,0)","v":16},-16]
["老loose发条28","LOOSE28",null,{"$f":"VLOOKUP(B:B,[1]库存明细!$D:$H,5,0)","v":10},-10]
["老loose自由分发块10","FCLW10",null,{"$f":"VLOOKUP(B:B,[1]库存明细!$D:$H,5,0)","v":10},-10]
["老loose自由分发块12","FCLW12",null,{"$f":"VLOOKUP(B:B,[1]库存明细!$D:$H,5,0)","v":11},-11]
["老loose自由分发块14","FCLW14",null,{"$f":"VLOOKUP(B:B,[1]库存明细!$D:$H,5,0)","v":17},-17]
["老loose自由分发块16","FCLW16",null,{"$f":"VLOOKUP(B:B,[1]库存明细!$D:$H,5,0)","v":16},-16]
["老loose自由分发块18","FCLW18",null,{"$f":"VLOOKUP(B:B,[1]库存明细!$D:$H,5,0)","v":16},-16]
["老loose自由分发块20","FCLW20",null,{"$f":"VLOOKUP(B:B,[1]库存明细!$D:$H,5,0)","v":7},-7]
["老loose中分发块10","MCLW10",null,{"$f":"VLOOKUP(B:B,[1]库存明细!$D:$H,5,0)","v":6},-6]
["老loose中分发块12","MCLW12",null,{"$f":"VLOOKUP(B:B,[1]库存明细!$D:$H,5,0)","v":5},-5]
["老loose中分发块14","MCLW14",null,{"$f":"VLOOKUP(B:B,[1]库存明细!$D:$H,5,0)","v":8},-8]
["老loose中分发块16","MCLW16",null,{"$f":"VLOOKUP(B:B,[1]库存明细!$D:$H,5,0)","v":11},-11]
["老loose中分发块18","MCLW18",null,{"$f":"VLOOKUP(B:B,[1]库存明细!$D:$H,5,0)","v":13},-13]
["老loose中分发块20","MCLW20",null,{"$f":"VLOOKUP(B:B,[1]库存明细!$D:$H,5,0)","v":6},-6]
["老loose蕾丝前头10","FROLW10",null,{"$f":"VLOOKUP(B:B,[1]库存明细!$D:$H,5,0)","v":9},-9]
["老loose蕾丝前头12","FROLW12",null,{"$f":"VLOOKUP(B:B,[1]库存明细!$D:$H,5,0)","v":15},-15]
["老loose蕾丝前头14","FROLW14",null,{"$f":"VLOOKUP(B:B,[1]库存明细!$D:$H,5,0)","v":10},-10]
["老loose蕾丝前头16","FROLW16",null,{"$f":"VLOOKUP(B:B,[1]库存明细!$D:$H,5,0)","v":14},-14]
["老loose蕾丝前头18","FROLW18",null,{"$f":"VLOOKUP(B:B,[1]库存明细!$D:$H,5,0)","v":15},-15]
["老loose蕾丝前头20","FROLW20",null,{"$f":"VLOOKUP(B:B,[1]库存明细!$D:$H,5,0)","v":11},-11]
["kinkycurly单条10","KCURLY10",null,{"$f":"VLOOKUP(B:B,[1]库存明细!$D:$H,5,0)","v":2},-2]
["kinkycurly单条12","KCURLY12",null,{"$f":"VLOOKUP(B:B,[1]库存明细!$D:$H,5,0)","v":1},-1]
["kinkycurly单条14","KCURLY14",null,{"$f":"VLOOKUP(B:B,[1]库存明细!$D:$H,5,0)","v":4},-4]
["kinkycurly单条16","KCURLY16",null,{"$f":"VLOOKUP(B:B,[1]库存明细!$D:$H,5,0)","v":19},-19]
["kinkycurly单条18","KCURLY18",null,{"$f":"VLOOKUP(B:B,[1]库存明细!$D:$H,5,0)","v":16},-16]
["kinkycurly单条20","KCURLY20",null,{"$f":"VLOOKUP(B:B,[1]库存明细!$D:$H,5,0)","v":24},-24]
["kinkycurly单条22","KCURLY22",null,{"$f":"VLOOKUP(B:B,[1]库存明细!$D:$H,5,0)","v":27},-27]
["kinkycurly单条24","KCURLY24",null,{"$f":"VLOOKUP(B:B,[1]库存明细!$D:$H,5,0)","v":11},-11]
["kinkycurly单条26","KCURLY26",null,{"$f":"VLOOKUP(B:B,[1]库存明细!$D:$H,5,0)","v":16},-16]
["kinkycurly单条28","KCURLY28",null,{"$f":"VLOOKUP(B:B,[1]库存明细!$D:$H,5,0)","v":15},-15]
["kinkycurly单条30","KCURLY30",null,{"$f":"VLOOKUP(B:B,[1]库存明细!$D:$H,5,0)","v":17},-17]
["kinkycurly4*4发块10","FCKC10",null,{"$f":"VLOOKUP(B:B,[1]库存明细!$D:$H,5,0)","v":5},-5]
["kinkycurly4*4发块12","FCKC12",null,{"$f":"VLOOKUP(B:B,[1]库存明细!$D:$H,5,0)","v":4},-4]
["kinkycurly4*4发块14","FCKC14",null,{"$f":"VLOOKUP(B:B,[1]库存明细!$D:$H,5,0)","v":7},-7]
["kinkycurly4*4发块16","FCKC16",null,{"$f":"VLOOKUP(B:B,[1]库存明细!$D:$H,5,0)","v":6},-6]
["kinkycurly4*4发块18","FCKC18",null,{"$f":"VLOOKUP(B:B,[1]库存明细!$D:$H,5,0)","v":7},-7]
["kinkycurly4*4发块20","FCKC20",null,{"$f":"VLOOKUP(B:B,[1]库存明细!$D:$H,5,0)","v":6},-6]
["kinkycurly13*4前头10","FROKC10",null,{"$f":"VLOOKUP(B:B,[1]库存明细!$D:$H,5,0)","v":7},-7]
["kinkycurly13*4前头12","FROKC12",null,{"$f":"VLOOKUP(B:B,[1]库存明细!$D:$H,5,0)","v":6},-6]
["kinkycurly13*4前头14","FROKC14",null,{"$f":"VLOOKUP(B:B,[1]库存明细!$D:$H,5,0)","v":5},-5]
["kinkycurly13*4前头16","FROKC16",null,{"$f":"VLOOKUP(B:B,[1]库存明细!$D:$H,5,0)","v":4},-4]
["kinkycurly13*4前头18","FROKC18",null,{"$f":"VLOOKUP(B:B,[1]库存明细!$D:$H,5,0)","v":6},-6]
["kinkycurly13*4前头20","FROKC20",null,{"$f":"VLOOKUP(B:B,[1]库存明细!$D:$H,5,0)","v":6},-6]
["613BODY发条8","613BW8",32,{"$f":"VLOOKUP(B:B,[1]库存明细!$D:$H,5,0)","v":35},-3]
["613BODY发条10","613BW10",8,{"$f":"VLOOKUP(B:B,[1]库存明细!$D:$H,5,0)","v":10},-2]
["613BODY发条12","613BW12",32,{"$f":"VLOOKUP(B:B,[1]库存明细!$D:$H,5,0)","v":32},0]
["613BODY发条14","613BW14",40,{"$f":"VLOOKUP(B:B,[1]库存明细!$D:$H,5,0)","v":41},-1]
["613BODY发条16","613BW16",36,{"$f":"VLOOKUP(B:B,[1]库存明细!$D:$H,5,0)","v":36},0]
["613BODY发条18","613BW18",39,{"$f":"VLOOKUP(B:B,[1]库存明细!$D:$H,5,0)","v":33},6]
["613BODY发条20","613BW20",35,{"$f":"VLOOKUP(B:B,[1]库存明细!$D:$H,5,0)","v":41},-6]
["613BODY发条22","613BW22",24,{"$f":"VLOOKUP(B:B,[1]库存明细!$D:$H,5,0)","v":23},1]
["613BODY发条24","613BW24",5,{"$f":"VLOOKUP(B:B,[1]库存明细!$D:$H,5,0)","v":13},-8]
["613BODY发条26","613BW26",0,{"$f":"VLOOKUP(B:B,[1]库存明细!$D:$H,5,0)","v":2},-2]
["613BODY发条28","613BW28",0,{"$f":"VLOOKUP(B:B,[1]库存明细!$D:$H,5,0)","v":1},-1]
["613BODY发条30","613BW30",0,{"$f":"VLOOKUP(B:B,[1]库存明细!$D:$H,5,0)","v":7},-7]
["613BODY前头8","FRO613BW8",10,{"$f":"VLOOKUP(B:B,[1]库存明细!$D:$H,5,0)","v":10},0]
["613BODY前头10","FRO613BW10",8,{"$f":"VLOOKUP(B:B,[1]库存明细!$D:$H,5,0)","v":14},-6]
["613BODY前头12","FRO613BW12",4,{"$f":"VLOOKUP(B:B,[1]库存明细!$D:$H,5,0)","v":11},-7]
["613BODY前头14","FRO613BW14",2,{"$f":"VLOOKUP(B:B,[1]库存明细!$D:$H,5,0)","v":8},-6]
["613BODY前头16","FRO613BW16",0,{"$f":"VLOOKUP(B:B,[1]库存明细!$D:$H,5,0)","v":9},-9]
["613BODY前头18","FRO613BW18",4,{"$f":"VLOOKUP(B:B,[1]库存明细!$D:$H,5,0)","v":5},-1]
["613BODY前头20","FRO613BW20",12,{"$f":"VLOOKUP(B:B,[1]库存明细!$D:$H,5,0)","v":12},{"$f":"C451-D451","v":0}]
["613BODY发块8","LC613BW8",19,{"$f":"VLOOKUP(B:B,[1]库存明细!$D:$H,5,0)","v":19},0]
["613BODY发块10","LC613BW10",7,{"$f":"VLOOKUP(B:B,[1]库存明细!$D:$H,5,0)","v":9},-2]
["613BODY发块12","LC613BW12",25,{"$f":"VLOOKUP(B:B,[1]库存明细!$D:$H,5,0)","v":12},13]
["613BODY发块14","LC613BW14",10,{"$f":"VLOOKUP(B:B,[1]库存明细!$D:$H,5,0)","v":11},-1]
["613BODY发块16","LC613BW16",6,{"$f":"VLOOKUP(B:B,[1]库存明细!$D:$H,5,0)","v":13},-7]
["613BODY发块18","LC613BW18",5,{"$f":"VLOOKUP(B:B,[1]库存明细!$D:$H,5,0)","v":11},-6]
["613BODY发块20","LC613BW20",16,{"$f":"VLOOKUP(B:B,[1]库存明细!$D:$H,5,0)","v":15},1]
["613BODY5x5发块10","613FC5*5BW10",6,{"$f":"VLOOKUP(B:B,[1]库存明细!$D:$H,5,0)","v":6},0]
["613BODY5x5发块12","613FC5*5BW12",8,{"$f":"VLOOKUP(B:B,[1]库存明细!$D:$H,5,0)","v":9},-1]
["613BODY5x5发块14","613FC5*5BW14",8,{"$f":"VLOOKUP(B:B,[1]库存明细!$D:$H,5,0)","v":8},0]
["613BODY5x5发块16","613FC5*5BW16",6,{"$f":"VLOOKUP(B:B,[1]库存明细!$D:$H,5,0)","v":6},0]
["613BODY5x5发块18","613FC5*5BW18",7,{"$f":"VLOOKUP(B:B,[1]库存明细!$D:$H,5,0)","v":8},-1]
["613BODY5x5发块20","613FC5*5BW20",3,{"$f":"VLOOKUP(B:B,[1]库存明细!$D:$H,5,0)","v":4},-1]
["613直发发条8","613STW8",14,{"$f":"VLOOKUP(B:B,[1]库存明细!$D:$H,5,0)","v":18},-4]
["613直发发条10","613STW10",18,{"$f":"VLOOKUP(B:B,[1]库存明细!$D:$H,5,0)","v":19},-1]
["613直发发条12","613STW12",53,{"$f":"VLOOKUP(B:B,[1]库存明细!$D:$H,5,0)","v":48},5]
["613直发发条14","613STW14",33,{"$f":"VLOOKUP(B:B,[1]库存明细!$D:$H,5,0)","v":33},0]
["613直发发条16","613STW16",22,{"$f":"VLOOKUP(B:B,[1]库存明细!$D:$H,5,0)","v":21},1]
["613直发发条18","613STW18",8,{"$f":"VLOOKUP(B:B,[1]库存明细!$D:$H,5,0)","v":15},-7]
["613直发发条20","613STW20",13,{"$f":"VLOOKUP(B:B,[1]库存明细!$D:$H,5,0)","v":16},-3]
["613直发发条22","613STW22",44,{"$f":"VLOOKUP(B:B,[1]库存明细!$D:$H,5,0)","v":31},13]
["613直发发条24","613STW24",25,{"$f":"VLOOKUP(B:B,[1]库存明细!$D:$H,5,0)","v":28},-3]
["613直发发条26","613STW26",7,{"$f":"VLOOKUP(B:B,[1]库存明细!$D:$H,5,0)","v":8},-1]
["613直发发条28","613STW28",0,{"$f":"VLOOKUP(B:B,[1]库存明细!$D:$H,5,0)","v":3},-3]
["613直发发条30","613STW30",4,{"$f":"VLOOKUP(B:B,[1]库存明细!$D:$H,5,0)","v":1},3]
["613直发前头8","FRO613STW8",18,{"$f":"VLOOKUP(B:B,[1]库存明细!$D:$H,5,0)","v":18},0]
["613直发前头10","FRO613STW10",9,{"$f":"VLOOKUP(B:B,[1]库存明细!$D:$H,5,0)","v":9},0]
["613直发前头12","FRO613STW12",5,{"$f":"VLOOKUP(B:B,[1]库存明细!$D:$H,5,0)","v":10},-5]
["613直发前头14","FRO613STW14",4,{"$f":"VLOOKUP(B:B,[1]库存明细!$D:$H,5,0)","v":11},-7]
["613直发前头16","FRO613STW16",8,{"$f":"VLOOKUP(B:B,[1]库存明细!$D:$H,5,0)","v":8},0]
["613直发前头18","FRO613STW18",6,{"$f":"VLOOKUP(B:B,[1]库存明细!$D:$H,5,0)","v":7},-1]
["613直发前头20","FRO613STW20",11,{"$f":"VLOOKUP(B:B,[1]库存明细!$D:$H,5,0)","v":12},-1]
["613直发发块8","LC613STW8",6,{"$f":"VLOOKUP(B:B,[1]库存明细!$D:$H,5,0)","v":7},-1]
["613直发发块10","LC613STW10",18,{"$f":"VLOOKUP(B:B,[1]库存明细!$D:$H,5,0)","v":18},0]
["613直发发块12","LC613STW12",12,{"$f":"VLOOKUP(B:B,[1]库存明细!$D:$H,5,0)","v":16},-4]
["613直发发块14","LC613STW14",19,{"$f":"VLOOKUP(B:B,[1]库存明细!$D:$H,5,0)","v":20},-1]
["613直发发块16","LC613STW16",27,{"$f":"VLOOKUP(B:B,[1]库存明细!$D:$H,5,0)","v":26},1]
["613直发发块18","LC613STW18",20,{"$f":"VLOOKUP(B:B,[1]库存明细!$D:$H,5,0)","v":11},9]
["613直发发块20","LC613STW20",32,{"$f":"VLOOKUP(B:B,[1]库存明细!$D:$H,5,0)","v":34},-2]
["613直发5x5发块10","613FC5*5STW10",8,{"$f":"VLOOKUP(B:B,[1]库存明细!$D:$H,5,0)","v":8},0]
["613直发5x5发块12","613FC5*5STW12",9,{"$f":"VLOOKUP(B:B,[1]库存明细!$D:$H,5,0)","v":7},2]
["613直发5x5发块14","613FC5*5STW14",9,{"$f":"VLOOKUP(B:B,[1]库存明细!$D:$H,5,0)","v":10},-1]
["613直发5x5发块16","613FC5*5STW16",9,{"$f":"VLOOKUP(B:B,[1]库存明细!$D:$H,5,0)","v":12},-3]
["613直发5x5发块18","613FC5*5STW18",11,{"$f":"VLOOKUP(B:B,[1]库存明细!$D:$H,5,0)","v":10},1]
["613直发5x5发块20","613FC5*5STW20",7,{"$f":"VLOOKUP(B:B,[1]库存明细!$D:$H,5,0)","v":7},0]
["613DEEP发条10","613DEEP10",6,{"$f":"VLOOKUP(B:B,[1]库存明细!$D:$H,5,0)","v":11},-5]
["613DEEP发条12","613DEEP12",15,{"$f":"VLOOKUP(B:B,[1]库存明细!$D:$H,5,0)","v":16},-1]
["613DEEP发条14","613DEEP14",16,{"$f":"VLOOKUP(B:B,[1]库存明细!$D:$H,5,0)","v":16},0]
["613DEEP发条16","613DEEP16",19,{"$f":"VLOOKUP(B:B,[1]库存明细!$D:$H,5,0)","v":19},0]
["613DEEP发条18","613DEEP18",16,{"$f":"VLOOKUP(B:B,[1]库存明细!$D:$H,5,0)","v":17},-1]
["613DEEP发条20","613DEEP20",17,{"$f":"VLOOKUP(B:B,[1]库存明细!$D:$H,5,0)","v":17},0]
["613DEEP发条22","613DEEP22",2,{"$f":"VLOOKUP(B:B,[1]库存明细!$D:$H,5,0)","v":16},-14]
["613DEEP发条24","613DEEP24",9,{"$f":"VLOOKUP(B:B,[1]库存明细!$D:$H,5,0)","v":9},0]
["613DEEP前头10","FRO613DEEP10",7,{"$f":"VLOOKUP(B:B,[1]库存明细!$D:$H,5,0)","v":7},0]
["613DEEP前头12","FRO613DEEP12",9,{"$f":"VLOOKUP(B:B,[1]库存明细!$D:$H,5,0)","v":9},0]
["613DEEP前头14","FRO613DEEP14",5,{"$f":"VLOOKUP(B:B,[1]库存明细!$D:$H,5,0)","v":10},-5]
["613DEEP前头16","FRO613DEEP16",4,{"$f":"VLOOKUP(B:B,[1]库存明细!$D:$H,5,0)","v":9},-5]
["613DEEP前头18","FRO613DEEP18",3,{"$f":"VLOOKUP(B:B,[1]库存明细!$D:$H,5,0)","v":3},0]
["613DEEP前头20","FRO613DEEP20",5,{"$f":"VLOOKUP(B:B,[1]库存明细!$D:$H,5,0)","v":4},1]
["613DEEP4*4发块12","LC613DEEP12",5,{"$f":"VLOOKUP(B:B,[1]库存明细!$D:$H,5,0)","v":5},0]
["613DEEP4*4发块14","LC613DEEP14",6,{"$f":"VLOOKUP(B:B,[1]库存明细!$D:$H,5,0)","v":6},0]
["613DEEP4*4发块16","LC613DEEP16",6,{"$f":"VLOOKUP(B:B,[1]库存明细!$D:$H,5,0)","v":6},0]
["613DEEP4*4发块18","LC613DEEP18",5,{"$f":"VLOOKUP(B:B,[1]库存明细!$D:$H,5,0)","v":5},0]
["613DEEP4*4发块20","LC613DEEP20",7,{"$f":"VLOOKUP(B:B,[1]库存明细!$D:$H,5,0)","v":7},{"$f":"C515-D515","v":0}]
["99JBODY前头10","FRO99JBW10",null,{"$f":"VLOOKUP(B:B,[1]库存明细!$D:$H,5,0)","v":5},-5]
["99JBODY前头12","FRO99JBW12",null,{"$f":"VLOOKUP(B:B,[1]库存明细!$D:$H,5,0)","v":15},-15]
["99JBODY前头14","FRO99JBW14",null,{"$f":"VLOOKUP(B:B,[1]库存明细!$D:$H,5,0)","v":9},-9]
["99JBODY前头16","FRO99JBW16",null,{"$f":"VLOOKUP(B:B,[1]库存明细!$D:$H,5,0)","v":6},-6]
["99JBODY前头18","FRO99JBW18",null,{"$f":"VLOOKUP(B:B,[1]库存明细!$D:$H,5,0)","v":7},-7]
["99JBODY前头20","FRO99JBW20",null,{"$f":"VLOOKUP(B:B,[1]库存明细!$D:$H,5,0)","v":5},-5]
["99JBODY发块10","LC99JBW10",null,{"$f":"VLOOKUP(B:B,[1]库存明细!$D:$H,5,0)","v":10},-10]
["99JBODY发块12","LC99JBW12",null,{"$f":"VLOOKUP(B:B,[1]库存明细!$D:$H,5,0)","v":4},-4]
["99JBODY发块14","LC99JBW14",null,{"$f":"VLOOKUP(B:B,[1]库存明细!$D:$H,5,0)","v":5},-5]
["99JBODY发块16","LC99JBW16",null,{"$f":"VLOOKUP(B:B,[1]库存明细!$D:$H,5,0)","v":11},-11]
["99JBODY发块18","LC99JBW18",null,{"$f":"VLOOKUP(B:B,[1]库存明细!$D:$H,5,0)","v":11},-11]
["99JBODY发块20","LC99JBW20",null,{"$f":"VLOOKUP(B:B,[1]库存明细!$D:$H,5,0)","v":13},-13]
["99JBODY发条10","99JBODY10",null,{"$f":"VLOOKUP(B:B,[1]库存明细!$D:$H,5,0)","v":30},-30]
["99JBODY发条12","99JBODY12",null,{"$f":"VLOOKUP(B:B,[1]库存明细!$D:$H,5,0)","v":9},-9]
["99JBODY发条14","99JBODY14",null,{"$f":"VLOOKUP(B:B,[1]库存明细!$D:$H,5,0)","v":12},-12]
["99JBODY发条16","99JBODY16",null,{"$f":"VLOOKUP(B:B,[1]库存明细!$D:$H,5,0)","v":13},-13]
["99JBODY发条18","99JBODY18",null,{"$f":"VLOOKUP(B:B,[1]库存明细!$D:$H,5,0)","v":21},-21]
["99JBODY发条20","99JBODY20",null,{"$f":"VLOOKUP(B:B,[1]库存明细!$D:$H,5,0)","v":34},-34]
["99JBODY发条22","99JBODY22",null,{"$f":"VLOOKUP(B:B,[1]库存明细!$D:$H,5,0)","v":18},-18]
["99JBODY发条24","99JBODY24",null,{"$f":"VLOOKUP(B:B,[1]库存明细!$D:$H,5,0)","v":20},-20]
["99J直条10","99JSTW10",null,{"$f":"VLOOKUP(B:B,[1]库存明细!$D:$H,5,0)","v":5},-5]
["99J直条12","99JSTW12",null,{"$f":"VLOOKUP(B:B,[1]库存明细!$D:$H,5,0)","v":13},-13]
["99J直条14","99JSTW14",null,{"$f":"VLOOKUP(B:B,[1]库存明细!$D:$H,5,0)","v":8},-8]
["99J直条16","99JSTW16",null,{"$f":"VLOOKUP(B:B,[1]库存明细!$D:$H,5,0)","v":6},-6]
["99J直条18","99JSTW18",null,{"$f":"VLOOKUP(B:B,[1]库存明细!$D:$H,5,0)","v":15},-15]
["99J直条20","99JSTW20",null,{"$f":"VLOOKUP(B:B,[1]库存明细!$D:$H,5,0)","v":20},-20]
["99J直条22","99JSTW22",null,{"$f":"VLOOKUP(B:B,[1]库存明细!$D:$H,5,0)","v":16},-16]
["99J直条24","99JSTW24",null,{"$f":"VLOOKUP(B:B,[1]库存明细!$D:$H,5,0)","v":12},-12]
["99J直条4*4发块10","LC99JSTW10",null,{"$f":"VLOOKUP(B:B,[1]库存明细!$D:$H,5,0)","v":9},-9]
["99J直条4*4发块12","LC99JSTW12",null,{"$f":"VLOOKUP(B:B,[1]库存明细!$D:$H,5,0)","v":4},-4]
["99J直条4*4发块14","LC99JSTW14",null,{"$f":"VLOOKUP(B:B,[1]库存明细!$D:$H,5,0)","v":7},-7]
["99J直条4*4发块16","LC99JSTW16",null,{"$f":"VLOOKUP(B:B,[1]库存明细!$D:$H,5,0)","v":11},-11]
["99J直条4*4发块18","LC99JSTW18",null,{"$f":"VLOOKUP(B:B,[1]库存明细!$D:$H,5,0)","v":7},-7]
["99J直条4*4发块20","LC99JSTW20",null,{"$f":"VLOOKUP(B:B,[1]库存明细!$D:$H,5,0)","v":9},-9]
["#27BODY发条12","#27BW12",9,{"$f":"VLOOKUP(B:B,[1]库存明细!$D:$H,5,0)","v":11},-2]
["#27BODY发条14","#27BW14",8,{"$f":"VLOOKUP(B:B,[1]库存明细!$D:$H,5,0)","v":10},-2]
["#27BODY发条16","#27BW16",7,{"$f":"VLOOKUP(B:B,[1]库存明细!$D:$H,5,0)","v":5},2]
["#27BODY发条18","#27BW18",6,{"$f":"VLOOKUP(B:B,[1]库存明细!$D:$H,5,0)","v":5},1]
["#27BODY发条20","#27BW20",4,{"$f":"VLOOKUP(B:B,[1]库存明细!$D:$H,5,0)","v":4},0]
["#27BODY发条22","#27BW22",1,{"$f":"VLOOKUP(B:B,[1]库存明细!$D:$H,5,0)","v":2},-1]
["#27BODY发条24","#27BW24",15,{"$f":"VLOOKUP(B:B,[1]库存明细!$D:$H,5,0)","v":13},2]
["#27BODY前头12","FRO#27BW12",6,{"$f":"VLOOKUP(B:B,[1]库存明细!$D:$H,5,0)","v":6},0]
["#27BODY前头14","FRO#27BW14",1,{"$f":"VLOOKUP(B:B,[1]库存明细!$D:$H,5,0)","v":6},-5]
["#27BODY前头16","FRO#27BW16",6,{"$f":"VLOOKUP(B:B,[1]库存明细!$D:$H,5,0)","v":6},0]
["#27BODY前头18","FRO#27BW18",4,{"$f":"VLOOKUP(B:B,[1]库存明细!$D:$H,5,0)","v":4},0]
["#27BODY前头20","FRO#27BW20",6,{"$f":"VLOOKUP(B:B,[1]库存明细!$D:$H,5,0)","v":6},0]
["#27BODY发块12","LC#27BW12",7,{"$f":"VLOOKUP(B:B,[1]库存明细!$D:$H,5,0)","v":10},-3]
["#27BODY发块14","LC#27BW14",9,{"$f":"VLOOKUP(B:B,[1]库存明细!$D:$H,5,0)","v":9},0]
["#27BODY发块16","LC#27BW16",4,{"$f":"VLOOKUP(B:B,[1]库存明细!$D:$H,5,0)","v":4},0]
["#27BODY发块18","LC#27BW18",8,{"$f":"VLOOKUP(B:B,[1]库存明细!$D:$H,5,0)","v":8},0]
["#27BODY发块20","LC#27BW20",8,{"$f":"VLOOKUP(B:B,[1]库存明细!$D:$H,5,0)","v":8},0]
["#27直条发条12","#27STW12",null,{"$f":"VLOOKUP(B:B,[1]库存明细!$D:$H,5,0)","v":11},-11]
["#27直条发条14","#27STW14",null,{"$f":"VLOOKUP(B:B,[1]库存明细!$D:$H,5,0)","v":15},-15]
["#27直条发条16","#27STW16",null,{"$f":"VLOOKUP(B:B,[1]库存明细!$D:$H,5,0)","v":5},-5]
["#27直条发条18","#27STW18",null,{"$f":"VLOOKUP(B:B,[1]库存明细!$D:$H,5,0)","v":7},-7]
["#27直条发条20","#27STW20",null,{"$f":"VLOOKUP(B:B,[1]库存明细!$D:$H,5,0)","v":14},-14]
["#27直条发条22","#27STW22",null,{"$f":"VLOOKUP(B:B,[1]库存明细!$D:$H,5,0)","v":14},-14]
["#27直条发条24","#27STW24",null,{"$f":"VLOOKUP(B:B,[1]库存明细!$D:$H,5,0)","v":8},-8]
["#27直条发块12","LC#27STW12",null,{"$f":"VLOOKUP(B:B,[1]库存明细!$D:$H,5,0)","v":4},-4]
["#27直条发块14","LC#27STW14",null,{"$f":"VLOOKUP(B:B,[1]库存明细!$D:$H,5,0)","v":8},-8]
["#27直条发块16","LC#27STW16",null,{"$f":"VLOOKUP(B:B,[1]库存明细!$D:$H,5,0)","v":5},-5]
["#27直条发块18","LC#27STW18",null,{"$f":"VLOOKUP(B:B,[1]库存明细!$D:$H,5,0)","v":6},-6]
["#27直条发块20","LC#27STW20",null,{"$f":"VLOOKUP(B:B,[1]库存明细!$D:$H,5,0)","v":5},-5]
["4#直发发条12","4#STW12",null,{"$f":"VLOOKUP(B:B,[1]库存明细!$D:$H,5,0)","v":17},{"$f":"C579-D579","v":-17}]
["4#直发发条14","4#STW14",null,{"$f":"VLOOKUP(B:B,[1]库存明细!$D:$H,5,0)","v":17},-17]
["4#直发发条16","4#STW16",null,{"$f":"VLOOKUP(B:B,[1]库存明细!$D:$H,5,0)","v":17},-17]
["4#直发发条18","4#STW18",null,{"$f":"VLOOKUP(B:B,[1]库存明细!$D:$H,5,0)","v":17},-17]
["4#直发发条20","4#STW20",null,{"$f":"VLOOKUP(B:B,[1]库存明细!$D:$H,5,0)","v":17},-17]
["4#BODY发条12","4#BODY12",null,{"$f":"VLOOKUP(B:B,[1]库存明细!$D:$H,5,0)","v":17},-17]
["4#BODY发条14","4#BODY14",null,{"$f":"VLOOKUP(B:B,[1]库存明细!$D:$H,5,0)","v":17},-17]
["4#BODY发条16","4#BODY16",null,{"$f":"VLOOKUP(B:B,[1]库存明细!$D:$H,5,0)","v":17},-17]
["4#BODY发条18","4#BODY18",null,{"$f":"VLOOKUP(B:B,[1]库存明细!$D:$H,5,0)","v":17},-17]
["4#BODY发条20","4#BODY20",null,{"$f":"VLOOKUP(B:B,[1]库存明细!$D:$H,5,0)","v":17},-17]
["AliPearl直发单条8","APSTW8",null,{"$f":"VLOOKUP(B:B,[1]库存明细!$D:$H,5,0)","v":11},-11]
["AliPearl直发单条10","APSTW10",null,{"$f":"VLOOKUP(B:B,[1]库存明细!$D:$H,5,0)","v":16},-16]
["AliPearl直发单条12","APSTW12",null,{"$f":"VLOOKUP(B:B,[1]库存明细!$D:$H,5,0)","v":48},-48]
["AliPearl直发单条14","APSTW14",null,{"$f":"VLOOKUP(B:B,[1]库存明细!$D:$H,5,0)","v":115},-115]
["AliPearl直发单条16","APSTW16",null,{"$f":"VLOOKUP(B:B,[1]库存明细!$D:$H,5,0)","v":134},-134]
["AliPearl直发单条18","APSTW18",null,{"$f":"VLOOKUP(B:B,[1]库存明细!$D:$H,5,0)","v":152},-152]
["AliPearl直发单条20","APSTW20",null,{"$f":"VLOOKUP(B:B,[1]库存明细!$D:$H,5,0)","v":141},-141]
["AliPearl直发单条22","APSTW22",null,{"$f":"VLOOKUP(B:B,[1]库存明细!$D:$H,5,0)","v":109},-109]
["AliPearl直发单条24","APSTW24",null,{"$f":"VLOOKUP(B:B,[1]库存明细!$D:$H,5,0)","v":107},-107]
["AliPearl直发单条26","APSTW26",null,{"$f":"VLOOKUP(B:B,[1]库存明细!$D:$H,5,0)","v":75},-75]
["AliPearl直发单条28","APSTW28",null,{"$f":"VLOOKUP(B:B,[1]库存明细!$D:$H,5,0)","v":24},-24]
["AliPearl直发单条30","APSTW30",null,{"$f":"VLOOKUP(B:B,[1]库存明细!$D:$H,5,0)","v":2},-2]
["AliPearlbody单条8","APBODY8",null,{"$f":"VLOOKUP(B:B,[1]库存明细!$D:$H,5,0)","v":20},-20]
["AliPearlbody单条10","APBODY10",null,{"$f":"VLOOKUP(B:B,[1]库存明细!$D:$H,5,0)","v":62},-62]
["AliPearlbody单条12","APBODY12",null,{"$f":"VLOOKUP(B:B,[1]库存明细!$D:$H,5,0)","v":61},-61]
["AliPearlbody单条14","APBODY14",null,{"$f":"VLOOKUP(B:B,[1]库存明细!$D:$H,5,0)","v":97},-97]
["AliPearlbody单条16","APBODY16",null,{"$f":"VLOOKUP(B:B,[1]库存明细!$D:$H,5,0)","v":148},-148]
["AliPearlbody单条18","APBODY18",null,{"$f":"VLOOKUP(B:B,[1]库存明细!$D:$H,5,0)","v":222},-222]
["AliPearlbody单条20","APBODY20",null,{"$f":"VLOOKUP(B:B,[1]库存明细!$D:$H,5,0)","v":157},-157]
["AliPearlbody单条22","APBODY22",null,{"$f":"VLOOKUP(B:B,[1]库存明细!$D:$H,5,0)","v":139},-139]
["AliPearlbody单条24","APBODY24",null,{"$f":"VLOOKUP(B:B,[1]库存明细!$D:$H,5,0)","v":60},-60]
["AliPearlbody单条26","APBODY26",null,{"$f":"VLOOKUP(B:B,[1]库存明细!$D:$H,5,0)","v":53},-53]
["AliPearlbody单条28","APBODY28",null,{"$f":"VLOOKUP(B:B,[1]库存明细!$D:$H,5,0)","v":31},-31]
["AliPearlbody单条30","APBODY30",null,{"$f":"VLOOKUP(B:B,[1]库存明细!$D:$H,5,0)","v":13},-13]
["AliPearldeep8","APDEEP8",null,{"$f":"VLOOKUP(B:B,[1]库存明细!$D:$H,5,0)","v":22},-22]
["AliPearldeep10","APDEEP10",null,{"$f":"VLOOKUP(B:B,[1]库存明细!$D:$H,5,0)","v":32},-32]
["AliPearldeep12","APDEEP12",null,{"$f":"VLOOKUP(B:B,[1]库存明细!$D:$H,5,0)","v":50},-50]
["AliPearldeep14","APDEEP14",null,{"$f":"VLOOKUP(B:B,[1]库存明细!$D:$H,5,0)","v":91},-91]
["AliPearldeep16","APDEEP16",null,{"$f":"VLOOKUP(B:B,[1]库存明细!$D:$H,5,0)","v":125},-125]
["AliPearldeep18","APDEEP18",null,{"$f":"VLOOKUP(B:B,[1]库存明细!$D:$H,5,0)","v":101},-101]
["AliPearldeep20","APDEEP20",null,{"$f":"VLOOKUP(B:B,[1]库存明细!$D:$H,5,0)","v":88},-88]
["AliPearldeep22","APDEEP22",null,{"$f":"VLOOKUP(B:B,[1]库存明细!$D:$H,5,0)","v":106},-106]
["AliPearldeep24","APDEEP24",null,{"$f":"VLOOKUP(B:B,[1]库存明细!$D:$H,5,0)","v":108},-108]
["AliPearldeep26","APDEEP26",null,{"$f":"VLOOKUP(B:B,[1]库存明细!$D:$H,5,0)","v":57},-57]
["AliPearldeep28","APDEEP28",null,{"$f":"VLOOKUP(B:B,[1]库存明细!$D:$H,5,0)","v":28},-28]
["AliPearlloosedeep10","APLOOSEDEEP10",null,{"$f":"VLOOKUP(B:B,[1]库存明细!$D:$H,5,0)","v":9},-9]
["AliPearlloosedeep12","APLOOSEDEEP12",null,{"$f":"VLOOKUP(B:B,[1]库存明细!$D:$H,5,0)","v":4},-4]
["AliPearlloosedeep14","APLOOSEDEEP14",null,{"$f":"VLOOKUP(B:B,[1]库存明细!$D:$H,5,0)","v":14},-14]
["AliPearlloosedeep16","APLOOSEDEEP16",null,{"$f":"VLOOKUP(B:B,[1]库存明细!$D:$H,5,0)","v":19},-19]
["AliPearlloosedeep18","APLOOSEDEEP18",null,{"$f":"VLOOKUP(B:B,[1]库存明细!$D:$H,5,0)","v":23},-23]
["AliPearlloosedeep20","APLOOSEDEEP20",null,{"$f":"VLOOKUP(B:B,[1]库存明细!$D:$H,5,0)","v":17},-17]
["AliPearlloosedeep22","APLOOSEDEEP22",null,{"$f":"VLOOKUP(B:B,[1]库存明细!$D:$H,5,0)","v":25},-25]
["AliPearlloosedeep24","APLOOSEDEEP24",null,{"$f":"VLOOKUP(B:B,[1]库存明细!$D:$H,5,0)","v":27},-27]
["AliPearlloosedeep26","APLOOSEDEEP26",null,{"$f":"VLOOKUP(B:B,[1]库存明细!$D:$H,5,0)","v":36},-36]
["AliPearlloosedeep28","APLOOSEDEEP28",null,{"$f":"VLOOKUP(B:B,[1]库存明细!$D:$H,5,0)","v":13},-13]
["AliPearlJC单条8","APCURLY8",17,{"$f":"VLOOKUP(B:B,[1]库存明细!$D:$H,5,0)","v":16},1]
["AliPearlJC单条10","APCURLY10",13,{"$f":"VLOOKUP(B:B,[1]库存明细!$D:$H,5,0)","v":13},0]
["AliPearlJC单条12","APCURLY12",10,{"$f":"VLOOKUP(B:B,[1]库存明细!$D:$H,5,0)","v":20},-10]
["AliPearlJC单条14","APCURLY14",1,{"$f":"VLOOKUP(B:B,[1]库存明细!$D:$H,5,0)","v":10},-9]
["AliPearlJC单条16","APCURLY16",4,{"$f":"VLOOKUP(B:B,[1]库存明细!$D:$H,5,0)","v":11},-7]
["AliPearlJC单条18","APCURLY18",12,{"$f":"VLOOKUP(B:B,[1]库存明细!$D:$H,5,0)","v":13},-1]
["AliPearlJC单条20","APCURLY20",17,{"$f":"VLOOKUP(B:B,[1]库存明细!$D:$H,5,0)","v":20},-3]
["AliPearlJC单条22","APCURLY22",12,{"$f":"VLOOKUP(B:B,[1]库存明细!$D:$H,5,0)","v":15},-3]
["AliPearlJC单条24","APCURLY24",23,{"$f":"VLOOKUP(B:B,[1]库存明细!$D:$H,5,0)","v":25},-2]
["AliPearlJC单条26","APCURLY26",16,{"$f":"VLOOKUP(B:B,[1]库存明细!$D:$H,5,0)","v":12},{"$f":"C643-D643","v":4}]
["AliPearl自然曲8","APWATER8",null,{"$f":"VLOOKUP(B:B,[1]库存明细!$D:$H,5,0)","v":22},-22]
["AliPearl自然曲10","APWATER10",null,{"$f":"VLOOKUP(B:B,[1]库存明细!$D:$H,5,0)","v":14},-14]
["AliPearl自然曲12","APWATER12",null,{"$f":"VLOOKUP(B:B,[1]库存明细!$D:$H,5,0)","v":19},-19]
["AliPearl自然曲14","APWATER14",null,{"$f":"VLOOKUP(B:B,[1]库存明细!$D:$H,5,0)","v":4},-4]
["AliPearl自然曲16","APWATER16",null,{"$f":"VLOOKUP(B:B,[1]库存明细!$D:$H,5,0)","v":10},-10]
["AliPearl自然曲18","APWATER18",null,{"$f":"VLOOKUP(B:B,[1]库存明细!$D:$H,5,0)","v":24},-24]
["AliPearl自然曲20","APWATER20",null,{"$f":"VLOOKUP(B:B,[1]库存明细!$D:$H,5,0)","v":6},-6]
["AliPearl自然曲22","APWATER22",null,{"$f":"VLOOKUP(B:B,[1]库存明细!$D:$H,5,0)","v":18},-18]
["AliPearl自然曲24","APWATER24",null,{"$f":"VLOOKUP(B:B,[1]库存明细!$D:$H,5,0)","v":21},-21]
["AliPearl自然曲26","APWATER26",null,{"$f":"VLOOKUP(B:B,[1]库存明细!$D:$H,5,0)","v":21},-21]
["AliPearl自然曲28","APWATER28",null,{"$f":"VLOOKUP(B:B,[1]库存明细!$D:$H,5,0)","v":16},-16]
["Westkiss直发单条8","WKSTW8",null,{"$f":"VLOOKUP(B:B,[1]库存明细!$D:$H,5,0)","v":19},-19]
["Westkiss直发单条10","WKSTW10",null,{"$f":"VLOOKUP(B:B,[1]库存明细!$D:$H,5,0)","v":4},-4]
["Westkiss直发单条12","WKSTW12",null,{"$f":"VLOOKUP(B:B,[1]库存明细!$D:$H,5,0)","v":35},-35]
["Westkiss直发单条14","WKSTW14",null,{"$f":"VLOOKUP(B:B,[1]库存明细!$D:$H,5,0)","v":38},-38]
["Westkiss直发单条16","WKSTW16",null,{"$f":"VLOOKUP(B:B,[1]库存明细!$D:$H,5,0)","v":13},-13]
["Westkiss直发单条18","WKSTW18",null,{"$f":"VLOOKUP(B:B,[1]库存明细!$D:$H,5,0)","v":51},-51]
["Westkiss直发单条20","WKSTW20",null,{"$f":"VLOOKUP(B:B,[1]库存明细!$D:$H,5,0)","v":41},-41]
["Westkiss直发单条22","WKSTW22",null,{"$f":"VLOOKUP(B:B,[1]库存明细!$D:$H,5,0)","v":31},-31]
["Westkiss直发单条24","WKSTW24",null,{"$f":"VLOOKUP(B:B,[1]库存明细!$D:$H,5,0)","v":18},-18]
["Westkiss直发单条26","WKSTW26",null,{"$f":"VLOOKUP(B:B,[1]库存明细!$D:$H,5,0)","v":25},-25]
["Westkissbody单条8","WKBODY8",null,{"$f":"VLOOKUP(B:B,[1]库存明细!$D:$H,5,0)","v":6},-6]
["Westkissbody单条10","WKBODY10",null,{"$f":"VLOOKUP(B:B,[1]库存明细!$D:$H,5,0)","v":18},-18]
["Westkissbody单条12","WKBODY12",null,{"$f":"VLOOKUP(B:B,[1]库存明细!$D:$H,5,0)","v":22},-22]
["Westkissbody单条14","WKBODY14",null,{"$f":"VLOOKUP(B:B,[1]库存明细!$D:$H,5,0)","v":47},-47]
["Westkissbody单条16","WKBODY16",null,{"$f":"VLOOKUP(B:B,[1]库存明细!$D:$H,5,0)","v":51},-51]
["Westkissbody单条18","WKBODY18",null,{"$f":"VLOOKUP(B:B,[1]库存明细!$D:$H,5,0)","v":25},-25]
["Westkissbody单条20","WKBODY20",null,{"$f":"VLOOKUP(B:B,[1]库存明细!$D:$H,5,0)","v":46},-46]
["Westkissbody单条22","WKBODY22",null,{"$f":"VLOOKUP(B:B,[1]库存明细!$D:$H,5,0)","v":55},-55]
["Westkissbody单条24","WKBODY24",null,{"$f":"VLOOKUP(B:B,[1]库存明细!$D:$H,5,0)","v":27},-27]
["Westkissbody单条26","WKBODY26",null,{"$f":"VLOOKUP(B:B,[1]库存明细!$D:$H,5,0)","v":15},-15]
["Westkissdeep单条8","WKDEEP8",null,{"$f":"VLOOKUP(B:B,[1]库存明细!$D:$H,5,0)","v":23},-23]
["Westkissdeep单条10","WKDEEP10",null,{"$f":"VLOOKUP(B:B,[1]库存明细!$D:$H,5,0)","v":20},-20]
["Westkissdeep单条12","WKDEEP12",null,{"$f":"VLOOKUP(B:B,[1]库存明细!$D:$H,5,0)","v":12},-12]
["Westkissdeep单条14","WKDEEP14",null,{"$f":"VLOOKUP(B:B,[1]库存明细!$D:$H,5,0)","v":10},-10]
["Westkissdeep单条16","WKDEEP16",null,{"$f":"VLOOKUP(B:B,[1]库存明细!$D:$H,5,0)","v":7},-7]
["Westkissdeep单条18","WKDEEP18",null,{"$f":"VLOOKUP(B:B,[1]库存明细!$D:$H,5,0)","v":11},-11]
["Westkissdeep单条20","WKDEEP20",null,{"$f":"VLOOKUP(B:B,[1]库存明细!$D:$H,5,0)","v":11},-11]
["Westkissdeep单条22","WKDEEP22",null,{"$f":"VLOOKUP(B:B,[1]库存明细!$D:$H,5,0)","v":2},-2]
["Westkissdeep单条24","WKDEEP24",null,{"$f":"VLOOKUP(B:B,[1]库存明细!$D:$H,5,0)","v":8},-8]
["Westkissdeep单条26","WKDEEP26",null,{"$f":"VLOOKUP(B:B,[1]库存明细!$D:$H,5,0)","v":16},-16]
["Westkissdeep单条28","WKDEEP28",null,{"$f":"VLOOKUP(B:B,[1]库存明细!$D:$H,5,0)","v":10},-10]
["Wiggins直发单条8","GGSTW8",null,{"$f":"VLOOKUP(B:B,[1]库存明细!$D:$H,5,0)","v":18},-18]
["Wiggins直发单条10","GGSTW10",null,{"$f":"VLOOKUP(B:B,[1]库存明细!$D:$H,5,0)","v":16},-16]
["Wiggins直发单条12","GGSTW12",null,{"$f":"VLOOKUP(B:B,[1]库存明细!$D:$H,5,0)","v":38},-38]
["Wiggins直发单条14","GGSTW14",null,{"$f":"VLOOKUP(B:B,[1]库存明细!$D:$H,5,0)","v":36},-36]
["Wiggins直发单条16","GGSTW16",null,{"$f":"VLOOKUP(B:B,[1]库存明细!$D:$H,5,0)","v":27},-27]
["Wiggins直发单条18","GGSTW18",null,{"$f":"VLOOKUP(B:B,[1]库存明细!$D:$H,5,0)","v":51},-51]
["Wiggins直发单条20","GGSTW20",null,{"$f":"VLOOKUP(B:B,[1]库存明细!$D:$H,5,0)","v":43},-43]
["Wiggins直发单条22","GGSTW22",null,{"$f":"VLOOKUP(B:B,[1]库存明细!$D:$H,5,0)","v":51},-51]
["Wiggins直发单条24","GGSTW24",null,{"$f":"VLOOKUP(B:B,[1]库存明细!$D:$H,5,0)","v":33},-33]
["Wiggins直发单条26","GGSTW26",null,{"$f":"VLOOKUP(B:B,[1]库存明细!$D:$H,5,0)","v":19},-19]
["Wigginsbody单条8","GGBODY8",null,{"$f":"VLOOKUP(B:B,[1]库存明细!$D:$H,5,0)","v":14},-14]
["Wigginsbody单条10","GGBODY10",null,{"$f":"VLOOKUP(B:B,[1]库存明细!$D:$H,5,0)","v":16},-16]
["Wigginsbody单条12","GGBODY12",null,{"$f":"VLOOKUP(B:B,[1]库存明细!$D:$H,5,0)","v":33},-33]
["Wigginsbody单条14","GGBODY14",null,{"$f":"VLOOKUP(B:B,[1]库存明细!$D:$H,5,0)","v":30},-30]
["Wigginsbody单条16","GGBODY16",null,{"$f":"VLOOKUP(B:B,[1]库存明细!$D:$H,5,0)","v":55},-55]
["Wigginsbody单条18","GGBODY18",null,{"$f":"VLOOKUP(B:B,[1]库存明细!$D:$H,5,0)","v":77},-77]
["Wigginsbody单条20","GGBODY20",null,{"$f":"VLOOKUP(B:B,[1]库存明细!$D:$H,5,0)","v":56},-56]
["Wigginsbody单条22","GGBODY22",null,{"$f":"VLOOKUP(B:B,[1]库存明细!$D:$H,5,0)","v":44},-44]
["Wigginsbody单条24","GGBODY24",null,{"$f":"VLOOKUP(B:B,[1]库存明细!$D:$H,5,0)","v":37},-37]
["Wigginsbody单条26","GGBODY26",null,{"$f":"VLOOKUP(B:B,[1]库存明细!$D:$H,5,0)","v":14},-14]
["Wigginsloosedeep单条10","GGLOOSEDEEP10",null,{"$f":"VLOOKUP(B:B,[1]库存明细!$D:$H,5,0)","v":19},-19]
["Wigginsloosedeep单条12","GGLOOSEDEEP12",null,{"$f":"VLOOKUP(B:B,[1]库存明细!$D:$H,5,0)","v":18},{"$f":"C707-D707","v":-18}]
["Wigginsloosedeep单条14","GGLOOSEDEEP14",null,{"$f":"VLOOKUP(B:B,[1]库存明细!$D:$H,5,0)","v":20},-20]
["Wigginsloosedeep单条16","GGLOOSEDEEP16",null,{"$f":"VLOOKUP(B:B,[1]库存明细!$D:$H,5,0)","v":3},-3]
["Wigginsloosedeep单条18","GGLOOSEDEEP18",null,{"$f":"VLOOKUP(B:B,[1]库存明细!$D:$H,5,0)","v":21},-21]
["Wigginsloosedeep单条20","GGLOOSEDEEP20",null,{"$f":"VLOOKUP(B:B,[1]库存明细!$D:$H,5,0)","v":16},-16]
["Wigginsloosedeep单条22","GGLOOSEDEEP22",null,{"$f":"VLOOKUP(B:B,[1]库存明细!$D:$H,5,0)","v":20},-20]
["Wigginsloosedeep单条24","GGLOOSEDEEP24",null,{"$f":"VLOOKUP(B:B,[1]库存明细!$D:$H,5,0)","v":22},-22]
["Wigginsloosedeep单条26","GGLOOSEDEEP26",null,{"$f":"VLOOKUP(B:B,[1]库存明细!$D:$H,5,0)","v":22},-22]
["Wigginsloosedeep单条28","GGLOOSEDEEP28",null,{"$f":"VLOOKUP(B:B,[1]库存明细!$D:$H,5,0)","v":8},-8]
["Wiggins自然曲单条10","GGWATER10",null,{"$f":"VLOOKUP(B:B,[1]库存明细!$D:$H,5,0)","v":21},-21]
["Wiggins自然曲单条12","GGWATER12",null,{"$f":"VLOOKUP(B:B,[1]库存明细!$D:$H,5,0)","v":31},-31]
["Wiggins自然曲单条14","GGWATER14",null,{"$f":"VLOOKUP(B:B,[1]库存明细!$D:$H,5,0)","v":24},-24]
["Wiggins自然曲单条16","GGWATER16",null,{"$f":"VLOOKUP(B:B,[1]库存明细!$D:$H,5,0)","v":32},-32]
["Wiggins自然曲单条18","GGWATER18",null,{"$f":"VLOOKUP(B:B,[1]库存明细!$D:$H,5,0)","v":16},-16]
["Wiggins自然曲单条20","GGWATER20",null,{"$f":"VLOOKUP(B:B,[1]库存明细!$D:$H,5,0)","v":9},-9]
["Wiggins自然曲单条22","GGWATER22",null,{"$f":"VLOOKUP(B:B,[1]库存明细!$D:$H,5,0)","v":25},-25]
["Wiggins自然曲单条24","GGWATER24",null,{"$f":"VLOOKUP(B:B,[1]库存明细!$D:$H,5,0)","v":9},-9]
["Wiggins自然曲单条26","GGWATER26",null,{"$f":"VLOOKUP(B:B,[1]库存明细!$D:$H,5,0)","v":9},-9]
["Wiggins自然曲单条28","GGWATER28",null,{"$f":"VLOOKUP(B:B,[1]库存明细!$D:$H,5,0)","v":18},-18]

{"sheet":"12.02待再次确认","index":8,"n_rows":726,"n_cols":8,"rows_kept":726,"cut":false,"hidden":false,"merged":[]}
["尺组合","条码","12.02发货后发货仓库存清点","ERP库存","差异","12.03发货后再次确认"]
["613直发4*4BOB头套8","613STW4*4BOB8",null,{"$f":"VLOOKUP(B:B,[1]库存明细!$D:$H,5,0)","v":262},{"$f":"C2-D2","v":-262}]
["613直发4*4BOB头套10","613STW4*4BOB10",null,{"$f":"VLOOKUP(B:B,[1]库存明细!$D:$H,5,0)","v":36},-36]
["直条4x4发块8","FCSTW8",null,{"$f":"VLOOKUP(B:B,[1]库存明细!$D:$H,5,0)","v":13},-13]
["直条4x4发块10","FCSTW10",null,{"$f":"VLOOKUP(B:B,[1]库存明细!$D:$H,5,0)","v":42},-42]
["直条4x4发块12","FCSTW12",null,{"$f":"VLOOKUP(B:B,[1]库存明细!$D:$H,5,0)","v":18},-18]
["直条4x4发块14","FCSTW14",null,{"$f":"VLOOKUP(B:B,[1]库存明细!$D:$H,5,0)","v":31},-31]
["直条4x4发块16","FCSTW16",null,{"$f":"VLOOKUP(B:B,[1]库存明细!$D:$H,5,0)","v":25},-25]
["直条4x4发块18","FCSTW18",null,{"$f":"VLOOKUP(B:B,[1]库存明细!$D:$H,5,0)","v":23},-23]
["直条4x4发块20","FCSTW20",null,{"$f":"VLOOKUP(B:B,[1]库存明细!$D:$H,5,0)","v":21},-21]
["中分直条4x4发块8","MCSTW8",null,{"$f":"VLOOKUP(B:B,[1]库存明细!$D:$H,5,0)","v":9},-9]
["中分直条4x4发块10","MCSTW10",null,{"$f":"VLOOKUP(B:B,[1]库存明细!$D:$H,5,0)","v":14},-14]
["中分直条4x4发块12","MCSTW12",null,{"$f":"VLOOKUP(B:B,[1]库存明细!$D:$H,5,0)","v":8},-8]
["中分直条4x4发块14","MCSTW14",null,{"$f":"VLOOKUP(B:B,[1]库存明细!$D:$H,5,0)","v":29},-29]
["中分直条4x4发块16","MCSTW16",null,{"$f":"VLOOKUP(B:B,[1]库存明细!$D:$H,5,0)","v":13},-13]
["中分直条4x4发块18","MCSTW18",null,{"$f":"VLOOKUP(B:B,[1]库存明细!$D:$H,5,0)","v":28},-28]
["中分直条4x4发块20","MCSTW20",null,{"$f":"VLOOKUP(B:B,[1]库存明细!$D:$H,5,0)","v":20},-20]
["直条5x5发块10","FC5*5STW10",null,{"$f":"VLOOKUP(B:B,[1]库存明细!$D:$H,5,0)","v":10},-10]
["直条5x5发块12","FC5*5STW12",null,{"$f":"VLOOKUP(B:B,[1]库存明细!$D:$H,5,0)","v":12},-12]
["直条5x5发块14","FC5*5STW14",null,{"$f":"VLOOKUP(B:B,[1]库存明细!$D:$H,5,0)","v":20},-20]
["直条5x5发块16","FC5*5STW16",null,{"$f":"VLOOKUP(B:B,[1]库存明细!$D:$H,5,0)","v":16},-16]
["直条5x5发块18","FC5*5STW18",null,{"$f":"VLOOKUP(B:B,[1]库存明细!$D:$H,5,0)","v":19},-19]
["直条5x5发块20","FC5*5STW20",null,{"$f":"VLOOKUP(B:B,[1]库存明细!$D:$H,5,0)","v":17},-17]
["中分直条5x5发块10","MC5*5STW10",null,{"$f":"VLOOKUP(B:B,[1]库存明细!$D:$H,5,0)","v":7},-7]
["中分直条5x5发块12","MC5*5STW12",null,{"$f":"VLOOKUP(B:B,[1]库存明细!$D:$H,5,0)","v":12},-12]
["中分直条5x5发块14","MC5*5STW14",null,{"$f":"VLOOKUP(B:B,[1]库存明细!$D:$H,5,0)","v":10},-10]
["中分直条5x5发块16","MC5*5STW16",null,{"$f":"VLOOKUP(B:B,[1]库存明细!$D:$H,5,0)","v":12},-12]
["中分直条5x5发块18","MC5*5STW18",null,{"$f":"VLOOKUP(B:B,[1]库存明细!$D:$H,5,0)","v":18},-18]
["中分直条5x5发块20","MC5*5STW20",null,{"$f":"VLOOKUP(B:B,[1]库存明细!$D:$H,5,0)","v":12},-12]
["直条6*6自由分发块12","FC6*6STW12",null,{"$f":"VLOOKUP(B:B,[1]库存明细!$D:$H,5,0)","v":18},-18]
["直条6*6自由分发块14","FC6*6STW14",null,{"$f":"VLOOKUP(B:B,[1]库存明细!$D:$H,5,0)","v":14},-14]
["直条6*6自由分发块16","FC6*6STW16",null,{"$f":"VLOOKUP(B:B,[1]库存明细!$D:$H,5,0)","v":16},-16]
["直条6*6自由分发块18","FC6*6STW18",null,{"$f":"VLOOKUP(B:B,[1]库存明细!$D:$H,5,0)","v":21},-21]
["直条6*6自由分发块20","FC6*6STW20",null,{"$f":"VLOOKUP(B:B,[1]库存明细!$D:$H,5,0)","v":9},-9]
["中分直条6*6发块10","MC6*6STW10",null,{"$f":"VLOOKUP(B:B,[1]库存明细!$D:$H,5,0)","v":5},-5]
["中分直条6*6发块12","MC6*6STW12",null,{"$f":"VLOOKUP(B:B,[1]库存明细!$D:$H,5,0)","v":10},-10]
["中分直条6*6发块14","MC6*6STW14",null,{"$f":"VLOOKUP(B:B,[1]库存明细!$D:$H,5,0)","v":9},-9]
["中分直条6*6发块16","MC6*6STW16",null,{"$f":"VLOOKUP(B:B,[1]库存明细!$D:$H,5,0)","v":11},-11]
["中分直条6*6发块18","MC6*6STW18",null,{"$f":"VLOOKUP(B:B,[1]库存明细!$D:$H,5,0)","v":27},-27]
["中分直条6*6发块20","MC6*6STW20",null,{"$f":"VLOOKUP(B:B,[1]库存明细!$D:$H,5,0)","v":9},-9]
["直发蕾丝前头8","FROSTW8",null,{"$f":"VLOOKUP(B:B,[1]库存明细!$D:$H,5,0)","v":24},-24]
["直发蕾丝前头10","FROSTW10",null,{"$f":"VLOOKUP(B:B,[1]库存明细!$D:$H,5,0)","v":41},-41]
["直发蕾丝前头12","FROSTW12",null,{"$f":"VLOOKUP(B:B,[1]库存明细!$D:$H,5,0)","v":29},-29]
["直发蕾丝前头14","FROSTW14",null,{"$f":"VLOOKUP(B:B,[1]库存明细!$D:$H,5,0)","v":11},-11]
["直发蕾丝前头16","FROSTW16",null,{"$f":"VLOOKUP(B:B,[1]库存明细!$D:$H,5,0)","v":10},-10]
["直发蕾丝前头18","FROSTW18",null,{"$f":"VLOOKUP(B:B,[1]库存明细!$D:$H,5,0)","v":24},-24]
["直发蕾丝前头20","FROSTW20",null,{"$f":"VLOOKUP(B:B,[1]库存明细!$D:$H,5,0)","v":25},-25]
["直条13*6大前头10","FRO13*6STW10",null,{"$f":"VLOOKUP(B:B,[1]库存明细!$D:$H,5,0)","v":12},-12]
["直条13*6大前头12","FRO13*6STW12",null,{"$f":"VLOOKUP(B:B,[1]库存明细!$D:$H,5,0)","v":11},-11]
["直条13*6大前头14","FRO13*6STW14",null,{"$f":"VLOOKUP(B:B,[1]库存明细!$D:$H,5,0)","v":7},-7]
["直条13*6大前头16","FRO13*6STW16",null,{"$f":"VLOOKUP(B:B,[1]库存明细!$D:$H,5,0)","v":6},-6]
["直条13*6大前头18","FRO13*6STW18",null,{"$f":"VLOOKUP(B:B,[1]库存明细!$D:$H,5,0)","v":8},-8]
["直条13*6大前头20","FRO13*6STW20",null,{"$f":"VLOOKUP(B:B,[1]库存明细!$D:$H,5,0)","v":13},-13]
["直发单条8","STW8",null,{"$f":"VLOOKUP(B:B,[1]库存明细!$D:$H,5,0)","v":23},-23]
["直发单条10","STW10",null,{"$f":"VLOOKUP(B:B,[1]库存明细!$D:$H,5,0)","v":38},-38]
["直发单条12","STW12",null,{"$f":"VLOOKUP(B:B,[1]库存明细!$D:$H,5,0)","v":62},-62]
["直发单条14","STW14",null,{"$f":"VLOOKUP(B:B,[1]库存明细!$D:$H,5,0)","v":48},-48]
["直发单条16","STW16",null,{"$f":"VLOOKUP(B:B,[1]库存明细!$D:$H,5,0)","v":59},-59]
["直发单条18","STW18",null,{"$f":"VLOOKUP(B:B,[1]库存明细!$D:$H,5,0)","v":88},-88]
["直发单条20","STW20",null,{"$f":"VLOOKUP(B:B,[1]库存明细!$D:$H,5,0)","v":83},-83]
["直发单条22","STW22",null,{"$f":"VLOOKUP(B:B,[1]库存明细!$D:$H,5,0)","v":77},-77]
["直发单条24","STW24",null,{"$f":"VLOOKUP(B:B,[1]库存明细!$D:$H,5,0)","v":147},-147]
["直发单条26","STW26",null,{"$f":"VLOOKUP(B:B,[1]库存明细!$D:$H,5,0)","v":38},-38]
["直发单条28","STW28",null,{"$f":"VLOOKUP(B:B,[1]库存明细!$D:$H,5,0)","v":35},-35]
["直发单条30","STW30",null,{"$f":"VLOOKUP(B:B,[1]库存明细!$D:$H,5,0)","v":25},-25]
["直条2x6发块10","MC2*6STW10",null,{"$f":"VLOOKUP(B:B,[1]库存明细!$D:$H,5,0)","v":15},{"$f":"C66-D66","v":-15}]
["直条2x6发块12","MC2*6STW12",null,{"$f":"VLOOKUP(B:B,[1]库存明细!$D:$H,5,0)","v":14},-14]
["直条2x6发块14","MC2*6STW14",null,{"$f":"VLOOKUP(B:B,[1]库存明细!$D:$H,5,0)","v":15},-15]
["直条2x6发块16","MC2*6STW16",null,{"$f":"VLOOKUP(B:B,[1]库存明细!$D:$H,5,0)","v":10},-10]
["直条2x6发块18","MC2*6STW18",null,{"$f":"VLOOKUP(B:B,[1]库存明细!$D:$H,5,0)","v":12},-12]
["直条2x6发块20","MC2*6STW20",null,{"$f":"VLOOKUP(B:B,[1]库存明细!$D:$H,5,0)","v":6},-6]
["直条4*4三分发块10","TCSTW10",null,{"$f":"VLOOKUP(B:B,[1]库存明细!$D:$H,5,0)","v":8},-8]
["直条4*4三分发块12","TCSTW12",null,{"$f":"VLOOKUP(B:B,[1]库存明细!$D:$H,5,0)","v":5},-5]
["直条4*4三分发块14","TCSTW14",null,{"$f":"VLOOKUP(B:B,[1]库存明细!$D:$H,5,0)","v":6},-6]
["直条4*4三分发块16","TCSTW16",null,{"$f":"VLOOKUP(B:B,[1]库存明细!$D:$H,5,0)","v":11},-11]
["直条4*4三分发块18","TCSTW18",null,{"$f":"VLOOKUP(B:B,[1]库存明细!$D:$H,5,0)","v":13},-13]
["直条4*4三分发块20","TCSTW20",null,{"$f":"VLOOKUP(B:B,[1]库存明细!$D:$H,5,0)","v":8},-8]
["透明直发蕾丝前头12","TRFROSTW12",null,{"$f":"VLOOKUP(B:B,[1]库存明细!$D:$H,5,0)","v":5},-5]
["透明直发蕾丝前头14","TRFROSTW14",null,{"$f":"VLOOKUP(B:B,[1]库存明细!$D:$H,5,0)","v":28},-28]
["透明直发蕾丝前头16","TRFROSTW16",null,{"$f":"VLOOKUP(B:B,[1]库存明细!$D:$H,5,0)","v":12},-12]
["透明直发蕾丝前头18","TRFROSTW18",null,{"$f":"VLOOKUP(B:B,[1]库存明细!$D:$H,5,0)","v":14},-14]
["透明直发蕾丝前头20","TRFROSTW20",null,{"$f":"VLOOKUP(B:B,[1]库存明细!$D:$H,5,0)","v":30},-30]
["透明直条4x4发块8","TRFCSTW8",null,{"$f":"VLOOKUP(B:B,[1]库存明细!$D:$H,5,0)","v":7},-7]
["透明直条4x4发块10","TRFCSTW10",null,{"$f":"VLOOKUP(B:B,[1]库存明细!$D:$H,5,0)","v":8},-8]
["透明直条4x4发块12","TRFCSTW12",null,{"$f":"VLOOKUP(B:B,[1]库存明细!$D:$H,5,0)","v":13},-13]
["透明直条4x4发块14","TRFCSTW14",null,{"$f":"VLOOKUP(B:B,[1]库存明细!$D:$H,5,0)","v":11},-11]
["透明直条4x4发块16","TRFCSTW16",null,{"$f":"VLOOKUP(B:B,[1]库存明细!$D:$H,5,0)","v":14},-14]
["透明直条4x4发块18","TRFCSTW18",null,{"$f":"VLOOKUP(B:B,[1]库存明细!$D:$H,5,0)","v":27},-27]
["透明直条4x4发块20","TRFCSTW20",null,{"$f":"VLOOKUP(B:B,[1]库存明细!$D:$H,5,0)","v":10},-10]
["BODY4X4发块8","FCBW8",null,{"$f":"VLOOKUP(B:B,[1]库存明细!$D:$H,5,0)","v":15},-15]
["BODY4X4发块10","FCBW10",null,{"$f":"VLOOKUP(B:B,[1]库存明细!$D:$H,5,0)","v":17},-17]
["BODY4X4发块12","FCBW12",null,{"$f":"VLOOKUP(B:B,[1]库存明细!$D:$H,5,0)","v":32},-32]
["BODY4X4发块14","FCBW14",null,{"$f":"VLOOKUP(B:B,[1]库存明细!$D:$H,5,0)","v":28},-28]
["BODY4X4发块16","FCBW16",null,{"$f":"VLOOKUP(B:B,[1]库存明细!$D:$H,5,0)","v":29},-29]
["BODY4X4发块18","FCBW18",null,{"$f":"VLOOKUP(B:B,[1]库存明细!$D:$H,5,0)","v":32},-32]
["BODY4X4发块20","FCBW20",null,{"$f":"VLOOKUP(B:B,[1]库存明细!$D:$H,5,0)","v":16},-16]
["中分BODY4X4发块8","MCBW8",null,{"$f":"VLOOKUP(B:B,[1]库存明细!$D:$H,5,0)","v":14},-14]
["中分BODY4X4发块10","MCBW10",null,{"$f":"VLOOKUP(B:B,[1]库存明细!$D:$H,5,0)","v":28},-28]
["中分BODY4X4发块12","MCBW12",null,{"$f":"VLOOKUP(B:B,[1]库存明细!$D:$H,5,0)","v":10},-10]
["中分BODY4X4发块14","MCBW14",null,{"$f":"VLOOKUP(B:B,[1]库存明细!$D:$H,5,0)","v":25},-25]
["中分BODY4X4发块16","MCBW16",null,{"$f":"VLOOKUP(B:B,[1]库存明细!$D:$H,5,0)","v":15},-15]
["中分BODY4X4发块18","MCBW18",null,{"$f":"VLOOKUP(B:B,[1]库存明细!$D:$H,5,0)","v":13},-13]
["中分BODY4X4发块20","MCBW20",null,{"$f":"VLOOKUP(B:B,[1]库存明细!$D:$H,5,0)","v":18},-18]
["BODY5X5发块10","FC5*5BW10",null,{"$f":"VLOOKUP(B:B,[1]库存明细!$D:$H,5,0)","v":5},-5]
["BODY5X5发块12","FC5*5BW12",null,{"$f":"VLOOKUP(B:B,[1]库存明细!$D:$H,5,0)","v":15},-15]
["BODY5X5发块14","FC5*5BW14",null,{"$f":"VLOOKUP(B:B,[1]库存明细!$D:$H,5,0)","v":15},-15]
["BODY5X5发块16","FC5*5BW16",null,{"$f":"VLOOKUP(B:B,[1]库存明细!$D:$H,5,0)","v":14},-14]
["BODY5X5发块18","FC5*5BW18",null,{"$f":"VLOOKUP(B:B,[1]库存明细!$D:$H,5,0)","v":12},-12]
["BODY5X5发块20","FC5*5BW20",null,{"$f":"VLOOKUP(B:B,[1]库存明细!$D:$H,5,0)","v":15},-15]
["BODY5*5中分发块10","MC5*5BW10",null,{"$f":"VLOOKUP(B:B,[1]库存明细!$D:$H,5,0)","v":7},-7]
["BODY5*5中分发块12","MC5*5BW12",null,{"$f":"VLOOKUP(B:B,[1]库存明细!$D:$H,5,0)","v":8},-8]
["BODY5*5中分发块14","MC5*5BW14",null,{"$f":"VLOOKUP(B:B,[1]库存明细!$D:$H,5,0)","v":11},-11]
["BODY5*5中分发块16","MC5*5BW16",null,{"$f":"VLOOKUP(B:B,[1]库存明细!$D:$H,5,0)","v":9},-9]
["BODY5*5中分发块18","MC5*5BW18",null,{"$f":"VLOOKUP(B:B,[1]库存明细!$D:$H,5,0)","v":14},-14]
["BODY5*5中分发块20","MC5*5BW20",null,{"$f":"VLOOKUP(B:B,[1]库存明细!$D:$H,5,0)","v":6},-6]
["BODY6*6自由分发块10","FC6*6BW10",null,{"$f":"VLOOKUP(B:B,[1]库存明细!$D:$H,5,0)","v":9},-9]
["BODY6*6自由分发块12","FC6*6BW12",null,{"$f":"VLOOKUP(B:B,[1]库存明细!$D:$H,5,0)","v":18},-18]
["BODY6*6自由分发块14","FC6*6BW14",null,{"$f":"VLOOKUP(B:B,[1]库存明细!$D:$H,5,0)","v":13},-13]
["BODY6*6自由分发块16","FC6*6BW16",null,{"$f":"VLOOKUP(B:B,[1]库存明细!$D:$H,5,0)","v":11},-11]
["BODY6*6自由分发块18","FC6*6BW18",null,{"$f":"VLOOKUP(B:B,[1]库存明细!$D:$H,5,0)","v":9},-9]
["BODY6*6自由分发块20","FC6*6BW20",null,{"$f":"VLOOKUP(B:B,[1]库存明细!$D:$H,5,0)","v":11},-11]
["中分BODY6*6发块10","MC6*6BW10",null,{"$f":"VLOOKUP(B:B,[1]库存明细!$D:$H,5,0)","v":5},-5]
["中分BODY6*6发块12","MC6*6BW12",null,{"$f":"VLOOKUP(B:B,[1]库存明细!$D:$H,5,0)","v":5},-5]
["中分BODY6*6发块14","MC6*6BW14",null,{"$f":"VLOOKUP(B:B,[1]库存明细!$D:$H,5,0)","v":7},-7]
["中分BODY6*6发块16","MC6*6BW16",null,{"$f":"VLOOKUP(B:B,[1]库存明细!$D:$H,5,0)","v":12},-12]
["中分BODY6*6发块18","MC6*6BW18",null,{"$f":"VLOOKUP(B:B,[1]库存明细!$D:$H,5,0)","v":8},-8]
["中分BODY6*6发块20","MC6*6BW20",null,{"$f":"VLOOKUP(B:B,[1]库存明细!$D:$H,5,0)","v":14},-14]
["BODY蕾丝前头8","FROBW8",null,{"$f":"VLOOKUP(B:B,[1]库存明细!$D:$H,5,0)","v":9},-9]
["BODY蕾丝前头10","FROBW10",null,{"$f":"VLOOKUP(B:B,[1]库存明细!$D:$H,5,0)","v":39},-39]
["BODY蕾丝前头12","FROBW12",null,{"$f":"VLOOKUP(B:B,[1]库存明细!$D:$H,5,0)","v":20},{"$f":"C130-D130","v":-20}]
["BODY蕾丝前头14","FROBW14",null,{"$f":"VLOOKUP(B:B,[1]库存明细!$D:$H,5,0)","v":27},-27]
["BODY蕾丝前头16","FROBW16",null,{"$f":"VLOOKUP(B:B,[1]库存明细!$D:$H,5,0)","v":23},-23]
["BODY蕾丝前头18","FROBW18",null,{"$f":"VLOOKUP(B:B,[1]库存明细!$D:$H,5,0)","v":24},-24]
["BODY蕾丝前头20","FROBW20",null,{"$f":"VLOOKUP(B:B,[1]库存明细!$D:$H,5,0)","v":26},-26]
["BODY13*6大前头10","FRO13*6BW10",null,{"$f":"VLOOKUP(B:B,[1]库存明细!$D:$H,5,0)","v":8},-8]
["BODY13*6大前头12","FRO13*6BW12",null,{"$f":"VLOOKUP(B:B,[1]库存明细!$D:$H,5,0)","v":6},-6]
["BODY13*6大前头14","FRO13*6BW14",null,{"$f":"VLOOKUP(B:B,[1]库存明细!$D:$H,5,0)","v":9},-9]
["BODY13*6大前头16","FRO13*6BW16",null,{"$f":"VLOOKUP(B:B,[1]库存明细!$D:$H,5,0)","v":9},-9]
["BODY13*6大前头18","FRO13*6BW18",null,{"$f":"VLOOKUP(B:B,[1]库存明细!$D:$H,5,0)","v":11},-11]
["BODY13*6大前头20","FRO13*6BW20",null,{"$f":"VLOOKUP(B:B,[1]库存明细!$D:$H,5,0)","v":9},-9]
["BODY单条8","BODY8",null,{"$f":"VLOOKUP(B:B,[1]库存明细!$D:$H,5,0)","v":40},-40]
["BODY单条10","BODY10",null,{"$f":"VLOOKUP(B:B,[1]库存明细!$D:$H,5,0)","v":46},-46]
["BODY单条12","BODY12",null,{"$f":"VLOOKUP(B:B,[1]库存明细!$D:$H,5,0)","v":165},-165]
["BODY单条14","BODY14",null,{"$f":"VLOOKUP(B:B,[1]库存明细!$D:$H,5,0)","v":100},-100]
["BODY单条16","BODY16",null,{"$f":"VLOOKUP(B:B,[1]库存明细!$D:$H,5,0)","v":61},-61]
["BODY单条18","BODY18",null,{"$f":"VLOOKUP(B:B,[1]库存明细!$D:$H,5,0)","v":106},-106]
["BODY单条20","BODY20",null,{"$f":"VLOOKUP(B:B,[1]库存明细!$D:$H,5,0)","v":125},-125]
["BODY单条22","BODY22",null,{"$f":"VLOOKUP(B:B,[1]库存明细!$D:$H,5,0)","v":80},-80]
["BODY单条24","BODY24",null,{"$f":"VLOOKUP(B:B,[1]库存明细!$D:$H,5,0)","v":98},-98]
["BODY单条26","BODY26",null,{"$f":"VLOOKUP(B:B,[1]库存明细!$D:$H,5,0)","v":47},-47]
["BODY单条28","BODY28",null,{"$f":"VLOOKUP(B:B,[1]库存明细!$D:$H,5,0)","v":12},-12]
["BODY单条30","BODY30",null,{"$f":"VLOOKUP(B:B,[1]库存明细!$D:$H,5,0)","v":16},-16]
["BODY2x6发块10","MC2*6BW10",null,{"$f":"VLOOKUP(B:B,[1]库存明细!$D:$H,5,0)","v":8},-8]
["BODY2x6发块12","MC2*6BW12",null,{"$f":"VLOOKUP(B:B,[1]库存明细!$D:$H,5,0)","v":6},-6]
["BODY2x6发块14","MC2*6BW14",null,{"$f":"VLOOKUP(B:B,[1]库存明细!$D:$H,5,0)","v":4},-4]
["BODY2x6发块16","MC2*6BW16",null,{"$f":"VLOOKUP(B:B,[1]库存明细!$D:$H,5,0)","v":9},-9]
["BODY2x6发块18","MC2*6BW18",null,{"$f":"VLOOKUP(B:B,[1]库存明细!$D:$H,5,0)","v":5},-5]
["BODY2x6发块20","MC2*6BW20",null,{"$f":"VLOOKUP(B:B,[1]库存明细!$D:$H,5,0)","v":14},-14]
["BODY4*4三分发块8","TCBW8",null,{"$f":"VLOOKUP(B:B,[1]库存明细!$D:$H,5,0)","v":4},-4]
["BODY4*4三分发块10","TCBW10",null,{"$f":"VLOOKUP(B:B,[1]库存明细!$D:$H,5,0)","v":10},-10]
["BODY4*4三分发块12","TCBW12",null,{"$f":"VLOOKUP(B:B,[1]库存明细!$D:$H,5,0)","v":9},-9]
["BODY4*4三分发块14","TCBW14",null,{"$f":"VLOOKUP(B:B,[1]库存明细!$D:$H,5,0)","v":8},-8]
["BODY4*4三分发块16","TCBW16",null,{"$f":"VLOOKUP(B:B,[1]库存明细!$D:$H,5,0)","v":19},-19]
["BODY4*4三分发块18","TCBW18",null,{"$f":"VLOOKUP(B:B,[1]库存明细!$D:$H,5,0)","v":10},-10]
["BODY4*4三分发块20","TCBW20",null,{"$f":"VLOOKUP(B:B,[1]库存明细!$D:$H,5,0)","v":5},-5]
["透明BODY4X4发块10","TRFCBW10",null,{"$f":"VLOOKUP(B:B,[1]库存明细!$D:$H,5,0)","v":11},-11]
["透明BODY4X4发块12","TRFCBW12",null,{"$f":"VLOOKUP(B:B,[1]库存明细!$D:$H,5,0)","v":14},-14]
["透明BODY4X4发块14","TRFCBW14",null,{"$f":"VLOOKUP(B:B,[1]库存明细!$D:$H,5,0)","v":8},-8]
["透明BODY4X4发块16","TRFCBW16",null,{"$f":"VLOOKUP(B:B,[1]库存明细!$D:$H,5,0)","v":23},-23]
["透明BODY4X4发块18","TRFCBW18",null,{"$f":"VLOOKUP(B:B,[1]库存明细!$D:$H,5,0)","v":19},-19]
["透明BODY4X4发块20","TRFCBW20",null,{"$f":"VLOOKUP(B:B,[1]库存明细!$D:$H,5,0)","v":10},-10]
["透明蕾丝 BODY5*5发块12","TRFC5*5BW12",null,{"$f":"VLOOKUP(B:B,[1]库存明细!$D:$H,5,0)","v":8},-8]
["透明蕾丝 BODY5*5发块14","TRFC5*5BW14",null,{"$f":"VLOOKUP(B:B,[1]库存明细!$D:$H,5,0)","v":9},-9]
["透明蕾丝 BODY5*5发块16","TRFC5*5BW16",null,{"$f":"VLOOKUP(B:B,[1]库存明细!$D:$H,5,0)","v":12},-12]
["透明蕾丝 BODY5*5发块18","TRFC5*5BW18",null,{"$f":"VLOOKUP(B:B,[1]库存明细!$D:$H,5,0)","v":10},-10]
["透明蕾丝 BODY5*5发块20","TRFC5*5BW20",null,{"$f":"VLOOKUP(B:B,[1]库存明细!$D:$H,5,0)","v":7},-7]
["透明BODY蕾丝前头10","TRFROBW10",null,{"$f":"VLOOKUP(B:B,[1]库存明细!$D:$H,5,0)","v":8},-8]
["透明BODY蕾丝前头12","TRFROBW12",null,{"$f":"VLOOKUP(B:B,[1]库存明细!$D:$H,5,0)","v":6},-6]
["透明BODY蕾丝前头14","TRFROBW14",null,{"$f":"VLOOKUP(B:B,[1]库存明细!$D:$H,5,0)","v":17},-17]
["透明BODY蕾丝前头16","TRFROBW16",null,{"$f":"VLOOKUP(B:B,[1]库存明细!$D:$H,5,0)","v":13},-13]
["透明BODY蕾丝前头18","TRFROBW18",null,{"$f":"VLOOKUP(B:B,[1]库存明细!$D:$H,5,0)","v":9},-9]
["透明BODY蕾丝前头20","TRFROBW20",null,{"$f":"VLOOKUP(B:B,[1]库存明细!$D:$H,5,0)","v":9},-9]
["DEEP4*4发块10","FCDEEP10",null,{"$f":"VLOOKUP(B:B,[1]库存明细!$D:$H,5,0)","v":13},-13]
["DEEP4*4发块12","FCDEEP12",null,{"$f":"VLOOKUP(B:B,[1]库存明细!$D:$H,5,0)","v":26},-26]
["DEEP4*4发块14","FCDEEP14",null,{"$f":"VLOOKUP(B:B,[1]库存明细!$D:$H,5,0)","v":27},-27]
["DEEP4*4发块16","FCDEEP16",null,{"$f":"VLOOKUP(B:B,[1]库存明细!$D:$H,5,0)","v":22},-22]
["DEEP4*4发块18","FCDEEP18",null,{"$f":"VLOOKUP(B:B,[1]库存明细!$D:$H,5,0)","v":28},-28]
["DEEP4*4发块20","FCDEEP20",null,{"$f":"VLOOKUP(B:B,[1]库存明细!$D:$H,5,0)","v":14},-14]
["DEEP中分发块10","MCDEEP10",null,{"$f":"VLOOKUP(B:B,[1]库存明细!$D:$H,5,0)","v":10},-10]
["DEEP中分发块12","MCDEEP12",null,{"$f":"VLOOKUP(B:B,[1]库存明细!$D:$H,5,0)","v":10},-10]
["DEEP中分发块14","MCDEEP14",null,{"$f":"VLOOKUP(B:B,[1]库存明细!$D:$H,5,0)","v":23},-23]
["DEEP中分发块16","MCDEEP16",null,{"$f":"VLOOKUP(B:B,[1]库存明细!$D:$H,5,0)","v":8},-8]
["DEEP中分发块18","MCDEEP18",null,{"$f":"VLOOKUP(B:B,[1]库存明细!$D:$H,5,0)","v":16},-16]
["DEEP中分发块20","MCDEEP20",null,{"$f":"VLOOKUP(B:B,[1]库存明细!$D:$H,5,0)","v":14},{"$f":"C194-D194","v":-14}]
["DEEP三分发块10","TCDEEP10",null,{"$f":"VLOOKUP(B:B,[1]库存明细!$D:$H,5,0)","v":7},-7]
["DEEP三分发块12","TCDEEP12",null,{"$f":"VLOOKUP(B:B,[1]库存明细!$D:$H,5,0)","v":12},-12]
["DEEP三分发块14","TCDEEP14",null,{"$f":"VLOOKUP(B:B,[1]库存明细!$D:$H,5,0)","v":7},-7]
["DEEP三分发块16","TCDEEP16",null,{"$f":"VLOOKUP(B:B,[1]库存明细!$D:$H,5,0)","v":9},-9]
["DEEP三分发块18","TCDEEP18",null,{"$f":"VLOOKUP(B:B,[1]库存明细!$D:$H,5,0)","v":11},-11]
["DEEP三分发块20","TCDEEP20",null,{"$f":"VLOOKUP(B:B,[1]库存明细!$D:$H,5,0)","v":9},-9]
["DEEP5x5发块10","FC5*5DEEP10",null,{"$f":"VLOOKUP(B:B,[1]库存明细!$D:$H,5,0)","v":5},-5]
["DEEP5x5发块12","FC5*5DEEP12",null,{"$f":"VLOOKUP(B:B,[1]库存明细!$D:$H,5,0)","v":10},-10]
["DEEP5x5发块14","FC5*5DEEP14",null,{"$f":"VLOOKUP(B:B,[1]库存明细!$D:$H,5,0)","v":9},-9]
["DEEP5x5发块16","FC5*5DEEP16",null,{"$f":"VLOOKUP(B:B,[1]库存明细!$D:$H,5,0)","v":12},-12]
["DEEP5x5发块18","FC5*5DEEP18",null,{"$f":"VLOOKUP(B:B,[1]库存明细!$D:$H,5,0)","v":9},-9]
["DEEP5x5发块20","FC5*5DEEP20",null,{"$f":"VLOOKUP(B:B,[1]库存明细!$D:$H,5,0)","v":8},-8]
["DEEP6*6发块10","FC6*6DEEP10",null,{"$f":"VLOOKUP(B:B,[1]库存明细!$D:$H,5,0)","v":12},-12]
["DEEP6*6发块12","FC6*6DEEP12",null,{"$f":"VLOOKUP(B:B,[1]库存明细!$D:$H,5,0)","v":11},-11]
["DEEP6*6发块14","FC6*6DEEP14",null,{"$f":"VLOOKUP(B:B,[1]库存明细!$D:$H,5,0)","v":5},-5]
["DEEP6*6发块16","FC6*6DEEP16",null,{"$f":"VLOOKUP(B:B,[1]库存明细!$D:$H,5,0)","v":14},-14]
["DEEP6*6发块18","FC6*6DEEP18",null,{"$f":"VLOOKUP(B:B,[1]库存明细!$D:$H,5,0)","v":12},-12]
["DEEP6*6发块20","FC6*6DEEP20",null,{"$f":"VLOOKUP(B:B,[1]库存明细!$D:$H,5,0)","v":18},-18]
["中分DEEP6*6发块10","MC6*6DEEP10",null,{"$f":"VLOOKUP(B:B,[1]库存明细!$D:$H,5,0)","v":5},-5]
["中分DEEP6*6发块12","MC6*6DEEP12",null,{"$f":"VLOOKUP(B:B,[1]库存明细!$D:$H,5,0)","v":4},-4]
["中分DEEP6*6发块14","MC6*6DEEP14",null,{"$f":"VLOOKUP(B:B,[1]库存明细!$D:$H,5,0)","v":5},-5]
["中分DEEP6*6发块16","MC6*6DEEP16",null,{"$f":"VLOOKUP(B:B,[1]库存明细!$D:$H,5,0)","v":12},-12]
["中分DEEP6*6发块18","MC6*6DEEP18",null,{"$f":"VLOOKUP(B:B,[1]库存明细!$D:$H,5,0)","v":8},-8]
["中分DEEP6*6发块20","MC6*6DEEP20",null,{"$f":"VLOOKUP(B:B,[1]库存明细!$D:$H,5,0)","v":5},-5]
["DEEP13*4前头8","FRODEEP8",null,{"$f":"VLOOKUP(B:B,[1]库存明细!$D:$H,5,0)","v":4},-4]
["DEEP13*4前头10","FRODEEP10",null,{"$f":"VLOOKUP(B:B,[1]库存明细!$D:$H,5,0)","v":15},-15]
["DEEP13*4前头12","FRODEEP12",null,{"$f":"VLOOKUP(B:B,[1]库存明细!$D:$H,5,0)","v":13},-13]
["DEEP13*4前头14","FRODEEP14",null,{"$f":"VLOOKUP(B:B,[1]库存明细!$D:$H,5,0)","v":16},-16]
["DEEP13*4前头16","FRODEEP16",null,{"$f":"VLOOKUP(B:B,[1]库存明细!$D:$H,5,0)","v":1},-1]
["DEEP13*4前头18","FRODEEP18",null,{"$f":"VLOOKUP(B:B,[1]库存明细!$D:$H,5,0)","v":22},-22]
["DEEP13*4前头20","FRODEEP20",null,{"$f":"VLOOKUP(B:B,[1]库存明细!$D:$H,5,0)","v":23},-23]
["DEEP单条8","DEEP8",null,{"$f":"VLOOKUP(B:B,[1]库存明细!$D:$H,5,0)","v":15},-15]
["DEEP单条10","DEEP10",null,{"$f":"VLOOKUP(B:B,[1]库存明细!$D:$H,5,0)","v":66},-66]
["DEEP单条12","DEEP12",null,{"$f":"VLOOKUP(B:B,[1]库存明细!$D:$H,5,0)","v":26},-26]
["DEEP单条14","DEEP14",null,{"$f":"VLOOKUP(B:B,[1]库存明细!$D:$H,5,0)","v":32},-32]
["DEEP单条16","DEEP16",null,{"$f":"VLOOKUP(B:B,[1]库存明细!$D:$H,5,0)","v":29},-29]
["DEEP单条18","DEEP18",null,{"$f":"VLOOKUP(B:B,[1]库存明细!$D:$H,5,0)","v":52},-52]
["DEEP单条20","DEEP20",null,{"$f":"VLOOKUP(B:B,[1]库存明细!$D:$H,5,0)","v":84},-84]
["DEEP单条22","DEEP22",null,{"$f":"VLOOKUP(B:B,[1]库存明细!$D:$H,5,0)","v":54},-54]
["DEEP单条24","DEEP24",null,{"$f":"VLOOKUP(B:B,[1]库存明细!$D:$H,5,0)","v":39},-39]
["DEEP单条26","DEEP26",null,{"$f":"VLOOKUP(B:B,[1]库存明细!$D:$H,5,0)","v":45},-45]
["DEEP单条28","DEEP28",null,{"$f":"VLOOKUP(B:B,[1]库存明细!$D:$H,5,0)","v":16},-16]
["DEEP单条30","DEEP30",null,{"$f":"VLOOKUP(B:B,[1]库存明细!$D:$H,5,0)","v":13},-13]
["LOOSEDEEP4*4发块10","FCLSDP10",null,{"$f":"VLOOKUP(B:B,[1]库存明细!$D:$H,5,0)","v":12},-12]
["LOOSEDEEP4*4发块12","FCLSDP12",null,{"$f":"VLOOKUP(B:B,[1]库存明细!$D:$H,5,0)","v":11},-11]
["LOOSEDEEP4*4发块14","FCLSDP14",null,{"$f":"VLOOKUP(B:B,[1]库存明细!$D:$H,5,0)","v":11},-11]
["LOOSEDEEP4*4发块16","FCLSDP16",null,{"$f":"VLOOKUP(B:B,[1]库存明细!$D:$H,5,0)","v":14},-14]
["LOOSEDEEP4*4发块18","FCLSDP18",null,{"$f":"VLOOKUP(B:B,[1]库存明细!$D:$H,5,0)","v":8},-8]
["LOOSEDEEP4*4发块20","FCLSDP20",null,{"$f":"VLOOKUP(B:B,[1]库存明细!$D:$H,5,0)","v":16},-16]
["LOOSEDEEP中分发块10","MCLSDP10",null,{"$f":"VLOOKUP(B:B,[1]库存明细!$D:$H,5,0)","v":13},-13]
["LOOSEDEEP中分发块12","MCLSDP12",null,{"$f":"VLOOKUP(B:B,[1]库存明细!$D:$H,5,0)","v":7},-7]
["LOOSEDEEP中分发块14","MCLSDP14",null,{"$f":"VLOOKUP(B:B,[1]库存明细!$D:$H,5,0)","v":12},-12]
["LOOSEDEEP中分发块16","MCLSDP16",null,{"$f":"VLOOKUP(B:B,[1]库存明细!$D:$H,5,0)","v":12},-12]
["LOOSEDEEP中分发块18","MCLSDP18",null,{"$f":"VLOOKUP(B:B,[1]库存明细!$D:$H,5,0)","v":7},-7]
["LOOSEDEEP中分发块20","MCLSDP20",null,{"$f":"VLOOKUP(B:B,[1]库存明细!$D:$H,5,0)","v":10},-10]
["LOOSEDEEP5x5发块10","FC5*5LSDP10",null,{"$f":"VLOOKUP(B:B,[1]库存明细!$D:$H,5,0)","v":6},-6]
["LOOSEDEEP5x5发块12","FC5*5LSDP12",null,{"$f":"VLOOKUP(B:B,[1]库存明细!$D:$H,5,0)","v":9},-9]
["LOOSEDEEP5x5发块14","FC5*5LSDP14",null,{"$f":"VLOOKUP(B:B,[1]库存明细!$D:$H,5,0)","v":7},-7]
["LOOSEDEEP5x5发块16","FC5*5LSDP16",null,{"$f":"VLOOKUP(B:B,[1]库存明细!$D:$H,5,0)","v":7},-7]
["LOOSEDEEP5x5发块18","FC5*5LSDP18",null,{"$f":"VLOOKUP(B:B,[1]库存明细!$D:$H,5,0)","v":11},-11]
["LOOSEDEEP5x5发块20","FC5*5LSDP20",null,{"$f":"VLOOKUP(B:B,[1]库存明细!$D:$H,5,0)","v":8},-8]
["LooseDeep6*6自由分发块12","FC6*6LSDP12",null,{"$f":"VLOOKUP(B:B,[1]库存明细!$D:$H,5,0)","v":3},-3]
["LOOSEDEEP6*6发块14","FC6*6LSDP14",null,{"$f":"VLOOKUP(B:B,[1]库存明细!$D:$H,5,0)","v":11},-11]
["LOOSEDEEP6*6发块16","FC6*6LSDP16",null,{"$f":"VLOOKUP(B:B,[1]库存明细!$D:$H,5,0)","v":22},{"$f":"C258-D258","v":-22}]
["LOOSEDEEP6*6发块18","FC6*6LSDP18",null,{"$f":"VLOOKUP(B:B,[1]库存明细!$D:$H,5,0)","v":16},-16]
["LOOSEDEEP6*6发块20","FC6*6LSDP20",null,{"$f":"VLOOKUP(B:B,[1]库存明细!$D:$H,5,0)","v":2},-2]
["LOOSEDEEP13*4前头10","FROLSDP10",null,{"$f":"VLOOKUP(B:B,[1]库存明细!$D:$H,5,0)","v":26},-26]
["LOOSEDEEP13*4前头12","FROLSDP12",null,{"$f":"VLOOKUP(B:B,[1]库存明细!$D:$H,5,0)","v":19},-19]
["LOOSEDEEP13*4前头14","FROLSDP14",null,{"$f":"VLOOKUP(B:B,[1]库存明细!$D:$H,5,0)","v":21},-21]
["LOOSEDEEP13*4前头16","FROLSDP16",null,{"$f":"VLOOKUP(B:B,[1]库存明细!$D:$H,5,0)","v":14},-14]
["LOOSEDEEP13*4前头18","FROLSDP18",null,{"$f":"VLOOKUP(B:B,[1]库存明细!$D:$H,5,0)","v":14},-14]
["LOOSEDEEP13*4前头20","FROLSDP20",null,{"$f":"VLOOKUP(B:B,[1]库存明细!$D:$H,5,0)","v":7},-7]
["LOOSEDEEP单条8","LOOSEDEEP8",null,{"$f":"VLOOKUP(B:B,[1]库存明细!$D:$H,5,0)","v":0},0]
["LOOSEDEEP单条10","LOOSEDEEP10",null,{"$f":"VLOOKUP(B:B,[1]库存明细!$D:$H,5,0)","v":39},-39]
["LOOSEDEEP单条12","LOOSEDEEP12",null,{"$f":"VLOOKUP(B:B,[1]库存明细!$D:$H,5,0)","v":10},-10]
["LOOSEDEEP单条14","LOOSEDEEP14",null,{"$f":"VLOOKUP(B:B,[1]库存明细!$D:$H,5,0)","v":14},-14]
["LOOSEDEEP单条16","LOOSEDEEP16",null,{"$f":"VLOOKUP(B:B,[1]库存明细!$D:$H,5,0)","v":36},-36]
["LOOSEDEEP单条18","LOOSEDEEP18",null,{"$f":"VLOOKUP(B:B,[1]库存明细!$D:$H,5,0)","v":32},-32]
["LOOSEDEEP单条20","LOOSEDEEP20",null,{"$f":"VLOOKUP(B:B,[1]库存明细!$D:$H,5,0)","v":28},-28]
["LOOSEDEEP单条22","LOOSEDEEP22",null,{"$f":"VLOOKUP(B:B,[1]库存明细!$D:$H,5,0)","v":25},-25]
["LOOSEDEEP单条24","LOOSEDEEP24",null,{"$f":"VLOOKUP(B:B,[1]库存明细!$D:$H,5,0)","v":15},-15]
["LOOSEDEEP单条26","LOOSEDEEP26",null,{"$f":"VLOOKUP(B:B,[1]库存明细!$D:$H,5,0)","v":7},-7]
["LOOSEDEEP单条28","LOOSEDEEP28",null,{"$f":"VLOOKUP(B:B,[1]库存明细!$D:$H,5,0)","v":10},-10]
["LOOSEDEEP单条30","LOOSEDEEP30",null,{"$f":"VLOOKUP(B:B,[1]库存明细!$D:$H,5,0)","v":12},-12]
["JC单条8","CURLY8",12,{"$f":"VLOOKUP(B:B,[1]库存明细!$D:$H,5,0)","v":14},-2]
["JC单条10","CURLY10",9,{"$f":"VLOOKUP(B:B,[1]库存明细!$D:$H,5,0)","v":11},-2]
["JC单条12","CURLY12",18,{"$f":"VLOOKUP(B:B,[1]库存明细!$D:$H,5,0)","v":19},-1]
["JC单条14","CURLY14",10,{"$f":"VLOOKUP(B:B,[1]库存明细!$D:$H,5,0)","v":16},-6,9]
["JC单条16","CURLY16",41,{"$f":"VLOOKUP(B:B,[1]库存明细!$D:$H,5,0)","v":37},4]
["JC单条18","CURLY18",48,{"$f":"VLOOKUP(B:B,[1]库存明细!$D:$H,5,0)","v":25},23,24]
["JC单条20","CURLY20",15,{"$f":"VLOOKUP(B:B,[1]库存明细!$D:$H,5,0)","v":12},3]
["JC单条22","CURLY22",14,{"$f":"VLOOKUP(B:B,[1]库存明细!$D:$H,5,0)","v":17},-3]
["JC单条24","CURLY24",14,{"$f":"VLOOKUP(B:B,[1]库存明细!$D:$H,5,0)","v":12},2]
["JC单条26","CURLY26",10,{"$f":"VLOOKUP(B:B,[1]库存明细!$D:$H,5,0)","v":13},-3]
["JC单条28","CURLY28",22,{"$f":"VLOOKUP(B:B,[1]库存明细!$D:$H,5,0)","v":12},10,12]
["JC单条30","CURLY30",0,{"$f":"VLOOKUP(B:B,[1]库存明细!$D:$H,5,0)","v":0},0]
["JC13*4前头8","FROJC8",9,{"$f":"VLOOKUP(B:B,[1]库存明细!$D:$H,5,0)","v":9},0]
["JC13*4前头10","FROJC10",10,{"$f":"VLOOKUP(B:B,[1]库存明细!$D:$H,5,0)","v":11},-1]
["JC13*4前头12","FROJC12",30,{"$f":"VLOOKUP(B:B,[1]库存明细!$D:$H,5,0)","v":32},-2]
["JC13*4前头14","FROJC14",6,{"$f":"VLOOKUP(B:B,[1]库存明细!$D:$H,5,0)","v":12},-6,11]
["JC13*4前头16","FROJC16",4,{"$f":"VLOOKUP(B:B,[1]库存明细!$D:$H,5,0)","v":10},-6,9]
["JC13*4前头18","FROJC18",6,{"$f":"VLOOKUP(B:B,[1]库存明细!$D:$H,5,0)","v":8},-2]
["JC13*4前头20","FROJC20",11,{"$f":"VLOOKUP(B:B,[1]库存明细!$D:$H,5,0)","v":8},3]
["JC4*4发块8","FCJC8",5,{"$f":"VLOOKUP(B:B,[1]库存明细!$D:$H,5,0)","v":5},0]
["JC4*4发块10","FCJC10",9,{"$f":"VLOOKUP(B:B,[1]库存明细!$D:$H,5,0)","v":10},-1]
["JC4*4发块12","FCJC12",13,{"$f":"VLOOKUP(B:B,[1]库存明细!$D:$H,5,0)","v":15},-2]
["JC4*4发块14","FCJC14",9,{"$f":"VLOOKUP(B:B,[1]库存明细!$D:$H,5,0)","v":11},-2]
["JC4*4发块16","FCJC16",14,{"$f":"VLOOKUP(B:B,[1]库存明细!$D:$H,5,0)","v":16},-2]
["JC4*4发块18","FCJC18",9,{"$f":"VLOOKUP(B:B,[1]库存明细!$D:$H,5,0)","v":11},-2]
["JC4*4发块20","FCJC20",5,{"$f":"VLOOKUP(B:B,[1]库存明细!$D:$H,5,0)","v":6},-1]
["中分JC4*4发块10","MCJC10",10,{"$f":"VLOOKUP(B:B,[1]库存明细!$D:$H,5,0)","v":10},0]
["中分JC4*4发块12","MCJC12",1,{"$f":"VLOOKUP(B:B,[1]库存明细!$D:$H,5,0)","v":5},-4]
["中分JC4*4发块14","MCJC14",9,{"$f":"VLOOKUP(B:B,[1]库存明细!$D:$H,5,0)","v":9},0]
["中分JC4*4发块16","MCJC16",10,{"$f":"VLOOKUP(B:B,[1]库存明细!$D:$H,5,0)","v":10},0]
["中分JC4*4发块18","MCJC18",4,{"$f":"VLOOKUP(B:B,[1]库存明细!$D:$H,5,0)","v":4},0]
["中分JC4*4发块20","MCJC20",4,{"$f":"VLOOKUP(B:B,[1]库存明细!$D:$H,5,0)","v":6},-2]
["YAKI单条10","YAKI10",null,{"$f":"VLOOKUP(B:B,[1]库存明细!$D:$H,5,0)","v":11},-11]
["YAKI单条12","YAKI12",null,{"$f":"VLOOKUP(B:B,[1]库存明细!$D:$H,5,0)","v":28},-28]
["YAKI单条14","YAKI14",null,{"$f":"VLOOKUP(B:B,[1]库存明细!$D:$H,5,0)","v":16},-16]
["YAKI单条16","YAKI16",null,{"$f":"VLOOKUP(B:B,[1]库存明细!$D:$H,5,0)","v":36},-36]
["YAKI单条18","YAKI18",null,{"$f":"VLOOKUP(B:B,[1]库存明细!$D:$H,5,0)","v":35},-35]
["YAKI单条20","YAKI20",null,{"$f":"VLOOKUP(B:B,[1]库存明细!$D:$H,5,0)","v":21},-21]
["YAKI单条22","YAKI22",null,{"$f":"VLOOKUP(B:B,[1]库存明细!$D:$H,5,0)","v":17},-17]
["YAKI单条24","YAKI24",null,{"$f":"VLOOKUP(B:B,[1]库存明细!$D:$H,5,0)","v":14},-14]
["YAKI单条26","YAKI26",null,{"$f":"VLOOKUP(B:B,[1]库存明细!$D:$H,5,0)","v":14},-14]
["YAKI单条28","YAKI28",null,{"$f":"VLOOKUP(B:B,[1]库存明细!$D:$H,5,0)","v":15},-15]
["YAKI单条30","YAKI30",null,{"$f":"VLOOKUP(B:B,[1]库存明细!$D:$H,5,0)","v":17},-17]
["YAKI4*4发块10","FCYAKI10",null,{"$f":"VLOOKUP(B:B,[1]库存明细!$D:$H,5,0)","v":4},{"$f":"C322-D322","v":-4}]
["YAKI4*4发块12","FCYAKI12",null,{"$f":"VLOOKUP(B:B,[1]库存明细!$D:$H,5,0)","v":13},-13]
["YAKI4*4发块14","FCYAKI14",null,{"$f":"VLOOKUP(B:B,[1]库存明细!$D:$H,5,0)","v":8},-8]
["YAKI4*4发块16","FCYAKI16",null,{"$f":"VLOOKUP(B:B,[1]库存明细!$D:$H,5,0)","v":10},-10]
["YAKI4*4发块18","FCYAKI18",null,{"$f":"VLOOKUP(B:B,[1]库存明细!$D:$H,5,0)","v":5},-5]
["YAKI4*4发块20","FCYAKI20",null,{"$f":"VLOOKUP(B:B,[1]库存明细!$D:$H,5,0)","v":8},-8]
["YAKI13*4前头10","FROYAKI10",null,{"$f":"VLOOKUP(B:B,[1]库存明细!$D:$H,5,0)","v":8},-8]
["YAKI13*4前头12","FROYAKI12",null,{"$f":"VLOOKUP(B:B,[1]库存明细!$D:$H,5,0)","v":7},-7]
["YAKI13*4前头14","FROYAKI14",null,{"$f":"VLOOKUP(B:B,[1]库存明细!$D:$H,5,0)","v":14},-14]
["YAKI13*4前头16","FROYAKI16",null,{"$f":"VLOOKUP(B:B,[1]库存明细!$D:$H,5,0)","v":10},-10]
["YAKI13*4前头18","FROYAKI18",null,{"$f":"VLOOKUP(B:B,[1]库存明细!$D:$H,5,0)","v":8},-8]
["YAKI13*4前头20","FROYAKI20",null,{"$f":"VLOOKUP(B:B,[1]库存明细!$D:$H,5,0)","v":9},-9]
["自然曲单条8","WATER8",null,{"$f":"VLOOKUP(B:B,[1]库存明细!$D:$H,5,0)","v":40},-40]
["自然曲单条10","WATER10",null,{"$f":"VLOOKUP(B:B,[1]库存明细!$D:$H,5,0)","v":7},-7]
["自然曲单条12","WATER12",null,{"$f":"VLOOKUP(B:B,[1]库存明细!$D:$H,5,0)","v":16},-16]
["自然曲单条14","WATER14",null,{"$f":"VLOOKUP(B:B,[1]库存明细!$D:$H,5,0)","v":24},-24]
["自然曲单条16","WATER16",null,{"$f":"VLOOKUP(B:B,[1]库存明细!$D:$H,5,0)","v":43},-43]
["自然曲单条18","WATER18",null,{"$f":"VLOOKUP(B:B,[1]库存明细!$D:$H,5,0)","v":22},-22]
["自然曲单条20","WATER20",null,{"$f":"VLOOKUP(B:B,[1]库存明细!$D:$H,5,0)","v":29},-29]
["自然曲单条22","WATER22",null,{"$f":"VLOOKUP(B:B,[1]库存明细!$D:$H,5,0)","v":18},-18]
["自然曲单条24","WATER24",null,{"$f":"VLOOKUP(B:B,[1]库存明细!$D:$H,5,0)","v":14},-14]
["自然曲单条26","WATER26",null,{"$f":"VLOOKUP(B:B,[1]库存明细!$D:$H,5,0)","v":17},-17]
["自然曲单条28","WATER28",null,{"$f":"VLOOKUP(B:B,[1]库存明细!$D:$H,5,0)","v":13},-13]
["自然曲4*4发块8","FCWATER8",null,{"$f":"VLOOKUP(B:B,[1]库存明细!$D:$H,5,0)","v":8},-8]
["自然曲4*4发块10","FCWATER10",null,{"$f":"VLOOKUP(B:B,[1]库存明细!$D:$H,5,0)","v":17},-17]
["自然曲4*4发块12","FCWATER12",null,{"$f":"VLOOKUP(B:B,[1]库存明细!$D:$H,5,0)","v":15},-15]
["自然曲4*4发块14","FCWATER14",null,{"$f":"VLOOKUP(B:B,[1]库存明细!$D:$H,5,0)","v":11},-11]
["自然曲4*4发块16","FCWATER16",null,{"$f":"VLOOKUP(B:B,[1]库存明细!$D:$H,5,0)","v":9},-9]
["自然曲4*4发块18","FCWATER18",null,{"$f":"VLOOKUP(B:B,[1]库存明细!$D:$H,5,0)","v":11},-11]
["自然曲4*4发块20","FCWATER20",null,{"$f":"VLOOKUP(B:B,[1]库存明细!$D:$H,5,0)","v":18},-18]
["中分自然曲4*4发块10","MCWATER10",null,{"$f":"VLOOKUP(B:B,[1]库存明细!$D:$H,5,0)","v":9},-9]
["中分自然曲4*4发块12","MCWATER12",null,{"$f":"VLOOKUP(B:B,[1]库存明细!$D:$H,5,0)","v":6},-6]
["中分自然曲4*4发块14","MCWATER14",null,{"$f":"VLOOKUP(B:B,[1]库存明细!$D:$H,5,0)","v":8},-8]
["中分自然曲4*4发块16","MCWATER16",null,{"$f":"VLOOKUP(B:B,[1]库存明细!$D:$H,5,0)","v":15},-15]
["中分自然曲4*4发块18","MCWATER18",null,{"$f":"VLOOKUP(B:B,[1]库存明细!$D:$H,5,0)","v":6},-6]
["中分自然曲4*4发块20","MCWATER20",null,{"$f":"VLOOKUP(B:B,[1]库存明细!$D:$H,5,0)","v":6},-6]
["自然曲4*4三分发块10","TCWATER10",null,{"$f":"VLOOKUP(B:B,[1]库存明细!$D:$H,5,0)","v":11},-11]
["自然曲4*4三分发块12","TCWATER12",null,{"$f":"VLOOKUP(B:B,[1]库存明细!$D:$H,5,0)","v":9},-9]
["自然曲4*4三分发块14","TCWATER14",null,{"$f":"VLOOKUP(B:B,[1]库存明细!$D:$H,5,0)","v":7},-7]
["自然曲4*4三分发块16","TCWATER16",null,{"$f":"VLOOKUP(B:B,[1]库存明细!$D:$H,5,0)","v":8},-8]
["自然曲4*4三分发块18","TCWATER18",null,{"$f":"VLOOKUP(B:B,[1]库存明细!$D:$H,5,0)","v":4},-4]
["自然曲4*4三分发块20","TCWATER20",null,{"$f":"VLOOKUP(B:B,[1]库存明细!$D:$H,5,0)","v":9},-9]
["自然曲6*6发块10","FC6*6WATER10",null,{"$f":"VLOOKUP(B:B,[1]库存明细!$D:$H,5,0)","v":3},-3]
["自然曲6*6发块12","FC6*6WATER12",null,{"$f":"VLOOKUP(B:B,[1]库存明细!$D:$H,5,0)","v":5},-5]
["自然曲6*6发块14","FC6*6WATER14",null,{"$f":"VLOOKUP(B:B,[1]库存明细!$D:$H,5,0)","v":5},-5]
["自然曲6*6发块16","FC6*6WATER16",null,{"$f":"VLOOKUP(B:B,[1]库存明细!$D:$H,5,0)","v":7},-7]
["自然曲6*6发块18","FC6*6WATER18",null,{"$f":"VLOOKUP(B:B,[1]库存明细!$D:$H,5,0)","v":9},-9]
["自然曲6*6发块20","FC6*6WATER20",null,{"$f":"VLOOKUP(B:B,[1]库存明细!$D:$H,5,0)","v":2},-2]
["自然曲13*4前头8","FROWATER8",null,{"$f":"VLOOKUP(B:B,[1]库存明细!$D:$H,5,0)","v":12},-12]
["自然曲13*4前头10","FROWATER10",null,{"$f":"VLOOKUP(B:B,[1]库存明细!$D:$H,5,0)","v":9},-9]
["自然曲13*4前头12","FROWATER12",null,{"$f":"VLOOKUP(B:B,[1]库存明细!$D:$H,5,0)","v":22},-22]
["自然曲13*4前头14","FROWATER14",null,{"$f":"VLOOKUP(B:B,[1]库存明细!$D:$H,5,0)","v":14},-14]
["自然曲13*4前头16","FROWATER16",null,{"$f":"VLOOKUP(B:B,[1]库存明细!$D:$H,5,0)","v":8},-8]
["自然曲13*4前头18","FROWATER18",null,{"$f":"VLOOKUP(B:B,[1]库存明细!$D:$H,5,0)","v":6},-6]
["自然曲13*4前头20","FROWATER20",null,{"$f":"VLOOKUP(B:B,[1]库存明细!$D:$H,5,0)","v":17},-17]
["透明蕾丝 自然曲蕾丝前头12","TRFROWATER12",null,{"$f":"VLOOKUP(B:B,[1]库存明细!$D:$H,5,0)","v":3},-3]
["透明蕾丝 自然曲 蕾丝前头14","TRFROWATER14",null,{"$f":"VLOOKUP(B:B,[1]库存明细!$D:$H,5,0)","v":4},-4]
["透明蕾丝 自然曲 蕾丝前头16","TRFROWATER16",null,{"$f":"VLOOKUP(B:B,[1]库存明细!$D:$H,5,0)","v":4},-4]
["透明蕾丝 自然曲 蕾丝前头18","TRFROWATER18",null,{"$f":"VLOOKUP(B:B,[1]库存明细!$D:$H,5,0)","v":0},0]
["透明蕾丝 自然曲 蕾丝前头20","TRFROWATER20",null,{"$f":"VLOOKUP(B:B,[1]库存明细!$D:$H,5,0)","v":0},0]
["老loose发条10","LOOSE10",null,{"$f":"VLOOKUP(B:B,[1]库存明细!$D:$H,5,0)","v":10},-10]
["老loose发条12","LOOSE12",null,{"$f":"VLOOKUP(B:B,[1]库存明细!$D:$H,5,0)","v":31},-31]
["老loose发条14","LOOSE14",null,{"$f":"VLOOKUP(B:B,[1]库存明细!$D:$H,5,0)","v":22},-22]
["老loose发条16","LOOSE16",null,{"$f":"VLOOKUP(B:B,[1]库存明细!$D:$H,5,0)","v":34},-34]
["老loose发条18","LOOSE18",null,{"$f":"VLOOKUP(B:B,[1]库存明细!$D:$H,5,0)","v":55},{"$f":"C386-D386","v":-55}]
["老loose发条20","LOOSE20",null,{"$f":"VLOOKUP(B:B,[1]库存明细!$D:$H,5,0)","v":41},-41]
["老loose发条22","LOOSE22",null,{"$f":"VLOOKUP(B:B,[1]库存明细!$D:$H,5,0)","v":32},-32]
["老loose发条24","LOOSE24",null,{"$f":"VLOOKUP(B:B,[1]库存明细!$D:$H,5,0)","v":13},-13]
["老loose发条26","LOOSE26",null,{"$f":"VLOOKUP(B:B,[1]库存明细!$D:$H,5,0)","v":16},-16]
["老loose发条28","LOOSE28",null,{"$f":"VLOOKUP(B:B,[1]库存明细!$D:$H,5,0)","v":10},-10]
["老loose自由分发块10","FCLW10",null,{"$f":"VLOOKUP(B:B,[1]库存明细!$D:$H,5,0)","v":10},-10]
["老loose自由分发块12","FCLW12",null,{"$f":"VLOOKUP(B:B,[1]库存明细!$D:$H,5,0)","v":11},-11]
["老loose自由分发块14","FCLW14",null,{"$f":"VLOOKUP(B:B,[1]库存明细!$D:$H,5,0)","v":17},-17]
["老loose自由分发块16","FCLW16",null,{"$f":"VLOOKUP(B:B,[1]库存明细!$D:$H,5,0)","v":16},-16]
["老loose自由分发块18","FCLW18",null,{"$f":"VLOOKUP(B:B,[1]库存明细!$D:$H,5,0)","v":16},-16]
["老loose自由分发块20","FCLW20",null,{"$f":"VLOOKUP(B:B,[1]库存明细!$D:$H,5,0)","v":7},-7]
["老loose中分发块10","MCLW10",null,{"$f":"VLOOKUP(B:B,[1]库存明细!$D:$H,5,0)","v":6},-6]
["老loose中分发块12","MCLW12",null,{"$f":"VLOOKUP(B:B,[1]库存明细!$D:$H,5,0)","v":5},-5]
["老loose中分发块14","MCLW14",null,{"$f":"VLOOKUP(B:B,[1]库存明细!$D:$H,5,0)","v":8},-8]
["老loose中分发块16","MCLW16",null,{"$f":"VLOOKUP(B:B,[1]库存明细!$D:$H,5,0)","v":11},-11]
["老loose中分发块18","MCLW18",null,{"$f":"VLOOKUP(B:B,[1]库存明细!$D:$H,5,0)","v":13},-13]
["老loose中分发块20","MCLW20",null,{"$f":"VLOOKUP(B:B,[1]库存明细!$D:$H,5,0)","v":6},-6]
["老loose蕾丝前头10","FROLW10",null,{"$f":"VLOOKUP(B:B,[1]库存明细!$D:$H,5,0)","v":9},-9]
["老loose蕾丝前头12","FROLW12",null,{"$f":"VLOOKUP(B:B,[1]库存明细!$D:$H,5,0)","v":15},-15]
["老loose蕾丝前头14","FROLW14",null,{"$f":"VLOOKUP(B:B,[1]库存明细!$D:$H,5,0)","v":10},-10]
["老loose蕾丝前头16","FROLW16",null,{"$f":"VLOOKUP(B:B,[1]库存明细!$D:$H,5,0)","v":14},-14]
["老loose蕾丝前头18","FROLW18",null,{"$f":"VLOOKUP(B:B,[1]库存明细!$D:$H,5,0)","v":15},-15]
["老loose蕾丝前头20","FROLW20",null,{"$f":"VLOOKUP(B:B,[1]库存明细!$D:$H,5,0)","v":11},-11]
["kinkycurly单条10","KCURLY10",null,{"$f":"VLOOKUP(B:B,[1]库存明细!$D:$H,5,0)","v":2},-2]
["kinkycurly单条12","KCURLY12",null,{"$f":"VLOOKUP(B:B,[1]库存明细!$D:$H,5,0)","v":1},-1]
["kinkycurly单条14","KCURLY14",null,{"$f":"VLOOKUP(B:B,[1]库存明细!$D:$H,5,0)","v":4},-4]
["kinkycurly单条16","KCURLY16",null,{"$f":"VLOOKUP(B:B,[1]库存明细!$D:$H,5,0)","v":19},-19]
["kinkycurly单条18","KCURLY18",null,{"$f":"VLOOKUP(B:B,[1]库存明细!$D:$H,5,0)","v":16},-16]
["kinkycurly单条20","KCURLY20",null,{"$f":"VLOOKUP(B:B,[1]库存明细!$D:$H,5,0)","v":24},-24]
["kinkycurly单条22","KCURLY22",null,{"$f":"VLOOKUP(B:B,[1]库存明细!$D:$H,5,0)","v":27},-27]
["kinkycurly单条24","KCURLY24",null,{"$f":"VLOOKUP(B:B,[1]库存明细!$D:$H,5,0)","v":11},-11]
["kinkycurly单条26","KCURLY26",null,{"$f":"VLOOKUP(B:B,[1]库存明细!$D:$H,5,0)","v":16},-16]
["kinkycurly单条28","KCURLY28",null,{"$f":"VLOOKUP(B:B,[1]库存明细!$D:$H,5,0)","v":15},-15]
["kinkycurly单条30","KCURLY30",null,{"$f":"VLOOKUP(B:B,[1]库存明细!$D:$H,5,0)","v":17},-17]
["kinkycurly4*4发块10","FCKC10",null,{"$f":"VLOOKUP(B:B,[1]库存明细!$D:$H,5,0)","v":5},-5]
["kinkycurly4*4发块12","FCKC12",null,{"$f":"VLOOKUP(B:B,[1]库存明细!$D:$H,5,0)","v":4},-4]
["kinkycurly4*4发块14","FCKC14",null,{"$f":"VLOOKUP(B:B,[1]库存明细!$D:$H,5,0)","v":7},-7]
["kinkycurly4*4发块16","FCKC16",null,{"$f":"VLOOKUP(B:B,[1]库存明细!$D:$H,5,0)","v":6},-6]
["kinkycurly4*4发块18","FCKC18",null,{"$f":"VLOOKUP(B:B,[1]库存明细!$D:$H,5,0)","v":7},-7]
["kinkycurly4*4发块20","FCKC20",null,{"$f":"VLOOKUP(B:B,[1]库存明细!$D:$H,5,0)","v":6},-6]
["kinkycurly13*4前头10","FROKC10",null,{"$f":"VLOOKUP(B:B,[1]库存明细!$D:$H,5,0)","v":7},-7]
["kinkycurly13*4前头12","FROKC12",null,{"$f":"VLOOKUP(B:B,[1]库存明细!$D:$H,5,0)","v":6},-6]
["kinkycurly13*4前头14","FROKC14",null,{"$f":"VLOOKUP(B:B,[1]库存明细!$D:$H,5,0)","v":5},-5]
["kinkycurly13*4前头16","FROKC16",null,{"$f":"VLOOKUP(B:B,[1]库存明细!$D:$H,5,0)","v":4},-4]
["kinkycurly13*4前头18","FROKC18",null,{"$f":"VLOOKUP(B:B,[1]库存明细!$D:$H,5,0)","v":6},-6]
["kinkycurly13*4前头20","FROKC20",null,{"$f":"VLOOKUP(B:B,[1]库存明细!$D:$H,5,0)","v":6},-6]
["613BODY发条8","613BW8",32,{"$f":"VLOOKUP(B:B,[1]库存明细!$D:$H,5,0)","v":35},-3]
["613BODY发条10","613BW10",8,{"$f":"VLOOKUP(B:B,[1]库存明细!$D:$H,5,0)","v":10},-2]
["613BODY发条12","613BW12",32,{"$f":"VLOOKUP(B:B,[1]库存明细!$D:$H,5,0)","v":32},0]
["613BODY发条14","613BW14",40,{"$f":"VLOOKUP(B:B,[1]库存明细!$D:$H,5,0)","v":41},-1]
["613BODY发条16","613BW16",36,{"$f":"VLOOKUP(B:B,[1]库存明细!$D:$H,5,0)","v":36},0]
["613BODY发条18","613BW18",39,{"$f":"VLOOKUP(B:B,[1]库存明细!$D:$H,5,0)","v":33},6,36]
["613BODY发条20","613BW20",35,{"$f":"VLOOKUP(B:B,[1]库存明细!$D:$H,5,0)","v":41},-6,41]
["613BODY发条22","613BW22",24,{"$f":"VLOOKUP(B:B,[1]库存明细!$D:$H,5,0)","v":23},1]
["613BODY发条24","613BW24",5,{"$f":"VLOOKUP(B:B,[1]库存明细!$D:$H,5,0)","v":13},-8,12]
["613BODY发条26","613BW26",0,{"$f":"VLOOKUP(B:B,[1]库存明细!$D:$H,5,0)","v":2},-2]
["613BODY发条28","613BW28",0,{"$f":"VLOOKUP(B:B,[1]库存明细!$D:$H,5,0)","v":1},-1]
["613BODY发条30","613BW30",0,{"$f":"VLOOKUP(B:B,[1]库存明细!$D:$H,5,0)","v":7},-7,0]
["613BODY前头8","FRO613BW8",10,{"$f":"VLOOKUP(B:B,[1]库存明细!$D:$H,5,0)","v":10},0]
["613BODY前头10","FRO613BW10",8,{"$f":"VLOOKUP(B:B,[1]库存明细!$D:$H,5,0)","v":14},-6,13]
["613BODY前头12","FRO613BW12",4,{"$f":"VLOOKUP(B:B,[1]库存明细!$D:$H,5,0)","v":11},-7,9]
["613BODY前头14","FRO613BW14",2,{"$f":"VLOOKUP(B:B,[1]库存明细!$D:$H,5,0)","v":8},-6,6]
["613BODY前头16","FRO613BW16",0,{"$f":"VLOOKUP(B:B,[1]库存明细!$D:$H,5,0)","v":9},-9,10]
["613BODY前头18","FRO613BW18",4,{"$f":"VLOOKUP(B:B,[1]库存明细!$D:$H,5,0)","v":5},{"$f":"C450-D450","v":-1}]
["613BODY前头20","FRO613BW20",12,{"$f":"VLOOKUP(B:B,[1]库存明细!$D:$H,5,0)","v":12},0]
["613BODY发块8","LC613BW8",19,{"$f":"VLOOKUP(B:B,[1]库存明细!$D:$H,5,0)","v":19},0]
["613BODY发块10","LC613BW10",7,{"$f":"VLOOKUP(B:B,[1]库存明细!$D:$H,5,0)","v":9},-2]
["613BODY发块12","LC613BW12",25,{"$f":"VLOOKUP(B:B,[1]库存明细!$D:$H,5,0)","v":12},13,14]
["613BODY发块14","LC613BW14",10,{"$f":"VLOOKUP(B:B,[1]库存明细!$D:$H,5,0)","v":11},-1]
["613BODY发块16","LC613BW16",6,{"$f":"VLOOKUP(B:B,[1]库存明细!$D:$H,5,0)","v":13},-7,11]
["613BODY发块18","LC613BW18",5,{"$f":"VLOOKUP(B:B,[1]库存明细!$D:$H,5,0)","v":11},-6,10]
["613BODY发块20","LC613BW20",16,{"$f":"VLOOKUP(B:B,[1]库存明细!$D:$H,5,0)","v":15},1]
["613BODY5x5发块10","613FC5*5BW10",6,{"$f":"VLOOKUP(B:B,[1]库存明细!$D:$H,5,0)","v":6},0]
["613BODY5x5发块12","613FC5*5BW12",8,{"$f":"VLOOKUP(B:B,[1]库存明细!$D:$H,5,0)","v":9},-1]
["613BODY5x5发块14","613FC5*5BW14",8,{"$f":"VLOOKUP(B:B,[1]库存明细!$D:$H,5,0)","v":8},0]
["613BODY5x5发块16","613FC5*5BW16",6,{"$f":"VLOOKUP(B:B,[1]库存明细!$D:$H,5,0)","v":6},0]
["613BODY5x5发块18","613FC5*5BW18",7,{"$f":"VLOOKUP(B:B,[1]库存明细!$D:$H,5,0)","v":8},-1]
["613BODY5x5发块20","613FC5*5BW20",3,{"$f":"VLOOKUP(B:B,[1]库存明细!$D:$H,5,0)","v":4},-1]
["613直发发条8","613STW8",14,{"$f":"VLOOKUP(B:B,[1]库存明细!$D:$H,5,0)","v":18},-4]
["613直发发条10","613STW10",18,{"$f":"VLOOKUP(B:B,[1]库存明细!$D:$H,5,0)","v":19},-1]
["613直发发条12","613STW12",53,{"$f":"VLOOKUP(B:B,[1]库存明细!$D:$H,5,0)","v":48},5]
["613直发发条14","613STW14",33,{"$f":"VLOOKUP(B:B,[1]库存明细!$D:$H,5,0)","v":33},0]
["613直发发条16","613STW16",22,{"$f":"VLOOKUP(B:B,[1]库存明细!$D:$H,5,0)","v":21},1]
["613直发发条18","613STW18",8,{"$f":"VLOOKUP(B:B,[1]库存明细!$D:$H,5,0)","v":15},-7,8]
["613直发发条20","613STW20",13,{"$f":"VLOOKUP(B:B,[1]库存明细!$D:$H,5,0)","v":16},-3]
["613直发发条22","613STW22",44,{"$f":"VLOOKUP(B:B,[1]库存明细!$D:$H,5,0)","v":31},13,43]
["613直发发条24","613STW24",25,{"$f":"VLOOKUP(B:B,[1]库存明细!$D:$H,5,0)","v":28},-3]
["613直发发条26","613STW26",7,{"$f":"VLOOKUP(B:B,[1]库存明细!$D:$H,5,0)","v":8},-1]
["613直发发条28","613STW28",0,{"$f":"VLOOKUP(B:B,[1]库存明细!$D:$H,5,0)","v":3},-3]
["613直发发条30","613STW30",4,{"$f":"VLOOKUP(B:B,[1]库存明细!$D:$H,5,0)","v":1},3]
["613直发前头8","FRO613STW8",18,{"$f":"VLOOKUP(B:B,[1]库存明细!$D:$H,5,0)","v":18},0]
["613直发前头10","FRO613STW10",9,{"$f":"VLOOKUP(B:B,[1]库存明细!$D:$H,5,0)","v":9},0]
["613直发前头12","FRO613STW12",5,{"$f":"VLOOKUP(B:B,[1]库存明细!$D:$H,5,0)","v":10},-5]
["613直发前头14","FRO613STW14",4,{"$f":"VLOOKUP(B:B,[1]库存明细!$D:$H,5,0)","v":11},-7,9]
["613直发前头16","FRO613STW16",8,{"$f":"VLOOKUP(B:B,[1]库存明细!$D:$H,5,0)","v":8},0]
["613直发前头18","FRO613STW18",6,{"$f":"VLOOKUP(B:B,[1]库存明细!$D:$H,5,0)","v":7},-1]
["613直发前头20","FRO613STW20",11,{"$f":"VLOOKUP(B:B,[1]库存明细!$D:$H,5,0)","v":12},-1]
["613直发发块8","LC613STW8",6,{"$f":"VLOOKUP(B:B,[1]库存明细!$D:$H,5,0)","v":7},-1]
["613直发发块10","LC613STW10",18,{"$f":"VLOOKUP(B:B,[1]库存明细!$D:$H,5,0)","v":18},0]
["613直发发块12","LC613STW12",12,{"$f":"VLOOKUP(B:B,[1]库存明细!$D:$H,5,0)","v":16},-4]
["613直发发块14","LC613STW14",19,{"$f":"VLOOKUP(B:B,[1]库存明细!$D:$H,5,0)","v":20},-1]
["613直发发块16","LC613STW16",27,{"$f":"VLOOKUP(B:B,[1]库存明细!$D:$H,5,0)","v":26},1]
["613直发发块18","LC613STW18",20,{"$f":"VLOOKUP(B:B,[1]库存明细!$D:$H,5,0)","v":11},9,20]
["613直发发块20","LC613STW20",32,{"$f":"VLOOKUP(B:B,[1]库存明细!$D:$H,5,0)","v":34},-2]
["613直发5x5发块10","613FC5*5STW10",8,{"$f":"VLOOKUP(B:B,[1]库存明细!$D:$H,5,0)","v":8},0]
["613直发5x5发块12","613FC5*5STW12",9,{"$f":"VLOOKUP(B:B,[1]库存明细!$D:$H,5,0)","v":7},2]
["613直发5x5发块14","613FC5*5STW14",9,{"$f":"VLOOKUP(B:B,[1]库存明细!$D:$H,5,0)","v":10},-1]
["613直发5x5发块16","613FC5*5STW16",9,{"$f":"VLOOKUP(B:B,[1]库存明细!$D:$H,5,0)","v":12},-3]
["613直发5x5发块18","613FC5*5STW18",11,{"$f":"VLOOKUP(B:B,[1]库存明细!$D:$H,5,0)","v":10},1]
["613直发5x5发块20","613FC5*5STW20",7,{"$f":"VLOOKUP(B:B,[1]库存明细!$D:$H,5,0)","v":7},0]
["613DEEP发条10","613DEEP10",6,{"$f":"VLOOKUP(B:B,[1]库存明细!$D:$H,5,0)","v":11},-5]
["613DEEP发条12","613DEEP12",15,{"$f":"VLOOKUP(B:B,[1]库存明细!$D:$H,5,0)","v":16},-1]
["613DEEP发条14","613DEEP14",16,{"$f":"VLOOKUP(B:B,[1]库存明细!$D:$H,5,0)","v":16},0]
["613DEEP发条16","613DEEP16",19,{"$f":"VLOOKUP(B:B,[1]库存明细!$D:$H,5,0)","v":19},0]
["613DEEP发条18","613DEEP18",16,{"$f":"VLOOKUP(B:B,[1]库存明细!$D:$H,5,0)","v":17},-1]
["613DEEP发条20","613DEEP20",17,{"$f":"VLOOKUP(B:B,[1]库存明细!$D:$H,5,0)","v":17},0]
["613DEEP发条22","613DEEP22",2,{"$f":"VLOOKUP(B:B,[1]库存明细!$D:$H,5,0)","v":16},-14,11]
["613DEEP发条24","613DEEP24",9,{"$f":"VLOOKUP(B:B,[1]库存明细!$D:$H,5,0)","v":9},0]
["613DEEP前头10","FRO613DEEP10",7,{"$f":"VLOOKUP(B:B,[1]库存明细!$D:$H,5,0)","v":7},0]
["613DEEP前头12","FRO613DEEP12",9,{"$f":"VLOOKUP(B:B,[1]库存明细!$D:$H,5,0)","v":9},0]
["613DEEP前头14","FRO613DEEP14",5,{"$f":"VLOOKUP(B:B,[1]库存明细!$D:$H,5,0)","v":10},-5]
["613DEEP前头16","FRO613DEEP16",4,{"$f":"VLOOKUP(B:B,[1]库存明细!$D:$H,5,0)","v":9},-5]
["613DEEP前头18","FRO613DEEP18",3,{"$f":"VLOOKUP(B:B,[1]库存明细!$D:$H,5,0)","v":3},0]
["613DEEP前头20","FRO613DEEP20",5,{"$f":"VLOOKUP(B:B,[1]库存明细!$D:$H,5,0)","v":4},1]
["613DEEP4*4发块12","LC613DEEP12",5,{"$f":"VLOOKUP(B:B,[1]库存明细!$D:$H,5,0)","v":5},0]
["613DEEP4*4发块14","LC613DEEP14",6,{"$f":"VLOOKUP(B:B,[1]库存明细!$D:$H,5,0)","v":6},0]
["613DEEP4*4发块16","LC613DEEP16",6,{"$f":"VLOOKUP(B:B,[1]库存明细!$D:$H,5,0)","v":6},0]
["613DEEP4*4发块18","LC613DEEP18",5,{"$f":"VLOOKUP(B:B,[1]库存明细!$D:$H,5,0)","v":5},{"$f":"C514-D514","v":0}]
["613DEEP4*4发块20","LC613DEEP20",7,{"$f":"VLOOKUP(B:B,[1]库存明细!$D:$H,5,0)","v":7},0]
["99JBODY前头10","FRO99JBW10",null,{"$f":"VLOOKUP(B:B,[1]库存明细!$D:$H,5,0)","v":5},-5]
["99JBODY前头12","FRO99JBW12",null,{"$f":"VLOOKUP(B:B,[1]库存明细!$D:$H,5,0)","v":15},-15]
["99JBODY前头14","FRO99JBW14",null,{"$f":"VLOOKUP(B:B,[1]库存明细!$D:$H,5,0)","v":9},-9]
["99JBODY前头16","FRO99JBW16",null,{"$f":"VLOOKUP(B:B,[1]库存明细!$D:$H,5,0)","v":6},-6]
["99JBODY前头18","FRO99JBW18",null,{"$f":"VLOOKUP(B:B,[1]库存明细!$D:$H,5,0)","v":7},-7]
["99JBODY前头20","FRO99JBW20",null,{"$f":"VLOOKUP(B:B,[1]库存明细!$D:$H,5,0)","v":5},-5]
["99JBODY发块10","LC99JBW10",null,{"$f":"VLOOKUP(B:B,[1]库存明细!$D:$H,5,0)","v":10},-10]
["99JBODY发块12","LC99JBW12",null,{"$f":"VLOOKUP(B:B,[1]库存明细!$D:$H,5,0)","v":4},-4]
["99JBODY发块14","LC99JBW14",null,{"$f":"VLOOKUP(B:B,[1]库存明细!$D:$H,5,0)","v":5},-5]
["99JBODY发块16","LC99JBW16",null,{"$f":"VLOOKUP(B:B,[1]库存明细!$D:$H,5,0)","v":11},-11]
["99JBODY发块18","LC99JBW18",null,{"$f":"VLOOKUP(B:B,[1]库存明细!$D:$H,5,0)","v":11},-11]
["99JBODY发块20","LC99JBW20",null,{"$f":"VLOOKUP(B:B,[1]库存明细!$D:$H,5,0)","v":13},-13]
["99JBODY发条10","99JBODY10",null,{"$f":"VLOOKUP(B:B,[1]库存明细!$D:$H,5,0)","v":30},-30]
["99JBODY发条12","99JBODY12",null,{"$f":"VLOOKUP(B:B,[1]库存明细!$D:$H,5,0)","v":9},-9]
["99JBODY发条14","99JBODY14",null,{"$f":"VLOOKUP(B:B,[1]库存明细!$D:$H,5,0)","v":12},-12]
["99JBODY发条16","99JBODY16",null,{"$f":"VLOOKUP(B:B,[1]库存明细!$D:$H,5,0)","v":13},-13]
["99JBODY发条18","99JBODY18",null,{"$f":"VLOOKUP(B:B,[1]库存明细!$D:$H,5,0)","v":21},-21]
["99JBODY发条20","99JBODY20",null,{"$f":"VLOOKUP(B:B,[1]库存明细!$D:$H,5,0)","v":34},-34]
["99JBODY发条22","99JBODY22",null,{"$f":"VLOOKUP(B:B,[1]库存明细!$D:$H,5,0)","v":18},-18]
["99JBODY发条24","99JBODY24",null,{"$f":"VLOOKUP(B:B,[1]库存明细!$D:$H,5,0)","v":20},-20]
["99J直条10","99JSTW10",null,{"$f":"VLOOKUP(B:B,[1]库存明细!$D:$H,5,0)","v":5},-5]
["99J直条12","99JSTW12",null,{"$f":"VLOOKUP(B:B,[1]库存明细!$D:$H,5,0)","v":13},-13]
["99J直条14","99JSTW14",null,{"$f":"VLOOKUP(B:B,[1]库存明细!$D:$H,5,0)","v":8},-8]
["99J直条16","99JSTW16",null,{"$f":"VLOOKUP(B:B,[1]库存明细!$D:$H,5,0)","v":6},-6]
["99J直条18","99JSTW18",null,{"$f":"VLOOKUP(B:B,[1]库存明细!$D:$H,5,0)","v":15},-15]
["99J直条20","99JSTW20",null,{"$f":"VLOOKUP(B:B,[1]库存明细!$D:$H,5,0)","v":20},-20]
["99J直条22","99JSTW22",null,{"$f":"VLOOKUP(B:B,[1]库存明细!$D:$H,5,0)","v":16},-16]
["99J直条24","99JSTW24",null,{"$f":"VLOOKUP(B:B,[1]库存明细!$D:$H,5,0)","v":12},-12]
["99J直条4*4发块10","LC99JSTW10",null,{"$f":"VLOOKUP(B:B,[1]库存明细!$D:$H,5,0)","v":9},-9]
["99J直条4*4发块12","LC99JSTW12",null,{"$f":"VLOOKUP(B:B,[1]库存明细!$D:$H,5,0)","v":4},-4]
["99J直条4*4发块14","LC99JSTW14",null,{"$f":"VLOOKUP(B:B,[1]库存明细!$D:$H,5,0)","v":7},-7]
["99J直条4*4发块16","LC99JSTW16",null,{"$f":"VLOOKUP(B:B,[1]库存明细!$D:$H,5,0)","v":11},-11]
["99J直条4*4发块18","LC99JSTW18",null,{"$f":"VLOOKUP(B:B,[1]库存明细!$D:$H,5,0)","v":7},-7]
["99J直条4*4发块20","LC99JSTW20",null,{"$f":"VLOOKUP(B:B,[1]库存明细!$D:$H,5,0)","v":9},-9]
["#27BODY发条12","#27BW12",9,{"$f":"VLOOKUP(B:B,[1]库存明细!$D:$H,5,0)","v":11},-2]
["#27BODY发条14","#27BW14",8,{"$f":"VLOOKUP(B:B,[1]库存明细!$D:$H,5,0)","v":10},-2]
["#27BODY发条16","#27BW16",7,{"$f":"VLOOKUP(B:B,[1]库存明细!$D:$H,5,0)","v":5},2]
["#27BODY发条18","#27BW18",6,{"$f":"VLOOKUP(B:B,[1]库存明细!$D:$H,5,0)","v":5},1]
["#27BODY发条20","#27BW20",4,{"$f":"VLOOKUP(B:B,[1]库存明细!$D:$H,5,0)","v":4},0]
["#27BODY发条22","#27BW22",1,{"$f":"VLOOKUP(B:B,[1]库存明细!$D:$H,5,0)","v":2},-1]
["#27BODY发条24","#27BW24",15,{"$f":"VLOOKUP(B:B,[1]库存明细!$D:$H,5,0)","v":13},2]
["#27BODY前头12","FRO#27BW12",6,{"$f":"VLOOKUP(B:B,[1]库存明细!$D:$H,5,0)","v":6},0]
["#27BODY前头14","FRO#27BW14",1,{"$f":"VLOOKUP(B:B,[1]库存明细!$D:$H,5,0)","v":6},-5]
["#27BODY前头16","FRO#27BW16",6,{"$f":"VLOOKUP(B:B,[1]库存明细!$D:$H,5,0)","v":6},0]
["#27BODY前头18","FRO#27BW18",4,{"$f":"VLOOKUP(B:B,[1]库存明细!$D:$H,5,0)","v":4},0]
["#27BODY前头20","FRO#27BW20",6,{"$f":"VLOOKUP(B:B,[1]库存明细!$D:$H,5,0)","v":6},0]
["#27BODY发块12","LC#27BW12",7,{"$f":"VLOOKUP(B:B,[1]库存明细!$D:$H,5,0)","v":10},-3]
["#27BODY发块14","LC#27BW14",9,{"$f":"VLOOKUP(B:B,[1]库存明细!$D:$H,5,0)","v":9},0]
["#27BODY发块16","LC#27BW16",4,{"$f":"VLOOKUP(B:B,[1]库存明细!$D:$H,5,0)","v":4},0]
["#27BODY发块18","LC#27BW18",8,{"$f":"VLOOKUP(B:B,[1]库存明细!$D:$H,5,0)","v":8},0]
["#27BODY发块20","LC#27BW20",8,{"$f":"VLOOKUP(B:B,[1]库存明细!$D:$H,5,0)","v":8},0]
["#27直条发条12","#27STW12",null,{"$f":"VLOOKUP(B:B,[1]库存明细!$D:$H,5,0)","v":11},-11]
["#27直条发条14","#27STW14",null,{"$f":"VLOOKUP(B:B,[1]库存明细!$D:$H,5,0)","v":15},-15]
["#27直条发条16","#27STW16",null,{"$f":"VLOOKUP(B:B,[1]库存明细!$D:$H,5,0)","v":5},-5]
["#27直条发条18","#27STW18",null,{"$f":"VLOOKUP(B:B,[1]库存明细!$D:$H,5,0)","v":7},-7]
["#27直条发条20","#27STW20",null,{"$f":"VLOOKUP(B:B,[1]库存明细!$D:$H,5,0)","v":14},-14]
["#27直条发条22","#27STW22",null,{"$f":"VLOOKUP(B:B,[1]库存明细!$D:$H,5,0)","v":14},-14]
["#27直条发条24","#27STW24",null,{"$f":"VLOOKUP(B:B,[1]库存明细!$D:$H,5,0)","v":8},-8]
["#27直条发块12","LC#27STW12",null,{"$f":"VLOOKUP(B:B,[1]库存明细!$D:$H,5,0)","v":4},-4]
["#27直条发块14","LC#27STW14",null,{"$f":"VLOOKUP(B:B,[1]库存明细!$D:$H,5,0)","v":8},-8]
["#27直条发块16","LC#27STW16",null,{"$f":"VLOOKUP(B:B,[1]库存明细!$D:$H,5,0)","v":5},-5]
["#27直条发块18","LC#27STW18",null,{"$f":"VLOOKUP(B:B,[1]库存明细!$D:$H,5,0)","v":6},-6]
["#27直条发块20","LC#27STW20",null,{"$f":"VLOOKUP(B:B,[1]库存明细!$D:$H,5,0)","v":5},{"$f":"C578-D578","v":-5}]
["4#直发发条12","4#STW12",null,{"$f":"VLOOKUP(B:B,[1]库存明细!$D:$H,5,0)","v":17},-17]
["4#直发发条14","4#STW14",null,{"$f":"VLOOKUP(B:B,[1]库存明细!$D:$H,5,0)","v":17},-17]
["4#直发发条16","4#STW16",null,{"$f":"VLOOKUP(B:B,[1]库存明细!$D:$H,5,0)","v":17},-17]
["4#直发发条18","4#STW18",null,{"$f":"VLOOKUP(B:B,[1]库存明细!$D:$H,5,0)","v":17},-17]
["4#直发发条20","4#STW20",null,{"$f":"VLOOKUP(B:B,[1]库存明细!$D:$H,5,0)","v":17},-17]
["4#BODY发条12","4#BODY12",null,{"$f":"VLOOKUP(B:B,[1]库存明细!$D:$H,5,0)","v":17},-17]
["4#BODY发条14","4#BODY14",null,{"$f":"VLOOKUP(B:B,[1]库存明细!$D:$H,5,0)","v":17},-17]
["4#BODY发条16","4#BODY16",null,{"$f":"VLOOKUP(B:B,[1]库存明细!$D:$H,5,0)","v":17},-17]
["4#BODY发条18","4#BODY18",null,{"$f":"VLOOKUP(B:B,[1]库存明细!$D:$H,5,0)","v":17},-17]
["4#BODY发条20","4#BODY20",null,{"$f":"VLOOKUP(B:B,[1]库存明细!$D:$H,5,0)","v":17},-17]
["AliPearl直发单条8","APSTW8",null,{"$f":"VLOOKUP(B:B,[1]库存明细!$D:$H,5,0)","v":11},-11]
["AliPearl直发单条10","APSTW10",null,{"$f":"VLOOKUP(B:B,[1]库存明细!$D:$H,5,0)","v":16},-16]
["AliPearl直发单条12","APSTW12",null,{"$f":"VLOOKUP(B:B,[1]库存明细!$D:$H,5,0)","v":48},-48]
["AliPearl直发单条14","APSTW14",null,{"$f":"VLOOKUP(B:B,[1]库存明细!$D:$H,5,0)","v":115},-115]
["AliPearl直发单条16","APSTW16",null,{"$f":"VLOOKUP(B:B,[1]库存明细!$D:$H,5,0)","v":134},-134]
["AliPearl直发单条18","APSTW18",null,{"$f":"VLOOKUP(B:B,[1]库存明细!$D:$H,5,0)","v":152},-152]
["AliPearl直发单条20","APSTW20",null,{"$f":"VLOOKUP(B:B,[1]库存明细!$D:$H,5,0)","v":141},-141]
["AliPearl直发单条22","APSTW22",null,{"$f":"VLOOKUP(B:B,[1]库存明细!$D:$H,5,0)","v":109},-109]
["AliPearl直发单条24","APSTW24",null,{"$f":"VLOOKUP(B:B,[1]库存明细!$D:$H,5,0)","v":107},-107]
["AliPearl直发单条26","APSTW26",null,{"$f":"VLOOKUP(B:B,[1]库存明细!$D:$H,5,0)","v":75},-75]
["AliPearl直发单条28","APSTW28",null,{"$f":"VLOOKUP(B:B,[1]库存明细!$D:$H,5,0)","v":24},-24]
["AliPearl直发单条30","APSTW30",null,{"$f":"VLOOKUP(B:B,[1]库存明细!$D:$H,5,0)","v":2},-2]
["AliPearlbody单条8","APBODY8",null,{"$f":"VLOOKUP(B:B,[1]库存明细!$D:$H,5,0)","v":20},-20]
["AliPearlbody单条10","APBODY10",null,{"$f":"VLOOKUP(B:B,[1]库存明细!$D:$H,5,0)","v":62},-62]
["AliPearlbody单条12","APBODY12",null,{"$f":"VLOOKUP(B:B,[1]库存明细!$D:$H,5,0)","v":61},-61]
["AliPearlbody单条14","APBODY14",null,{"$f":"VLOOKUP(B:B,[1]库存明细!$D:$H,5,0)","v":97},-97]
["AliPearlbody单条16","APBODY16",null,{"$f":"VLOOKUP(B:B,[1]库存明细!$D:$H,5,0)","v":148},-148]
["AliPearlbody单条18","APBODY18",null,{"$f":"VLOOKUP(B:B,[1]库存明细!$D:$H,5,0)","v":222},-222]
["AliPearlbody单条20","APBODY20",null,{"$f":"VLOOKUP(B:B,[1]库存明细!$D:$H,5,0)","v":157},-157]
["AliPearlbody单条22","APBODY22",null,{"$f":"VLOOKUP(B:B,[1]库存明细!$D:$H,5,0)","v":139},-139]
["AliPearlbody单条24","APBODY24",null,{"$f":"VLOOKUP(B:B,[1]库存明细!$D:$H,5,0)","v":60},-60]
["AliPearlbody单条26","APBODY26",null,{"$f":"VLOOKUP(B:B,[1]库存明细!$D:$H,5,0)","v":53},-53]
["AliPearlbody单条28","APBODY28",null,{"$f":"VLOOKUP(B:B,[1]库存明细!$D:$H,5,0)","v":31},-31]
["AliPearlbody单条30","APBODY30",null,{"$f":"VLOOKUP(B:B,[1]库存明细!$D:$H,5,0)","v":13},-13]
["AliPearldeep8","APDEEP8",null,{"$f":"VLOOKUP(B:B,[1]库存明细!$D:$H,5,0)","v":22},-22]
["AliPearldeep10","APDEEP10",null,{"$f":"VLOOKUP(B:B,[1]库存明细!$D:$H,5,0)","v":32},-32]
["AliPearldeep12","APDEEP12",null,{"$f":"VLOOKUP(B:B,[1]库存明细!$D:$H,5,0)","v":50},-50]
["AliPearldeep14","APDEEP14",null,{"$f":"VLOOKUP(B:B,[1]库存明细!$D:$H,5,0)","v":91},-91]
["AliPearldeep16","APDEEP16",null,{"$f":"VLOOKUP(B:B,[1]库存明细!$D:$H,5,0)","v":125},-125]
["AliPearldeep18","APDEEP18",null,{"$f":"VLOOKUP(B:B,[1]库存明细!$D:$H,5,0)","v":101},-101]
["AliPearldeep20","APDEEP20",null,{"$f":"VLOOKUP(B:B,[1]库存明细!$D:$H,5,0)","v":88},-88]
["AliPearldeep22","APDEEP22",null,{"$f":"VLOOKUP(B:B,[1]库存明细!$D:$H,5,0)","v":106},-106]
["AliPearldeep24","APDEEP24",null,{"$f":"VLOOKUP(B:B,[1]库存明细!$D:$H,5,0)","v":108},-108]
["AliPearldeep26","APDEEP26",null,{"$f":"VLOOKUP(B:B,[1]库存明细!$D:$H,5,0)","v":57},-57]
["AliPearldeep28","APDEEP28",null,{"$f":"VLOOKUP(B:B,[1]库存明细!$D:$H,5,0)","v":28},-28]
["AliPearlloosedeep10","APLOOSEDEEP10",null,{"$f":"VLOOKUP(B:B,[1]库存明细!$D:$H,5,0)","v":9},-9]
["AliPearlloosedeep12","APLOOSEDEEP12",null,{"$f":"VLOOKUP(B:B,[1]库存明细!$D:$H,5,0)","v":4},-4]
["AliPearlloosedeep14","APLOOSEDEEP14",null,{"$f":"VLOOKUP(B:B,[1]库存明细!$D:$H,5,0)","v":14},-14]
["AliPearlloosedeep16","APLOOSEDEEP16",null,{"$f":"VLOOKUP(B:B,[1]库存明细!$D:$H,5,0)","v":19},-19]
["AliPearlloosedeep18","APLOOSEDEEP18",null,{"$f":"VLOOKUP(B:B,[1]库存明细!$D:$H,5,0)","v":23},-23]
["AliPearlloosedeep20","APLOOSEDEEP20",null,{"$f":"VLOOKUP(B:B,[1]库存明细!$D:$H,5,0)","v":17},-17]
["AliPearlloosedeep22","APLOOSEDEEP22",null,{"$f":"VLOOKUP(B:B,[1]库存明细!$D:$H,5,0)","v":25},-25]
["AliPearlloosedeep24","APLOOSEDEEP24",null,{"$f":"VLOOKUP(B:B,[1]库存明细!$D:$H,5,0)","v":27},-27]
["AliPearlloosedeep26","APLOOSEDEEP26",null,{"$f":"VLOOKUP(B:B,[1]库存明细!$D:$H,5,0)","v":36},-36]
["AliPearlloosedeep28","APLOOSEDEEP28",null,{"$f":"VLOOKUP(B:B,[1]库存明细!$D:$H,5,0)","v":13},-13]
["AliPearlJC单条8","APCURLY8",17,{"$f":"VLOOKUP(B:B,[1]库存明细!$D:$H,5,0)","v":16},1]
["AliPearlJC单条10","APCURLY10",13,{"$f":"VLOOKUP(B:B,[1]库存明细!$D:$H,5,0)","v":13},0]
["AliPearlJC单条12","APCURLY12",10,{"$f":"VLOOKUP(B:B,[1]库存明细!$D:$H,5,0)","v":20},-10,20]
["AliPearlJC单条14","APCURLY14",1,{"$f":"VLOOKUP(B:B,[1]库存明细!$D:$H,5,0)","v":10},-9,13]
["AliPearlJC单条16","APCURLY16",4,{"$f":"VLOOKUP(B:B,[1]库存明细!$D:$H,5,0)","v":11},-7,12]
["AliPearlJC单条18","APCURLY18",12,{"$f":"VLOOKUP(B:B,[1]库存明细!$D:$H,5,0)","v":13},-1]
["AliPearlJC单条20","APCURLY20",17,{"$f":"VLOOKUP(B:B,[1]库存明细!$D:$H,5,0)","v":20},-3]
["AliPearlJC单条22","APCURLY22",12,{"$f":"VLOOKUP(B:B,[1]库存明细!$D:$H,5,0)","v":15},-3]
["AliPearlJC单条24","APCURLY24",23,{"$f":"VLOOKUP(B:B,[1]库存明细!$D:$H,5,0)","v":25},{"$f":"C642-D642","v":-2}]
["AliPearlJC单条26","APCURLY26",16,{"$f":"VLOOKUP(B:B,[1]库存明细!$D:$H,5,0)","v":12},4]
["AliPearl自然曲8","APWATER8",null,{"$f":"VLOOKUP(B:B,[1]库存明细!$D:$H,5,0)","v":22},-22]
["AliPearl自然曲10","APWATER10",null,{"$f":"VLOOKUP(B:B,[1]库存明细!$D:$H,5,0)","v":14},-14]
["AliPearl自然曲12","APWATER12",null,{"$f":"VLOOKUP(B:B,[1]库存明细!$D:$H,5,0)","v":19},-19]
["AliPearl自然曲14","APWATER14",null,{"$f":"VLOOKUP(B:B,[1]库存明细!$D:$H,5,0)","v":4},-4]
["AliPearl自然曲16","APWATER16",null,{"$f":"VLOOKUP(B:B,[1]库存明细!$D:$H,5,0)","v":10},-10]
["AliPearl自然曲18","APWATER18",null,{"$f":"VLOOKUP(B:B,[1]库存明细!$D:$H,5,0)","v":24},-24]
["AliPearl自然曲20","APWATER20",null,{"$f":"VLOOKUP(B:B,[1]库存明细!$D:$H,5,0)","v":6},-6]
["AliPearl自然曲22","APWATER22",null,{"$f":"VLOOKUP(B:B,[1]库存明细!$D:$H,5,0)","v":18},-18]
["AliPearl自然曲24","APWATER24",null,{"$f":"VLOOKUP(B:B,[1]库存明细!$D:$H,5,0)","v":21},-21]
["AliPearl自然曲26","APWATER26",null,{"$f":"VLOOKUP(B:B,[1]库存明细!$D:$H,5,0)","v":21},-21]
["AliPearl自然曲28","APWATER28",null,{"$f":"VLOOKUP(B:B,[1]库存明细!$D:$H,5,0)","v":16},-16]
["Westkiss直发单条8","WKSTW8",null,{"$f":"VLOOKUP(B:B,[1]库存明细!$D:$H,5,0)","v":19},-19]
["Westkiss直发单条10","WKSTW10",null,{"$f":"VLOOKUP(B:B,[1]库存明细!$D:$H,5,0)","v":4},-4]
["Westkiss直发单条12","WKSTW12",null,{"$f":"VLOOKUP(B:B,[1]库存明细!$D:$H,5,0)","v":35},-35]
["Westkiss直发单条14","WKSTW14",null,{"$f":"VLOOKUP(B:B,[1]库存明细!$D:$H,5,0)","v":38},-38]
["Westkiss直发单条16","WKSTW16",null,{"$f":"VLOOKUP(B:B,[1]库存明细!$D:$H,5,0)","v":13},-13]
["Westkiss直发单条18","WKSTW18",null,{"$f":"VLOOKUP(B:B,[1]库存明细!$D:$H,5,0)","v":51},-51]
["Westkiss直发单条20","WKSTW20",null,{"$f":"VLOOKUP(B:B,[1]库存明细!$D:$H,5,0)","v":41},-41]
["Westkiss直发单条22","WKSTW22",null,{"$f":"VLOOKUP(B:B,[1]库存明细!$D:$H,5,0)","v":31},-31]
["Westkiss直发单条24","WKSTW24",null,{"$f":"VLOOKUP(B:B,[1]库存明细!$D:$H,5,0)","v":18},-18]
["Westkiss直发单条26","WKSTW26",null,{"$f":"VLOOKUP(B:B,[1]库存明细!$D:$H,5,0)","v":25},-25]
["Westkissbody单条8","WKBODY8",null,{"$f":"VLOOKUP(B:B,[1]库存明细!$D:$H,5,0)","v":6},-6]
["Westkissbody单条10","WKBODY10",null,{"$f":"VLOOKUP(B:B,[1]库存明细!$D:$H,5,0)","v":18},-18]
["Westkissbody单条12","WKBODY12",null,{"$f":"VLOOKUP(B:B,[1]库存明细!$D:$H,5,0)","v":22},-22]
["Westkissbody单条14","WKBODY14",null,{"$f":"VLOOKUP(B:B,[1]库存明细!$D:$H,5,0)","v":47},-47]
["Westkissbody单条16","WKBODY16",null,{"$f":"VLOOKUP(B:B,[1]库存明细!$D:$H,5,0)","v":51},-51]
["Westkissbody单条18","WKBODY18",null,{"$f":"VLOOKUP(B:B,[1]库存明细!$D:$H,5,0)","v":25},-25]
["Westkissbody单条20","WKBODY20",null,{"$f":"VLOOKUP(B:B,[1]库存明细!$D:$H,5,0)","v":46},-46]
["Westkissbody单条22","WKBODY22",null,{"$f":"VLOOKUP(B:B,[1]库存明细!$D:$H,5,0)","v":55},-55]
["Westkissbody单条24","WKBODY24",null,{"$f":"VLOOKUP(B:B,[1]库存明细!$D:$H,5,0)","v":27},-27]
["Westkissbody单条26","WKBODY26",null,{"$f":"VLOOKUP(B:B,[1]库存明细!$D:$H,5,0)","v":15},-15]
["Westkissdeep单条8","WKDEEP8",null,{"$f":"VLOOKUP(B:B,[1]库存明细!$D:$H,5,0)","v":23},-23]
["Westkissdeep单条10","WKDEEP10",null,{"$f":"VLOOKUP(B:B,[1]库存明细!$D:$H,5,0)","v":20},-20]
["Westkissdeep单条12","WKDEEP12",null,{"$f":"VLOOKUP(B:B,[1]库存明细!$D:$H,5,0)","v":12},-12]
["Westkissdeep单条14","WKDEEP14",null,{"$f":"VLOOKUP(B:B,[1]库存明细!$D:$H,5,0)","v":10},-10]
["Westkissdeep单条16","WKDEEP16",null,{"$f":"VLOOKUP(B:B,[1]库存明细!$D:$H,5,0)","v":7},-7]
["Westkissdeep单条18","WKDEEP18",null,{"$f":"VLOOKUP(B:B,[1]库存明细!$D:$H,5,0)","v":11},-11]
["Westkissdeep单条20","WKDEEP20",null,{"$f":"VLOOKUP(B:B,[1]库存明细!$D:$H,5,0)","v":11},-11]
["Westkissdeep单条22","WKDEEP22",null,{"$f":"VLOOKUP(B:B,[1]库存明细!$D:$H,5,0)","v":2},-2]
["Westkissdeep单条24","WKDEEP24",null,{"$f":"VLOOKUP(B:B,[1]库存明细!$D:$H,5,0)","v":8},-8]
["Westkissdeep单条26","WKDEEP26",null,{"$f":"VLOOKUP(B:B,[1]库存明细!$D:$H,5,0)","v":16},-16]
["Westkissdeep单条28","WKDEEP28",null,{"$f":"VLOOKUP(B:B,[1]库存明细!$D:$H,5,0)","v":10},-10]
["Wiggins直发单条8","GGSTW8",null,{"$f":"VLOOKUP(B:B,[1]库存明细!$D:$H,5,0)","v":18},-18]
["Wiggins直发单条10","GGSTW10",null,{"$f":"VLOOKUP(B:B,[1]库存明细!$D:$H,5,0)","v":16},-16]
["Wiggins直发单条12","GGSTW12",null,{"$f":"VLOOKUP(B:B,[1]库存明细!$D:$H,5,0)","v":38},-38]
["Wiggins直发单条14","GGSTW14",null,{"$f":"VLOOKUP(B:B,[1]库存明细!$D:$H,5,0)","v":36},-36]
["Wiggins直发单条16","GGSTW16",null,{"$f":"VLOOKUP(B:B,[1]库存明细!$D:$H,5,0)","v":27},-27]
["Wiggins直发单条18","GGSTW18",null,{"$f":"VLOOKUP(B:B,[1]库存明细!$D:$H,5,0)","v":51},-51]
["Wiggins直发单条20","GGSTW20",null,{"$f":"VLOOKUP(B:B,[1]库存明细!$D:$H,5,0)","v":43},-43]
["Wiggins直发单条22","GGSTW22",null,{"$f":"VLOOKUP(B:B,[1]库存明细!$D:$H,5,0)","v":51},-51]
["Wiggins直发单条24","GGSTW24",null,{"$f":"VLOOKUP(B:B,[1]库存明细!$D:$H,5,0)","v":33},-33]
["Wiggins直发单条26","GGSTW26",null,{"$f":"VLOOKUP(B:B,[1]库存明细!$D:$H,5,0)","v":19},-19]
["Wigginsbody单条8","GGBODY8",null,{"$f":"VLOOKUP(B:B,[1]库存明细!$D:$H,5,0)","v":14},-14]
["Wigginsbody单条10","GGBODY10",null,{"$f":"VLOOKUP(B:B,[1]库存明细!$D:$H,5,0)","v":16},-16]
["Wigginsbody单条12","GGBODY12",null,{"$f":"VLOOKUP(B:B,[1]库存明细!$D:$H,5,0)","v":33},-33]
["Wigginsbody单条14","GGBODY14",null,{"$f":"VLOOKUP(B:B,[1]库存明细!$D:$H,5,0)","v":30},-30]
["Wigginsbody单条16","GGBODY16",null,{"$f":"VLOOKUP(B:B,[1]库存明细!$D:$H,5,0)","v":55},-55]
["Wigginsbody单条18","GGBODY18",null,{"$f":"VLOOKUP(B:B,[1]库存明细!$D:$H,5,0)","v":77},-77]
["Wigginsbody单条20","GGBODY20",null,{"$f":"VLOOKUP(B:B,[1]库存明细!$D:$H,5,0)","v":56},-56]
["Wigginsbody单条22","GGBODY22",null,{"$f":"VLOOKUP(B:B,[1]库存明细!$D:$H,5,0)","v":44},-44]
["Wigginsbody单条24","GGBODY24",null,{"$f":"VLOOKUP(B:B,[1]库存明细!$D:$H,5,0)","v":37},-37]
["Wigginsbody单条26","GGBODY26",null,{"$f":"VLOOKUP(B:B,[1]库存明细!$D:$H,5,0)","v":14},-14]
["Wigginsloosedeep单条10","GGLOOSEDEEP10",null,{"$f":"VLOOKUP(B:B,[1]库存明细!$D:$H,5,0)","v":19},{"$f":"C706-D706","v":-19}]
["Wigginsloosedeep单条12","GGLOOSEDEEP12",null,{"$f":"VLOOKUP(B:B,[1]库存明细!$D:$H,5,0)","v":18},-18]
["Wigginsloosedeep单条14","GGLOOSEDEEP14",null,{"$f":"VLOOKUP(B:B,[1]库存明细!$D:$H,5,0)","v":20},-20]
["Wigginsloosedeep单条16","GGLOOSEDEEP16",null,{"$f":"VLOOKUP(B:B,[1]库存明细!$D:$H,5,0)","v":3},-3]
["Wigginsloosedeep单条18","GGLOOSEDEEP18",null,{"$f":"VLOOKUP(B:B,[1]库存明细!$D:$H,5,0)","v":21},-21]
["Wigginsloosedeep单条20","GGLOOSEDEEP20",null,{"$f":"VLOOKUP(B:B,[1]库存明细!$D:$H,5,0)","v":16},-16]
["Wigginsloosedeep单条22","GGLOOSEDEEP22",null,{"$f":"VLOOKUP(B:B,[1]库存明细!$D:$H,5,0)","v":20},-20]
["Wigginsloosedeep单条24","GGLOOSEDEEP24",null,{"$f":"VLOOKUP(B:B,[1]库存明细!$D:$H,5,0)","v":22},-22]
["Wigginsloosedeep单条26","GGLOOSEDEEP26",null,{"$f":"VLOOKUP(B:B,[1]库存明细!$D:$H,5,0)","v":22},-22]
["Wigginsloosedeep单条28","GGLOOSEDEEP28",null,{"$f":"VLOOKUP(B:B,[1]库存明细!$D:$H,5,0)","v":8},-8]
["Wiggins自然曲单条10","GGWATER10",null,{"$f":"VLOOKUP(B:B,[1]库存明细!$D:$H,5,0)","v":21},-21]
["Wiggins自然曲单条12","GGWATER12",null,{"$f":"VLOOKUP(B:B,[1]库存明细!$D:$H,5,0)","v":31},-31]
["Wiggins自然曲单条14","GGWATER14",null,{"$f":"VLOOKUP(B:B,[1]库存明细!$D:$H,5,0)","v":24},-24]
["Wiggins自然曲单条16","GGWATER16",null,{"$f":"VLOOKUP(B:B,[1]库存明细!$D:$H,5,0)","v":32},-32]
["Wiggins自然曲单条18","GGWATER18",null,{"$f":"VLOOKUP(B:B,[1]库存明细!$D:$H,5,0)","v":16},-16]
["Wiggins自然曲单条20","GGWATER20",null,{"$f":"VLOOKUP(B:B,[1]库存明细!$D:$H,5,0)","v":9},-9]
["Wiggins自然曲单条22","GGWATER22",null,{"$f":"VLOOKUP(B:B,[1]库存明细!$D:$H,5,0)","v":25},-25]
["Wiggins自然曲单条24","GGWATER24",null,{"$f":"VLOOKUP(B:B,[1]库存明细!$D:$H,5,0)","v":9},-9]
["Wiggins自然曲单条26","GGWATER26",null,{"$f":"VLOOKUP(B:B,[1]库存明细!$D:$H,5,0)","v":9},-9]
["Wiggins自然曲单条28","GGWATER28",null,{"$f":"VLOOKUP(B:B,[1]库存明细!$D:$H,5,0)","v":18},-18]
["99J直条半蕾丝头套20","99JSTWLFW20",null,null,null,0,null,"91批到货有9条"]

{"sheet":"12.03","index":9,"n_rows":583,"n_cols":4,"rows_kept":583,"cut":false,"hidden":false,"merged":[]}
["尺组合","条码","发货后发货仓库存清点","ERP库存"]
["613直发4*4BOB头套8","613STW4*4BOB8"]
["613直发4*4BOB头套10","613STW4*4BOB10"]
["直条4x4发块8","FCSTW8"]
["直条4x4发块10","FCSTW10"]
["直条4x4发块12","FCSTW12"]
["直条4x4发块14","FCSTW14"]
["直条4x4发块16","FCSTW16"]
["直条4x4发块18","FCSTW18"]
["直条4x4发块20","FCSTW20"]
["中分直条4x4发块8","MCSTW8"]
["中分直条4x4发块10","MCSTW10"]
["中分直条4x4发块12","MCSTW12"]
["中分直条4x4发块14","MCSTW14"]
["中分直条4x4发块16","MCSTW16"]
["中分直条4x4发块18","MCSTW18"]
["中分直条4x4发块20","MCSTW20"]
["直条5x5发块10","FC5*5STW10"]
["直条5x5发块12","FC5*5STW12"]
["直条5x5发块14","FC5*5STW14"]
["直条5x5发块16","FC5*5STW16"]
["直条5x5发块18","FC5*5STW18"]
["直条5x5发块20","FC5*5STW20"]
["中分直条5x5发块10","MC5*5STW10"]
["中分直条5x5发块12","MC5*5STW12"]
["中分直条5x5发块14","MC5*5STW14"]
["中分直条5x5发块16","MC5*5STW16"]
["中分直条5x5发块18","MC5*5STW18"]
["中分直条5x5发块20","MC5*5STW20"]
["直条6*6自由分发块12","FC6*6STW12"]
["直条6*6自由分发块14","FC6*6STW14"]
["直条6*6自由分发块16","FC6*6STW16"]
["直条6*6自由分发块18","FC6*6STW18"]
["直条6*6自由分发块20","FC6*6STW20"]
["中分直条6*6发块10","MC6*6STW10"]
["中分直条6*6发块12","MC6*6STW12"]
["中分直条6*6发块14","MC6*6STW14"]
["中分直条6*6发块16","MC6*6STW16"]
["中分直条6*6发块18","MC6*6STW18"]
["中分直条6*6发块20","MC6*6STW20"]
["直发蕾丝前头8","FROSTW8"]
["直发蕾丝前头10","FROSTW10"]
["直发蕾丝前头12","FROSTW12"]
["直发蕾丝前头14","FROSTW14"]
["直发蕾丝前头16","FROSTW16"]
["直发蕾丝前头18","FROSTW18"]
["直发蕾丝前头20","FROSTW20"]
["直条13*6大前头10","FRO13*6STW10"]
["直条13*6大前头12","FRO13*6STW12"]
["直条13*6大前头14","FRO13*6STW14"]
["直条13*6大前头16","FRO13*6STW16"]
["直条13*6大前头18","FRO13*6STW18"]
["直条13*6大前头20","FRO13*6STW20"]
["直发单条8","STW8"]
["直发单条10","STW10"]
["直发单条12","STW12"]
["直发单条14","STW14"]
["直发单条16","STW16"]
["直发单条18","STW18"]
["直发单条20","STW20"]
["直发单条22","STW22"]
["直发单条24","STW24"]
["直发单条26","STW26"]
["直发单条28","STW28"]
["直发单条30","STW30"]
["直条2x6发块10","MC2*6STW10"]
["直条2x6发块12","MC2*6STW12"]
["直条2x6发块14","MC2*6STW14"]
["直条2x6发块16","MC2*6STW16"]
["直条2x6发块18","MC2*6STW18"]
["直条2x6发块20","MC2*6STW20"]
["直条4*4三分发块10","TCSTW10"]
["直条4*4三分发块12","TCSTW12"]
["直条4*4三分发块14","TCSTW14"]
["直条4*4三分发块16","TCSTW16"]
["直条4*4三分发块18","TCSTW18"]
["直条4*4三分发块20","TCSTW20"]
["透明直发蕾丝前头12","TRFROSTW12"]
["透明直发蕾丝前头14","TRFROSTW14"]
["透明直发蕾丝前头16","TRFROSTW16"]
["透明直发蕾丝前头18","TRFROSTW18"]
["透明直发蕾丝前头20","TRFROSTW20"]
["透明直条4x4发块8","TRFCSTW8"]
["透明直条4x4发块10","TRFCSTW10"]
["透明直条4x4发块12","TRFCSTW12"]
["透明直条4x4发块14","TRFCSTW14"]
["透明直条4x4发块16","TRFCSTW16"]
["透明直条4x4发块18","TRFCSTW18"]
["透明直条4x4发块20","TRFCSTW20"]
["BODY4X4发块8","FCBW8"]
["BODY4X4发块10","FCBW10"]
["BODY4X4发块12","FCBW12"]
["BODY4X4发块14","FCBW14"]
["BODY4X4发块16","FCBW16"]
["BODY4X4发块18","FCBW18"]
["BODY4X4发块20","FCBW20"]
["中分BODY4X4发块8","MCBW8"]
["中分BODY4X4发块10","MCBW10"]
["中分BODY4X4发块12","MCBW12"]
["中分BODY4X4发块14","MCBW14"]
["中分BODY4X4发块16","MCBW16"]
["中分BODY4X4发块18","MCBW18"]
["中分BODY4X4发块20","MCBW20"]
["BODY5X5发块10","FC5*5BW10"]
["BODY5X5发块12","FC5*5BW12"]
["BODY5X5发块14","FC5*5BW14"]
["BODY5X5发块16","FC5*5BW16"]
["BODY5X5发块18","FC5*5BW18"]
["BODY5X5发块20","FC5*5BW20"]
["BODY5*5中分发块10","MC5*5BW10"]
["BODY5*5中分发块12","MC5*5BW12"]
["BODY5*5中分发块14","MC5*5BW14"]
["BODY5*5中分发块16","MC5*5BW16"]
["BODY5*5中分发块18","MC5*5BW18"]
["BODY5*5中分发块20","MC5*5BW20"]
["BODY6*6自由分发块10","FC6*6BW10"]
["BODY6*6自由分发块12","FC6*6BW12"]
["BODY6*6自由分发块14","FC6*6BW14"]
["BODY6*6自由分发块16","FC6*6BW16"]
["BODY6*6自由分发块18","FC6*6BW18"]
["BODY6*6自由分发块20","FC6*6BW20"]
["中分BODY6*6发块10","MC6*6BW10"]
["中分BODY6*6发块12","MC6*6BW12"]
["中分BODY6*6发块14","MC6*6BW14"]
["中分BODY6*6发块16","MC6*6BW16"]
["中分BODY6*6发块18","MC6*6BW18"]
["中分BODY6*6发块20","MC6*6BW20"]
["BODY蕾丝前头8","FROBW8"]
["BODY蕾丝前头10","FROBW10"]
["BODY蕾丝前头12","FROBW12"]
["BODY蕾丝前头14","FROBW14"]
["BODY蕾丝前头16","FROBW16"]
["BODY蕾丝前头18","FROBW18"]
["BODY蕾丝前头20","FROBW20"]
["BODY13*6大前头10","FRO13*6BW10"]
["BODY13*6大前头12","FRO13*6BW12"]
["BODY13*6大前头14","FRO13*6BW14"]
["BODY13*6大前头16","FRO13*6BW16"]
["BODY13*6大前头18","FRO13*6BW18"]
["BODY13*6大前头20","FRO13*6BW20"]
["BODY单条8","BODY8"]
["BODY单条10","BODY10"]
["BODY单条12","BODY12"]
["BODY单条14","BODY14"]
["BODY单条16","BODY16"]
["BODY单条18","BODY18"]
["BODY单条20","BODY20"]
["BODY单条22","BODY22"]
["BODY单条24","BODY24"]
["BODY单条26","BODY26"]
["BODY单条28","BODY28"]
["BODY单条30","BODY30"]
["BODY2x6发块10","MC2*6BW10"]
["BODY2x6发块12","MC2*6BW12"]
["BODY2x6发块14","MC2*6BW14"]
["BODY2x6发块16","MC2*6BW16"]
["BODY2x6发块18","MC2*6BW18"]
["BODY2x6发块20","MC2*6BW20"]
["BODY4*4三分发块8","TCBW8"]
["BODY4*4三分发块10","TCBW10"]
["BODY4*4三分发块12","TCBW12"]
["BODY4*4三分发块14","TCBW14"]
["BODY4*4三分发块16","TCBW16"]
["BODY4*4三分发块18","TCBW18"]
["BODY4*4三分发块20","TCBW20"]
["透明BODY4X4发块10","TRFCBW10"]
["透明BODY4X4发块12","TRFCBW12"]
["透明BODY4X4发块14","TRFCBW14"]
["透明BODY4X4发块16","TRFCBW16"]
["透明BODY4X4发块18","TRFCBW18"]
["透明BODY4X4发块20","TRFCBW20"]
["透明蕾丝 BODY5*5发块12","TRFC5*5BW12"]
["透明蕾丝 BODY5*5发块14","TRFC5*5BW14"]
["透明蕾丝 BODY5*5发块16","TRFC5*5BW16"]
["透明蕾丝 BODY5*5发块18","TRFC5*5BW18"]
["透明蕾丝 BODY5*5发块20","TRFC5*5BW20"]
["透明BODY蕾丝前头10","TRFROBW10"]
["透明BODY蕾丝前头12","TRFROBW12"]
["透明BODY蕾丝前头14","TRFROBW14"]
["透明BODY蕾丝前头16","TRFROBW16"]
["透明BODY蕾丝前头18","TRFROBW18"]
["透明BODY蕾丝前头20","TRFROBW20"]
["DEEP4*4发块10","FCDEEP10"]
["DEEP4*4发块12","FCDEEP12"]
["DEEP4*4发块14","FCDEEP14"]
["DEEP4*4发块16","FCDEEP16"]
["DEEP4*4发块18","FCDEEP18"]
["DEEP4*4发块20","FCDEEP20"]
["DEEP中分发块10","MCDEEP10"]
["DEEP中分发块12","MCDEEP12"]
["DEEP中分发块14","MCDEEP14"]
["DEEP中分发块16","MCDEEP16"]
["DEEP中分发块18","MCDEEP18"]
["DEEP中分发块20","MCDEEP20"]
["DEEP三分发块10","TCDEEP10"]
["DEEP三分发块12","TCDEEP12"]
["DEEP三分发块14","TCDEEP14"]
["DEEP三分发块16","TCDEEP16"]
["DEEP三分发块18","TCDEEP18"]
["DEEP三分发块20","TCDEEP20"]
["DEEP5x5发块10","FC5*5DEEP10"]
["DEEP5x5发块12","FC5*5DEEP12"]
["DEEP5x5发块14","FC5*5DEEP14"]
["DEEP5x5发块16","FC5*5DEEP16"]
["DEEP5x5发块18","FC5*5DEEP18"]
["DEEP5x5发块20","FC5*5DEEP20"]
["DEEP6*6发块10","FC6*6DEEP10"]
["DEEP6*6发块12","FC6*6DEEP12"]
["DEEP6*6发块14","FC6*6DEEP14"]
["DEEP6*6发块16","FC6*6DEEP16"]
["DEEP6*6发块18","FC6*6DEEP18"]
["DEEP6*6发块20","FC6*6DEEP20"]
["中分DEEP6*6发块10","MC6*6DEEP10"]
["中分DEEP6*6发块12","MC6*6DEEP12"]
["中分DEEP6*6发块14","MC6*6DEEP14"]
["中分DEEP6*6发块16","MC6*6DEEP16"]
["中分DEEP6*6发块18","MC6*6DEEP18"]
["中分DEEP6*6发块20","MC6*6DEEP20"]
["DEEP13*4前头8","FRODEEP8"]
["DEEP13*4前头10","FRODEEP10"]
["DEEP13*4前头12","FRODEEP12"]
["DEEP13*4前头14","FRODEEP14"]
["DEEP13*4前头16","FRODEEP16"]
["DEEP13*4前头18","FRODEEP18"]
["DEEP13*4前头20","FRODEEP20"]
["DEEP单条8","DEEP8"]
["DEEP单条10","DEEP10"]
["DEEP单条12","DEEP12"]
["DEEP单条14","DEEP14"]
["DEEP单条16","DEEP16"]
["DEEP单条18","DEEP18"]
["DEEP单条20","DEEP20"]
["DEEP单条22","DEEP22"]
["DEEP单条24","DEEP24"]
["DEEP单条26","DEEP26"]
["DEEP单条28","DEEP28"]
["DEEP单条30","DEEP30"]
["LOOSEDEEP4*4发块10","FCLSDP10"]
["LOOSEDEEP4*4发块12","FCLSDP12"]
["LOOSEDEEP4*4发块14","FCLSDP14"]
["LOOSEDEEP4*4发块16","FCLSDP16"]
["LOOSEDEEP4*4发块18","FCLSDP18"]
["LOOSEDEEP4*4发块20","FCLSDP20"]
["LOOSEDEEP中分发块10","MCLSDP10"]
["LOOSEDEEP中分发块12","MCLSDP12"]
["LOOSEDEEP中分发块14","MCLSDP14"]
["LOOSEDEEP中分发块16","MCLSDP16"]
["LOOSEDEEP中分发块18","MCLSDP18"]
["LOOSEDEEP中分发块20","MCLSDP20"]
["LOOSEDEEP5x5发块10","FC5*5LSDP10"]
["LOOSEDEEP5x5发块12","FC5*5LSDP12"]
["LOOSEDEEP5x5发块14","FC5*5LSDP14"]
["LOOSEDEEP5x5发块16","FC5*5LSDP16"]
["LOOSEDEEP5x5发块18","FC5*5LSDP18"]
["LOOSEDEEP5x5发块20","FC5*5LSDP20"]
["LooseDeep6*6自由分发块12","FC6*6LSDP12"]
["LOOSEDEEP6*6发块14","FC6*6LSDP14"]
["LOOSEDEEP6*6发块16","FC6*6LSDP16"]
["LOOSEDEEP6*6发块18","FC6*6LSDP18"]
["LOOSEDEEP6*6发块20","FC6*6LSDP20"]
["LOOSEDEEP13*4前头10","FROLSDP10"]
["LOOSEDEEP13*4前头12","FROLSDP12"]
["LOOSEDEEP13*4前头14","FROLSDP14"]
["LOOSEDEEP13*4前头16","FROLSDP16"]
["LOOSEDEEP13*4前头18","FROLSDP18"]
["LOOSEDEEP13*4前头20","FROLSDP20"]
["LOOSEDEEP单条8","LOOSEDEEP8"]
["LOOSEDEEP单条10","LOOSEDEEP10"]
["LOOSEDEEP单条12","LOOSEDEEP12"]
["LOOSEDEEP单条14","LOOSEDEEP14"]
["LOOSEDEEP单条16","LOOSEDEEP16"]
["LOOSEDEEP单条18","LOOSEDEEP18"]
["LOOSEDEEP单条20","LOOSEDEEP20"]
["LOOSEDEEP单条22","LOOSEDEEP22"]
["LOOSEDEEP单条24","LOOSEDEEP24"]
["LOOSEDEEP单条26","LOOSEDEEP26"]
["LOOSEDEEP单条28","LOOSEDEEP28"]
["LOOSEDEEP单条30","LOOSEDEEP30"]
["YAKI单条10","YAKI10"]
["YAKI单条12","YAKI12"]
["YAKI单条14","YAKI14"]
["YAKI单条16","YAKI16"]
["YAKI单条18","YAKI18"]
["YAKI单条20","YAKI20"]
["YAKI单条22","YAKI22"]
["YAKI单条24","YAKI24"]
["YAKI单条26","YAKI26"]
["YAKI单条28","YAKI28"]
["YAKI单条30","YAKI30"]
["YAKI4*4发块10","FCYAKI10"]
["YAKI4*4发块12","FCYAKI12"]
["YAKI4*4发块14","FCYAKI14"]
["YAKI4*4发块16","FCYAKI16"]
["YAKI4*4发块18","FCYAKI18"]
["YAKI4*4发块20","FCYAKI20"]
["YAKI13*4前头10","FROYAKI10"]
["YAKI13*4前头12","FROYAKI12"]
["YAKI13*4前头14","FROYAKI14"]
["YAKI13*4前头16","FROYAKI16"]
["YAKI13*4前头18","FROYAKI18"]
["YAKI13*4前头20","FROYAKI20"]
["自然曲单条8","WATER8"]
["自然曲单条10","WATER10"]
["自然曲单条12","WATER12"]
["自然曲单条14","WATER14"]
["自然曲单条16","WATER16"]
["自然曲单条18","WATER18"]
["自然曲单条20","WATER20"]
["自然曲单条22","WATER22"]
["自然曲单条24","WATER24"]
["自然曲单条26","WATER26"]
["自然曲单条28","WATER28"]
["自然曲4*4发块8","FCWATER8"]
["自然曲4*4发块10","FCWATER10"]
["自然曲4*4发块12","FCWATER12"]
["自然曲4*4发块14","FCWATER14"]
["自然曲4*4发块16","FCWATER16"]
["自然曲4*4发块18","FCWATER18"]
["自然曲4*4发块20","FCWATER20"]
["中分自然曲4*4发块10","MCWATER10"]
["中分自然曲4*4发块12","MCWATER12"]
["中分自然曲4*4发块14","MCWATER14"]
["中分自然曲4*4发块16","MCWATER16"]
["中分自然曲4*4发块18","MCWATER18"]
["中分自然曲4*4发块20","MCWATER20"]
["自然曲4*4三分发块10","TCWATER10"]
["自然曲4*4三分发块12","TCWATER12"]
["自然曲4*4三分发块14","TCWATER14"]
["自然曲4*4三分发块16","TCWATER16"]
["自然曲4*4三分发块18","TCWATER18"]
["自然曲4*4三分发块20","TCWATER20"]
["自然曲6*6发块10","FC6*6WATER10"]
["自然曲6*6发块12","FC6*6WATER12"]
["自然曲6*6发块14","FC6*6WATER14"]
["自然曲6*6发块16","FC6*6WATER16"]
["自然曲6*6发块18","FC6*6WATER18"]
["自然曲6*6发块20","FC6*6WATER20"]
["自然曲13*4前头8","FROWATER8"]
["自然曲13*4前头10","FROWATER10"]
["自然曲13*4前头12","FROWATER12"]
["自然曲13*4前头14","FROWATER14"]
["自然曲13*4前头16","FROWATER16"]
["自然曲13*4前头18","FROWATER18"]
["自然曲13*4前头20","FROWATER20"]
["透明蕾丝 自然曲蕾丝前头12","TRFROWATER12"]
["透明蕾丝 自然曲 蕾丝前头14","TRFROWATER14"]
["透明蕾丝 自然曲 蕾丝前头16","TRFROWATER16"]
["透明蕾丝 自然曲 蕾丝前头18","TRFROWATER18"]
["透明蕾丝 自然曲 蕾丝前头20","TRFROWATER20"]
["老loose发条10","LOOSE10"]
["老loose发条12","LOOSE12"]
["老loose发条14","LOOSE14"]
["老loose发条16","LOOSE16"]
["老loose发条18","LOOSE18"]
["老loose发条20","LOOSE20"]
["老loose发条22","LOOSE22"]
["老loose发条24","LOOSE24"]
["老loose发条26","LOOSE26"]
["老loose发条28","LOOSE28"]
["老loose自由分发块10","FCLW10"]
["老loose自由分发块12","FCLW12"]
["老loose自由分发块14","FCLW14"]
["老loose自由分发块16","FCLW16"]
["老loose自由分发块18","FCLW18"]
["老loose自由分发块20","FCLW20"]
["老loose中分发块10","MCLW10"]
["老loose中分发块12","MCLW12"]
["老loose中分发块14","MCLW14"]
["老loose中分发块16","MCLW16"]
["老loose中分发块18","MCLW18"]
["老loose中分发块20","MCLW20"]
["老loose蕾丝前头10","FROLW10"]
["老loose蕾丝前头12","FROLW12"]
["老loose蕾丝前头14","FROLW14"]
["老loose蕾丝前头16","FROLW16"]
["老loose蕾丝前头18","FROLW18"]
["老loose蕾丝前头20","FROLW20"]
["kinkycurly单条10","KCURLY10"]
["kinkycurly单条12","KCURLY12"]
["kinkycurly单条14","KCURLY14"]
["kinkycurly单条16","KCURLY16"]
["kinkycurly单条18","KCURLY18"]
["kinkycurly单条20","KCURLY20"]
["kinkycurly单条22","KCURLY22"]
["kinkycurly单条24","KCURLY24"]
["kinkycurly单条26","KCURLY26"]
["kinkycurly单条28","KCURLY28"]
["kinkycurly单条30","KCURLY30"]
["kinkycurly4*4发块10","FCKC10"]
["kinkycurly4*4发块12","FCKC12"]
["kinkycurly4*4发块14","FCKC14"]
["kinkycurly4*4发块16","FCKC16"]
["kinkycurly4*4发块18","FCKC18"]
["kinkycurly4*4发块20","FCKC20"]
["kinkycurly13*4前头10","FROKC10"]
["kinkycurly13*4前头12","FROKC12"]
["kinkycurly13*4前头14","FROKC14"]
["kinkycurly13*4前头16","FROKC16"]
["kinkycurly13*4前头18","FROKC18"]
["kinkycurly13*4前头20","FROKC20"]
["99JBODY前头10","FRO99JBW10"]
["99JBODY前头12","FRO99JBW12"]
["99JBODY前头14","FRO99JBW14"]
["99JBODY前头16","FRO99JBW16"]
["99JBODY前头18","FRO99JBW18"]
["99JBODY前头20","FRO99JBW20"]
["99JBODY发块10","LC99JBW10"]
["99JBODY发块12","LC99JBW12"]
["99JBODY发块14","LC99JBW14"]
["99JBODY发块16","LC99JBW16"]
["99JBODY发块18","LC99JBW18"]
["99JBODY发块20","LC99JBW20"]
["99JBODY发条10","99JBODY10"]
["99JBODY发条12","99JBODY12"]
["99JBODY发条14","99JBODY14"]
["99JBODY发条16","99JBODY16"]
["99JBODY发条18","99JBODY18"]
["99JBODY发条20","99JBODY20"]
["99JBODY发条22","99JBODY22"]
["99JBODY发条24","99JBODY24"]
["99J直条10","99JSTW10"]
["99J直条12","99JSTW12"]
["99J直条14","99JSTW14"]
["99J直条16","99JSTW16"]
["99J直条18","99JSTW18"]
["99J直条20","99JSTW20"]
["99J直条22","99JSTW22"]
["99J直条24","99JSTW24"]
["99J直条4*4发块10","LC99JSTW10"]
["99J直条4*4发块12","LC99JSTW12"]
["99J直条4*4发块14","LC99JSTW14"]
["99J直条4*4发块16","LC99JSTW16"]
["99J直条4*4发块18","LC99JSTW18"]
["99J直条4*4发块20","LC99JSTW20"]
["#27直条发条12","#27STW12"]
["#27直条发条14","#27STW14"]
["#27直条发条16","#27STW16"]
["#27直条发条18","#27STW18"]
["#27直条发条20","#27STW20"]
["#27直条发条22","#27STW22"]
["#27直条发条24","#27STW24"]
["#27直条发块12","LC#27STW12"]
["#27直条发块14","LC#27STW14"]
["#27直条发块16","LC#27STW16"]
["#27直条发块18","LC#27STW18"]
["#27直条发块20","LC#27STW20"]
["4#直发发条12","4#STW12"]
["4#直发发条14","4#STW14"]
["4#直发发条16","4#STW16"]
["4#直发发条18","4#STW18"]
["4#直发发条20","4#STW20"]
["4#BODY发条12","4#BODY12"]
["4#BODY发条14","4#BODY14"]
["4#BODY发条16","4#BODY16"]
["4#BODY发条18","4#BODY18"]
["4#BODY发条20","4#BODY20"]
["AliPearl直发单条8","APSTW8"]
["AliPearl直发单条10","APSTW10"]
["AliPearl直发单条12","APSTW12"]
["AliPearl直发单条14","APSTW14"]
["AliPearl直发单条16","APSTW16"]
["AliPearl直发单条18","APSTW18"]
["AliPearl直发单条20","APSTW20"]
["AliPearl直发单条22","APSTW22"]
["AliPearl直发单条24","APSTW24"]
["AliPearl直发单条26","APSTW26"]
["AliPearl直发单条28","APSTW28"]
["AliPearl直发单条30","APSTW30"]
["AliPearlbody单条8","APBODY8"]
["AliPearlbody单条10","APBODY10"]
["AliPearlbody单条12","APBODY12"]
["AliPearlbody单条14","APBODY14"]
["AliPearlbody单条16","APBODY16"]
["AliPearlbody单条18","APBODY18"]
["AliPearlbody单条20","APBODY20"]
["AliPearlbody单条22","APBODY22"]
["AliPearlbody单条24","APBODY24"]
["AliPearlbody单条26","APBODY26"]
["AliPearlbody单条28","APBODY28"]
["AliPearlbody单条30","APBODY30"]
["AliPearldeep8","APDEEP8"]
["AliPearldeep10","APDEEP10"]
["AliPearldeep12","APDEEP12"]
["AliPearldeep14","APDEEP14"]
["AliPearldeep16","APDEEP16"]
["AliPearldeep18","APDEEP18"]
["AliPearldeep20","APDEEP20"]
["AliPearldeep22","APDEEP22"]
["AliPearldeep24","APDEEP24"]
["AliPearldeep26","APDEEP26"]
["AliPearldeep28","APDEEP28"]
["AliPearlloosedeep10","APLOOSEDEEP10"]
["AliPearlloosedeep12","APLOOSEDEEP12"]
["AliPearlloosedeep14","APLOOSEDEEP14"]
["AliPearlloosedeep16","APLOOSEDEEP16"]
["AliPearlloosedeep18","APLOOSEDEEP18"]
["AliPearlloosedeep20","APLOOSEDEEP20"]
["AliPearlloosedeep22","APLOOSEDEEP22"]
["AliPearlloosedeep24","APLOOSEDEEP24"]
["AliPearlloosedeep26","APLOOSEDEEP26"]
["AliPearlloosedeep28","APLOOSEDEEP28"]
["AliPearl自然曲8","APWATER8"]
["AliPearl自然曲10","APWATER10"]
["AliPearl自然曲12","APWATER12"]
["AliPearl自然曲14","APWATER14"]
["AliPearl自然曲16","APWATER16"]
["AliPearl自然曲18","APWATER18"]
["AliPearl自然曲20","APWATER20"]
["AliPearl自然曲22","APWATER22"]
["AliPearl自然曲24","APWATER24"]
["AliPearl自然曲26","APWATER26"]
["AliPearl自然曲28","APWATER28"]
["Westkiss直发单条8","WKSTW8"]
["Westkiss直发单条10","WKSTW10"]
["Westkiss直发单条12","WKSTW12"]
["Westkiss直发单条14","WKSTW14"]
["Westkiss直发单条16","WKSTW16"]
["Westkiss直发单条18","WKSTW18"]
["Westkiss直发单条20","WKSTW20"]
["Westkiss直发单条22","WKSTW22"]
["Westkiss直发单条24","WKSTW24"]
["Westkiss直发单条26","WKSTW26"]
["Westkissbody单条8","WKBODY8"]
["Westkissbody单条10","WKBODY10"]
["Westkissbody单条12","WKBODY12"]
["Westkissbody单条14","WKBODY14"]
["Westkissbody单条16","WKBODY16"]
["Westkissbody单条18","WKBODY18"]
["Westkissbody单条20","WKBODY20"]
["Westkissbody单条22","WKBODY22"]
["Westkissbody单条24","WKBODY24"]
["Westkissbody单条26","WKBODY26"]
["Westkissdeep单条8","WKDEEP8"]
["Westkissdeep单条10","WKDEEP10"]
["Westkissdeep单条12","WKDEEP12"]
["Westkissdeep单条14","WKDEEP14"]
["Westkissdeep单条16","WKDEEP16"]
["Westkissdeep单条18","WKDEEP18"]
["Westkissdeep单条20","WKDEEP20"]
["Westkissdeep单条22","WKDEEP22"]
["Westkissdeep单条24","WKDEEP24"]
["Westkissdeep单条26","WKDEEP26"]
["Westkissdeep单条28","WKDEEP28"]
["Wiggins直发单条8","GGSTW8"]
["Wiggins直发单条10","GGSTW10"]
["Wiggins直发单条12","GGSTW12"]
["Wiggins直发单条14","GGSTW14"]
["Wiggins直发单条16","GGSTW16"]
["Wiggins直发单条18","GGSTW18"]
["Wiggins直发单条20","GGSTW20"]
["Wiggins直发单条22","GGSTW22"]
["Wiggins直发单条24","GGSTW24"]
["Wiggins直发单条26","GGSTW26"]
["Wigginsbody单条8","GGBODY8"]
["Wigginsbody单条10","GGBODY10"]
["Wigginsbody单条12","GGBODY12"]
["Wigginsbody单条14","GGBODY14"]
["Wigginsbody单条16","GGBODY16"]
["Wigginsbody单条18","GGBODY18"]
["Wigginsbody单条20","GGBODY20"]
["Wigginsbody单条22","GGBODY22"]
["Wigginsbody单条24","GGBODY24"]
["Wigginsbody单条26","GGBODY26"]
["Wigginsloosedeep单条10","GGLOOSEDEEP10"]
["Wigginsloosedeep单条12","GGLOOSEDEEP12"]
["Wigginsloosedeep单条14","GGLOOSEDEEP14"]
["Wigginsloosedeep单条16","GGLOOSEDEEP16"]
["Wigginsloosedeep单条18","GGLOOSEDEEP18"]
["Wigginsloosedeep单条20","GGLOOSEDEEP20"]
["Wigginsloosedeep单条22","GGLOOSEDEEP22"]
["Wigginsloosedeep单条24","GGLOOSEDEEP24"]
["Wigginsloosedeep单条26","GGLOOSEDEEP26"]
["Wigginsloosedeep单条28","GGLOOSEDEEP28"]
["Wiggins自然曲单条10","GGWATER10"]
["Wiggins自然曲单条12","GGWATER12"]
["Wiggins自然曲单条14","GGWATER14"]
["Wiggins自然曲单条16","GGWATER16"]
["Wiggins自然曲单条18","GGWATER18"]
["Wiggins自然曲单条20","GGWATER20"]
["Wiggins自然曲单条22","GGWATER22"]
["Wiggins自然曲单条24","GGWATER24"]
["Wiggins自然曲单条26","GGWATER26"]
["Wiggins自然曲单条28","GGWATER28"]